PDS_VERSION_ID = PDS3
/* FILE DATA ELEMENTS */
RECORD_TYPE = STREAM
/* POINTERS TO DATA OBJECTS */
^COMPRESSED_FILE = "HI842_0000_IR3.JP2"
/* IDENTIFICATION DATA ELEMENTS */
DATA_SET_ID = "MEX-M-HRSC-5-REFDR-MAPPROJECTED-V3.0"
DATA_SET_NAME = "MARS EXPRESS HRSC MAP PROJECTED REFDR V3.0"
DETECTOR_ID = MEX_HRSC_IR
EVENT_TYPE = "MARS-REGIONAL-MAPPING-Im-Fl"
INSTRUMENT_HOST_ID = MEX
INSTRUMENT_HOST_NAME = "MARS EXPRESS"
INSTRUMENT_ID = HRSC
INSTRUMENT_NAME = "HIGH RESOLUTION STEREO CAMERA"
MISSION_NAME = "MARS EXPRESS"
MISSION_PHASE_NAME = ME_Phase_39
PROCESSING_LEVEL_ID = 3
PRODUCT_CREATION_TIME = 2019-02-22T11:38:04.000Z
PRODUCT_ID = "HI842_0000_IR3.JP2"
RELEASE_ID = 0143
REVISION_ID = 0000
/* QUALITY DATA ELEMENTS */
DATA_QUALITY_ID = 1
DATA_QUALITY_DESC = "Data calculated based on original SPICE kernels"
/* TIME DATA ELEMENTS */
SPACECRAFT_CLOCK_START_COUNT = "1/0491023205.24931"
SPACECRAFT_CLOCK_STOP_COUNT = "1/0491023400.49566"
START_TIME = 2018-11-23T03:21:26.758Z
STOP_TIME = 2018-11-23T03:23:45.720Z
/* ORBITAL DATA ELEMENTS */
ASCENDING_NODE_LONGITUDE = 220.69
MAXIMUM_RESOLUTION = 54.8
FOOTPRINT_POINT_LATITUDE = (-24.2218,-24.2042,-24.194,-24.1836, -24.1731,-24.1611,-23.9739,-23.7869, -23.5935,-23.3055,-23.0142,-22.8217, -22.6297,-22.437,-22.2447,-21.9563, -21.7664,-21.4771,-21.2829,-21.0908, -20.8985,-20.7062,-20.4181,-20.2256, -20.0334,-19.8413,-19.6494,-19.4573, -19.1693,-18.9776,-18.7856,-18.4978, -18.306,-18.0184,-17.8266,-17.6349, -17.4432,-17.2516,-17.06,-16.8684, -16.677,-16.4855,-16.1982,-16.0069, -15.7918,-15.5634,-15.3349,-15.1066, -14.7644,-14.4217,-14.2801,-14.3002, -14.3185,-14.3294,-14.339,-14.4591, -14.6873,-15.0296,-15.372,-15.6002, -15.8284,-16.0486,-16.24,-16.527, -16.7183,-17.0058,-17.1974,-17.4843, -17.6759,-17.8676,-18.0593,-18.2511, -18.4429,-18.6347,-18.9233,-19.2105, -19.4021,-19.5941,-19.7858,-19.9798, -20.1718,-20.3623,-20.5544,-20.7468, -20.939,-21.1315,-21.3237,-21.5155, -21.7078,-21.9963,-22.1891,-22.3816, -22.5743,-22.7668,-23.0568,-23.2502, -23.4433,-23.637,-23.9247,-24.2218)
FOOTPRINT_POINT_LONGITUDE = (23.7805,23.4546,23.2684,23.0824, 22.8966,22.6358,22.638,22.64,22.6422, 22.6441,22.648,22.6495,22.6506,22.6521, 22.6533,22.655,22.6543,22.6565,22.6589, 22.6597,22.6607,22.6616,22.6626,22.6637 ,22.6645,22.6651,22.6656,22.6661, 22.6668,22.667,22.6674,22.6677,22.6679, 22.668,22.6681,22.668,22.6681,22.6678, 22.6677,22.6676,22.667,22.6666,22.666, 22.6653,22.6645,22.6636,22.663,22.662, 22.6595,22.6587,22.7629,23.1165,23.4469 ,23.6477,23.8251,23.9224,23.9215, 23.9198,23.9182,23.9171,23.9159,23.9147 ,23.9141,23.9127,23.9118,23.911,23.9104 ,23.9089,23.9082,23.9076,23.907,23.9064 ,23.9058,23.9052,23.9051,23.9034, 23.9025,23.9019,23.9011,23.9021,23.9013 ,23.8994,23.8987,23.8983,23.8976, 23.8972,23.8964,23.8954,23.8947,23.8937 ,23.8932,23.8926,23.892,23.8913,23.8909 ,23.8906,23.8902,23.89,23.8893,23.7805)
ORBIT_NUMBER = 18842
ORBITAL_ECCENTRICITY = 0.578
ORBITAL_INCLINATION = 86.95
ORBITAL_SEMIMAJOR_AXIS = 8830.14
PERIAPSIS_ALTITUDE = 333.67
PERIAPSIS_ARGUMENT_ANGLE = 332.37
PERIAPSIS_TIME = 2018-11-23T03:20:18.000Z
SPACECRAFT_ORIENTATION = (0.0,1.0,0.0)
^MEX_ORIENTATION_DESC = "MEX_ORIENTATION_DESC.TXT"
SPACECRAFT_POINTING_MODE = INERT
^MEX_POINTING_DESC = "MEX_POINTING_DESC.TXT"
RIGHT_ASCENSION = 61.348
DECLINATION = 44.919
OFFSET_ANGLE = -1e+32
SPACECRAFT_SOLAR_DISTANCE = 2.11349e+08
TARGET_NAME = MARS
/* CAMERA DATA ELEMENTS */
DETECTOR_TEMPERATURE = 18.1666
FOCAL_PLANE_TEMPERATURE = 10.8262
INST_CMPRS_NAME = "DISCRETE COSINE TRANSFORMATION (DCT)"
INST_CMPRS_RATIO = 8.42602
INST_CMPRS_QUALITY = 0
INST_CMPRS_QUANTZ_TBL_ID = 0
INSTRUMENT_TEMPERATURE = 12.2535
LENS_TEMPERATURE = 11.8457
MACROPIXEL_SIZE = 4
MISSING_FRAMES = 0
PIXEL_SUBSAMPLING_FLAG = N
SIGNAL_CHAIN_ID = 2
/* RADIOMETRIC DATA ELEMENTS */
BANDWIDTH = 81.0
CENTER_FILTER_WAVELENGTH = 955.5
RADIANCE_OFFSET = 0.648482
RADIANCE_SCALING_FACTOR = 0.00425474
REFLECTANCE_SCALING_FACTOR = 0.000410019
MEX:REFLECTANCE_OFFSET = 0.0624926
/* IMAGE OBJECT DEFINITIONS */
OBJECT = IMAGE
  INTERCHANGE_FORMAT = BINARY
  LINES = 11811
  LINE_SAMPLES = 1603
  SAMPLE_TYPE = UNSIGNED_INTEGER
  SAMPLE_BITS = 8
  BANDS = 1
  BAND_STORAGE_TYPE = BAND_SEQUENTIAL
  MAXIMUM = 255
  MEAN = 103.047
  MINIMUM = 1
  STANDARD_DEVIATION = 15.2221
END_OBJECT = IMAGE
/* MAP OBJECT DEFINITIONS */
OBJECT = IMAGE_MAP_PROJECTION
  ^DATA_SET_MAP_PROJECTION_CATALOG= "DSMAP.CAT"
  A_AXIS_RADIUS = 3396.0
  B_AXIS_RADIUS = 3396.0
  C_AXIS_RADIUS = 3396.0
  CENTER_LATITUDE = 0.0
  CENTER_LONGITUDE = 23.0
  COORDINATE_SYSTEM_NAME = PLANETOGRAPHIC
  COORDINATE_SYSTEM_TYPE = "BODY-FIXED ROTATING"
  EASTERNMOST_LONGITUDE = 23.9224
  FIRST_STANDARD_PARALLEL = "N/A"
  LINE_FIRST_PIXEL = 1
  LINE_LAST_PIXEL = 11811
  LINE_PROJECTION_OFFSET = -16938.625
  MAP_PROJECTION_ROTATION = 0.0
  MAP_PROJECTION_TYPE = SINUSOIDAL
  MAP_RESOLUTION = 1185.42760773333
  MAP_SCALE = 0.05
  MAXIMUM_LATITUDE = -14.2801
  MINIMUM_LATITUDE = -24.2218
  POSITIVE_LONGITUDE_DIRECTION = EAST
  REFERENCE_LATITUDE = "N/A"
  REFERENCE_LONGITUDE = "N/A"
  SAMPLE_FIRST_PIXEL = 1
  SAMPLE_LAST_PIXEL = 1603
  SAMPLE_PROJECTION_OFFSET = 347.375
  SECOND_STANDARD_PARALLEL = "N/A"
  WESTERNMOST_LONGITUDE = 22.6358
END_OBJECT = IMAGE_MAP_PROJECTION
/* The JPEG2000 image data file associated with this label. */
OBJECT = COMPRESSED_FILE
  FILE_NAME = "HI842_0000_IR3.JP2"
  RECORD_TYPE = UNDEFINED
  FILE_RECORDS = UNK
  ENCODING_TYPE = "JP2"
  INTERCHANGE_FORMAT = BINARY
  UNCOMPRESSED_FILE_NAME = "HI842_0000_IR3.IMG"
  REQUIRED_STORAGE_BYTES = "18952269"
  ^DESCRIPTION = "JP2INFO.TXT"
END_OBJECT = COMPRESSED_FILE
END
