PDS_VERSION_ID = PDS3
/* FILE DATA ELEMENTS */
RECORD_TYPE = STREAM
/* POINTERS TO DATA OBJECTS */
^COMPRESSED_FILE = "HI842_0000_P13.JP2"
/* IDENTIFICATION DATA ELEMENTS */
DATA_SET_ID = "MEX-M-HRSC-5-REFDR-MAPPROJECTED-V3.0"
DATA_SET_NAME = "MARS EXPRESS HRSC MAP PROJECTED REFDR V3.0"
DETECTOR_ID = MEX_HRSC_P1
EVENT_TYPE = "MARS-REGIONAL-MAPPING-Im-Fl"
INSTRUMENT_HOST_ID = MEX
INSTRUMENT_HOST_NAME = "MARS EXPRESS"
INSTRUMENT_ID = HRSC
INSTRUMENT_NAME = "HIGH RESOLUTION STEREO CAMERA"
MISSION_NAME = "MARS EXPRESS"
MISSION_PHASE_NAME = ME_Phase_39
PROCESSING_LEVEL_ID = 3
PRODUCT_CREATION_TIME = 2019-02-22T11:38:04.000Z
PRODUCT_ID = "HI842_0000_P13.JP2"
RELEASE_ID = 0143
REVISION_ID = 0000
/* QUALITY DATA ELEMENTS */
DATA_QUALITY_ID = 1
DATA_QUALITY_DESC = "Data calculated based on original SPICE kernels"
/* TIME DATA ELEMENTS */
SPACECRAFT_CLOCK_START_COUNT = "1/0491023205.24931"
SPACECRAFT_CLOCK_STOP_COUNT = "1/0491023400.49566"
START_TIME = 2018-11-23T03:21:22.307Z
STOP_TIME = 2018-11-23T03:23:40.806Z
/* ORBITAL DATA ELEMENTS */
ASCENDING_NODE_LONGITUDE = 220.69
MAXIMUM_RESOLUTION = 27.1
FOOTPRINT_POINT_LATITUDE = (-24.2166,-24.2011,-24.1892,-24.1771, -24.0649,-23.8769,-23.6893,-23.5012, -23.3086,-23.1145,-22.8236,-22.6303, -22.4365,-22.243,-21.9527,-21.7604, -21.4699,-21.2752,-21.0818,-20.8883, -20.6948,-20.4049,-20.211,-20.0176, -19.8242,-19.6309,-19.4376,-19.1476, -18.9544,-18.7611,-18.4712,-18.2779, -17.9882,-17.795,-17.6018,-17.4087, -17.2156,-17.0224,-16.7328,-16.5397, -16.3467,-16.1536,-15.864,-15.671, -15.4536,-15.2232,-14.9928,-14.7622, -14.532,-14.3015,-14.298,-14.3213, -14.3348,-14.3459,-14.4682,-14.6985, -15.0439,-15.2742,-15.5045,-15.7247, -15.9177,-16.1106,-16.3036,-16.4965, -16.6895,-16.8825,-17.0755,-17.2685, -17.4616,-17.7513,-18.041,-18.2341, -18.4273,-18.6206,-18.9104,-19.2003, -19.4901,-19.6832,-19.8773,-20.1676, -20.3599,-20.5534,-20.7471,-20.9405, -21.1342,-21.3276,-21.5208,-21.7143, -21.9078,-22.1016,-22.3921,-22.5859, -22.7796,-22.9736,-23.1678,-23.4593, -23.6499,-23.838,-24.0259,-24.2166)
FOOTPRINT_POINT_LONGITUDE = (23.7359,23.4441,23.2254,23.007,22.6501 ,22.6522,22.6539,22.6561,22.6577, 22.6596,22.6622,22.6632,22.6647,22.6659 ,22.6675,22.6672,22.6689,22.6713, 22.6721,22.673,22.6739,22.6745,22.6759, 22.6766,22.6772,22.6776,22.678,22.6787, 22.6788,22.6791,22.6794,22.6796,22.6796 ,22.6797,22.6796,22.6796,22.6793, 22.6791,22.6785,22.6781,22.6777,22.6772 ,22.676,22.6753,22.6744,22.6736,22.6726 ,22.6706,22.6703,22.6688,22.9407, 23.3618,23.6097,23.8205,23.9484,23.9474 ,23.9455,23.9442,23.9429,23.9417, 23.9405,23.9395,23.9387,23.9376,23.9364 ,23.9356,23.9346,23.9338,23.9331, 23.9321,23.931,23.9302,23.9295,23.9289, 23.9279,23.9267,23.9254,23.9244,23.9248 ,23.9241,23.9218,23.9212,23.9208, 23.9199,23.9194,23.9186,23.9176,23.9168 ,23.9159,23.9153,23.9143,23.9136, 23.9129,23.9123,23.912,23.9114,23.9111, 23.9107,23.9101,23.7359)
ORBIT_NUMBER = 18842
ORBITAL_ECCENTRICITY = 0.578
ORBITAL_INCLINATION = 86.95
ORBITAL_SEMIMAJOR_AXIS = 8830.14
PERIAPSIS_ALTITUDE = 333.67
PERIAPSIS_ARGUMENT_ANGLE = 332.37
PERIAPSIS_TIME = 2018-11-23T03:20:18.000Z
SPACECRAFT_ORIENTATION = (0.0,1.0,0.0)
^MEX_ORIENTATION_DESC = "MEX_ORIENTATION_DESC.TXT"
SPACECRAFT_POINTING_MODE = INERT
^MEX_POINTING_DESC = "MEX_POINTING_DESC.TXT"
RIGHT_ASCENSION = 61.348
DECLINATION = 44.919
OFFSET_ANGLE = -1e+32
SPACECRAFT_SOLAR_DISTANCE = 2.11349e+08
TARGET_NAME = MARS
/* CAMERA DATA ELEMENTS */
DETECTOR_TEMPERATURE = 18.1666
FOCAL_PLANE_TEMPERATURE = 10.8262
INST_CMPRS_NAME = "DISCRETE COSINE TRANSFORMATION (DCT)"
INST_CMPRS_RATIO = 7.95971
INST_CMPRS_QUALITY = 0
INST_CMPRS_QUANTZ_TBL_ID = 0
INSTRUMENT_TEMPERATURE = 12.2535
LENS_TEMPERATURE = 11.8457
MACROPIXEL_SIZE = 2
MISSING_FRAMES = 0
PIXEL_SUBSAMPLING_FLAG = N
SIGNAL_CHAIN_ID = 3
/* RADIOMETRIC DATA ELEMENTS */
BANDWIDTH = 174.0
CENTER_FILTER_WAVELENGTH = 675.0
RADIANCE_OFFSET = 3.14229
RADIANCE_SCALING_FACTOR = 0.0158435
REFLECTANCE_SCALING_FACTOR = 0.00038066
MEX:REFLECTANCE_OFFSET = 0.0754975
/* IMAGE OBJECT DEFINITIONS */
OBJECT = IMAGE
  INTERCHANGE_FORMAT = BINARY
  LINES = 23622
  LINE_SAMPLES = 3205
  SAMPLE_TYPE = UNSIGNED_INTEGER
  SAMPLE_BITS = 8
  BANDS = 1
  BAND_STORAGE_TYPE = BAND_SEQUENTIAL
  MAXIMUM = 255
  MEAN = 110.906
  MINIMUM = 1
  STANDARD_DEVIATION = 14.5201
END_OBJECT = IMAGE
/* MAP OBJECT DEFINITIONS */
OBJECT = IMAGE_MAP_PROJECTION
  ^DATA_SET_MAP_PROJECTION_CATALOG= "DSMAP.CAT"
  A_AXIS_RADIUS = 3396.0
  B_AXIS_RADIUS = 3396.0
  C_AXIS_RADIUS = 3396.0
  CENTER_LATITUDE = 0.0
  CENTER_LONGITUDE = 23.0
  COORDINATE_SYSTEM_NAME = PLANETOGRAPHIC
  COORDINATE_SYSTEM_TYPE = "BODY-FIXED ROTATING"
  EASTERNMOST_LONGITUDE = 23.9484
  FIRST_STANDARD_PARALLEL = "N/A"
  LINE_FIRST_PIXEL = 1
  LINE_LAST_PIXEL = 23622
  LINE_PROJECTION_OFFSET = -33876.75
  MAP_PROJECTION_ROTATION = 0.0
  MAP_PROJECTION_TYPE = SINUSOIDAL
  MAP_RESOLUTION = 2370.85521546667
  MAP_SCALE = 0.025
  MAXIMUM_LATITUDE = -14.298
  MINIMUM_LATITUDE = -24.2166
  POSITIVE_LONGITUDE_DIRECTION = EAST
  REFERENCE_LATITUDE = "N/A"
  REFERENCE_LONGITUDE = "N/A"
  SAMPLE_FIRST_PIXEL = 1
  SAMPLE_LAST_PIXEL = 3205
  SAMPLE_PROJECTION_OFFSET = 695.25
  SECOND_STANDARD_PARALLEL = "N/A"
  WESTERNMOST_LONGITUDE = 22.6501
END_OBJECT = IMAGE_MAP_PROJECTION
/* The JPEG2000 image data file associated with this label. */
OBJECT = COMPRESSED_FILE
  FILE_NAME = "HI842_0000_P13.JP2"
  RECORD_TYPE = UNDEFINED
  FILE_RECORDS = UNK
  ENCODING_TYPE = "JP2"
  INTERCHANGE_FORMAT = BINARY
  UNCOMPRESSED_FILE_NAME = "HI842_0000_P13.IMG"
  REQUIRED_STORAGE_BYTES = "75730945"
  ^DESCRIPTION = "JP2INFO.TXT"
END_OBJECT = COMPRESSED_FILE
END
