PDS_VERSION_ID = PDS3
/* FILE DATA ELEMENTS */
RECORD_TYPE = STREAM
/* POINTERS TO DATA OBJECTS */
^COMPRESSED_FILE = "HI843_0000_S13.JP2"
/* IDENTIFICATION DATA ELEMENTS */
DATA_SET_ID = "MEX-M-HRSC-5-REFDR-MAPPROJECTED-V3.0"
DATA_SET_NAME = "MARS EXPRESS HRSC MAP PROJECTED REFDR V3.0"
DETECTOR_ID = MEX_HRSC_S1
EVENT_TYPE = "MARS-REGIONAL-STEREO-Vo-Te-Im"
INSTRUMENT_HOST_ID = MEX
INSTRUMENT_HOST_NAME = "MARS EXPRESS"
INSTRUMENT_ID = HRSC
INSTRUMENT_NAME = "HIGH RESOLUTION STEREO CAMERA"
MISSION_NAME = "MARS EXPRESS"
MISSION_PHASE_NAME = ME_Phase_39
PROCESSING_LEVEL_ID = 3
PRODUCT_CREATION_TIME = 2019-02-22T11:38:04.000Z
PRODUCT_ID = "HI843_0000_S13.JP2"
RELEASE_ID = 0143
REVISION_ID = 0000
/* QUALITY DATA ELEMENTS */
DATA_QUALITY_ID = 1
DATA_QUALITY_DESC = "Data calculated based on original SPICE kernels"
/* TIME DATA ELEMENTS */
SPACECRAFT_CLOCK_START_COUNT = "1/0491048395.25684"
SPACECRAFT_CLOCK_STOP_COUNT = "1/0491048562.17659"
START_TIME = 2018-11-23T10:21:23.205Z
STOP_TIME = 2018-11-23T10:23:11.831Z
/* ORBITAL DATA ELEMENTS */
ASCENDING_NODE_LONGITUDE = 220.67
MAXIMUM_RESOLUTION = 13.8
FOOTPRINT_POINT_LATITUDE = (-20.637,-20.6243,-20.6114,-20.5986, -20.5856,-20.5724,-20.3521,-20.2109, -20.0697,-19.9285,-19.7874,-19.6463, -19.5053,-19.3642,-19.2232,-19.0821, -18.941,-18.7295,-18.5181,-18.3068, -18.1658,-18.025,-17.8841,-17.7432, -17.6024,-17.4615,-17.3207,-17.1096, -16.9688,-16.7244,-16.5566,-16.3885, -16.1366,-15.9687,-15.8007,-15.6329, -15.4651,-15.2974,-15.0458,-14.8781, -14.7103,-14.5426,-14.375,-14.1235, -13.9557,-13.7881,-13.6204,-13.4528, -13.2851,-13.1175,-12.866,-12.8714, -12.885,-12.8968,-12.9093,-12.9293, -12.9429,-13.1104,-13.278,-13.4455, -13.6969,-13.8645,-14.0319,-14.2833, -14.4508,-14.6184,-14.786,-14.9537, -15.1214,-15.2891,-15.4567,-15.6244, -15.7921,-16.0438,-16.2115,-16.3793, -16.5472,-16.7151,-16.883,-17.0445, -17.3258,-17.6074,-17.7481,-17.889, -18.0297,-18.2415,-18.4524,-18.5934, -18.8048,-19.0162,-19.1572,-19.2982, -19.4392,-19.5803,-19.7213,-19.8624, -20.0037,-20.2153,-20.4978,-20.637)
FOOTPRINT_POINT_LONGITUDE = (281.835,281.641,281.448,281.256, 281.064,280.873,280.785,280.786,280.786 ,280.787,280.787,280.788,280.788, 280.788,280.789,280.789,280.789,280.79, 280.79,280.79,280.79,280.791,280.791, 280.791,280.791,280.791,280.791,280.791 ,280.791,280.791,280.791,280.791,280.79 ,280.79,280.79,280.79,280.789,280.789, 280.788,280.788,280.787,280.787,280.786 ,280.785,280.785,280.784,280.784, 280.783,280.782,280.782,280.78,280.977, 281.176,281.349,281.536,281.837,282.045 ,282.043,282.042,282.041,282.039, 282.038,282.036,282.034,282.033,282.032 ,282.031,282.03,282.029,282.028,282.026 ,282.025,282.024,282.023,282.022, 282.021,282.02,282.019,282.018,282.017, 282.016,282.015,282.014,282.013,282.013 ,282.013,282.011,282.011,282.01,282.009 ,282.008,282.008,282.007,282.007, 282.006,282.006,282.005,282.005,282.004 ,281.835)
ORBIT_NUMBER = 18843
ORBITAL_ECCENTRICITY = 0.578
ORBITAL_INCLINATION = 86.95
ORBITAL_SEMIMAJOR_AXIS = 8832.34
PERIAPSIS_ALTITUDE = 333.27
PERIAPSIS_ARGUMENT_ANGLE = 332.2
PERIAPSIS_TIME = 2018-11-23T10:19:21.000Z
SPACECRAFT_ORIENTATION = (0.0,1.0,0.0)
^MEX_ORIENTATION_DESC = "MEX_ORIENTATION_DESC.TXT"
SPACECRAFT_POINTING_MODE = INERT
^MEX_POINTING_DESC = "MEX_POINTING_DESC.TXT"
RIGHT_ASCENSION = 61.141
DECLINATION = 45.035
OFFSET_ANGLE = -1e+32
SPACECRAFT_SOLAR_DISTANCE = 2.11387e+08
TARGET_NAME = MARS
/* CAMERA DATA ELEMENTS */
DETECTOR_TEMPERATURE = 17.7588
FOCAL_PLANE_TEMPERATURE = 10.6223
INST_CMPRS_NAME = "DISCRETE COSINE TRANSFORMATION (DCT)"
INST_CMPRS_RATIO = 7.15906
INST_CMPRS_QUALITY = 0
INST_CMPRS_QUANTZ_TBL_ID = 0
INSTRUMENT_TEMPERATURE = 12.6613
LENS_TEMPERATURE = 11.234
MACROPIXEL_SIZE = 1
MISSING_FRAMES = 0
PIXEL_SUBSAMPLING_FLAG = N
SIGNAL_CHAIN_ID = 2
/* RADIOMETRIC DATA ELEMENTS */
BANDWIDTH = 180.0
CENTER_FILTER_WAVELENGTH = 677.0
RADIANCE_OFFSET = 3.38333
RADIANCE_SCALING_FACTOR = 0.0218703
REFLECTANCE_SCALING_FACTOR = 0.000509865
MEX:REFLECTANCE_OFFSET = 0.0788762
/* IMAGE OBJECT DEFINITIONS */
OBJECT = IMAGE
  INTERCHANGE_FORMAT = BINARY
  LINES = 36929
  LINE_SAMPLES = 6620
  SAMPLE_TYPE = UNSIGNED_INTEGER
  SAMPLE_BITS = 8
  BANDS = 1
  BAND_STORAGE_TYPE = BAND_SEQUENTIAL
  MAXIMUM = 255
  MEAN = 129.476
  MINIMUM = 1
  STANDARD_DEVIATION = 16.3579
END_OBJECT = IMAGE
/* MAP OBJECT DEFINITIONS */
OBJECT = IMAGE_MAP_PROJECTION
  ^DATA_SET_MAP_PROJECTION_CATALOG= "DSMAP.CAT"
  A_AXIS_RADIUS = 3396.0
  B_AXIS_RADIUS = 3396.0
  C_AXIS_RADIUS = 3396.0
  CENTER_LATITUDE = 0.0
  CENTER_LONGITUDE = 282.0
  COORDINATE_SYSTEM_NAME = PLANETOGRAPHIC
  COORDINATE_SYSTEM_TYPE = "BODY-FIXED ROTATING"
  EASTERNMOST_LONGITUDE = 282.045
  FIRST_STANDARD_PARALLEL = "N/A"
  LINE_FIRST_PIXEL = 1
  LINE_LAST_PIXEL = 36929
  LINE_PROJECTION_OFFSET = -61004.0
  MAP_PROJECTION_ROTATION = 0.0
  MAP_PROJECTION_TYPE = SINUSOIDAL
  MAP_RESOLUTION = 4741.71043093333
  MAP_SCALE = 0.0125
  MAXIMUM_LATITUDE = -12.866
  MINIMUM_LATITUDE = -20.637
  POSITIVE_LONGITUDE_DIRECTION = EAST
  REFERENCE_LATITUDE = "N/A"
  REFERENCE_LONGITUDE = "N/A"
  SAMPLE_FIRST_PIXEL = 1
  SAMPLE_LAST_PIXEL = 6620
  SAMPLE_PROJECTION_OFFSET = 5257.0
  SECOND_STANDARD_PARALLEL = "N/A"
  WESTERNMOST_LONGITUDE = 280.78
END_OBJECT = IMAGE_MAP_PROJECTION
/* The JPEG2000 image data file associated with this label. */
OBJECT = COMPRESSED_FILE
  FILE_NAME = "HI843_0000_S13.JP2"
  RECORD_TYPE = UNDEFINED
  FILE_RECORDS = UNK
  ENCODING_TYPE = "JP2"
  INTERCHANGE_FORMAT = BINARY
  UNCOMPRESSED_FILE_NAME = "HI843_0000_S13.IMG"
  REQUIRED_STORAGE_BYTES = "244503080"
  ^DESCRIPTION = "JP2INFO.TXT"
END_OBJECT = COMPRESSED_FILE
END
