PDS_VERSION_ID = PDS3
/* FILE DATA ELEMENTS */
RECORD_TYPE = STREAM
/* POINTERS TO DATA OBJECTS */
^COMPRESSED_FILE = "HI851_0000_GR3.JP2"
/* IDENTIFICATION DATA ELEMENTS */
DATA_SET_ID = "MEX-M-HRSC-5-REFDR-MAPPROJECTED-V3.0"
DATA_SET_NAME = "MARS EXPRESS HRSC MAP PROJECTED REFDR V3.0"
DETECTOR_ID = MEX_HRSC_GREEN
EVENT_TYPE = "MARS-REGIONAL-MAPPING-Te-Lc-La"
INSTRUMENT_HOST_ID = MEX
INSTRUMENT_HOST_NAME = "MARS EXPRESS"
INSTRUMENT_ID = HRSC
INSTRUMENT_NAME = "HIGH RESOLUTION STEREO CAMERA"
MISSION_NAME = "MARS EXPRESS"
MISSION_PHASE_NAME = ME_Phase_39
PROCESSING_LEVEL_ID = 3
PRODUCT_CREATION_TIME = 2019-02-22T11:38:04.000Z
PRODUCT_ID = "HI851_0000_GR3.JP2"
RELEASE_ID = 0143
REVISION_ID = 0000
/* QUALITY DATA ELEMENTS */
DATA_QUALITY_ID = 1
DATA_QUALITY_DESC = "Data calculated based on original SPICE kernels"
/* TIME DATA ELEMENTS */
SPACECRAFT_CLOCK_START_COUNT = "1/0491249203.25665"
SPACECRAFT_CLOCK_STOP_COUNT = "1/0491249445.59078"
START_TIME = 2018-11-25T18:07:50.374Z
STOP_TIME = 2018-11-25T18:10:53.620Z
/* ORBITAL DATA ELEMENTS */
ASCENDING_NODE_LONGITUDE = 220.52
MAXIMUM_RESOLUTION = 53.1
FOOTPRINT_POINT_LATITUDE = (-43.4612,-43.4478,-43.4331,-43.4189, -43.4042,-43.4129,-43.095,-42.7809, -42.4701,-42.155,-41.851,-41.5872, -41.3237,-41.0603,-40.7968,-40.4015, -40.1388,-39.876,-39.6135,-39.3507, -39.0885,-38.695,-38.4329,-38.1709, -37.7778,-37.5157,-37.2537,-36.8609, -36.5995,-36.2076,-35.9464,-35.6852, -35.4241,-35.0325,-34.7713,-34.3794, -34.1182,-33.8571,-33.6028,-33.3503, -33.0979,-32.8454,-32.5928,-32.3403, -31.9618,-31.5841,-31.3322,-31.0802, -30.8282,-30.5762,-30.1822,-30.2055, -30.2192,-30.2379,-30.498,-30.8761, -31.1282,-31.3804,-31.7592,-32.0117, -32.2642,-32.6428,-33.021,-33.2724, -33.5251,-33.7781,-34.1679,-34.4287, -34.6916,-34.9534,-35.2143,-35.6053, -35.8667,-36.1284,-36.3912,-36.6536, -37.0467,-37.4411,-37.7035,-37.966, -38.2288,-38.4916,-38.7538,-39.0158, -39.2765,-39.5405,-39.8056,-40.0698, -40.334,-40.5977,-40.8618,-41.1255, -41.3899,-41.6548,-41.9192,-42.2195, -42.5356,-43.0101,-43.3264,-43.4612)
FOOTPRINT_POINT_LONGITUDE = (184.64,184.372,184.088,183.821,183.556 ,183.189,183.211,183.23,183.246,183.265 ,183.283,183.298,183.312,183.326, 183.341,183.361,183.374,183.387,183.4, 183.412,183.424,183.442,183.453,183.465 ,183.481,183.492,183.502,183.517, 183.527,183.541,183.55,183.559,183.568, 183.58,183.589,183.601,183.609,183.617, 183.625,183.632,183.639,183.646,183.653 ,183.659,183.669,183.677,183.683, 183.689,183.694,183.7,183.843,184.253, 184.515,184.9,185.042,185.041,185.04, 185.04,185.04,185.04,185.04,185.039, 185.037,185.034,185.034,185.034,185.036 ,185.034,185.036,185.036,185.035, 185.032,185.031,185.031,185.031,185.031 ,185.031,185.031,185.03,185.03,185.03, 185.029,185.028,185.027,185.024,185.024 ,185.026,185.026,185.026,185.025, 185.025,185.024,185.024,185.024,185.023 ,185.023,185.022,185.021,185.02,184.64)
ORBIT_NUMBER = 18851
ORBITAL_ECCENTRICITY = 0.578
ORBITAL_INCLINATION = 86.96
ORBITAL_SEMIMAJOR_AXIS = 8822.14
PERIAPSIS_ALTITUDE = 333.16
PERIAPSIS_ARGUMENT_ANGLE = 330.82
PERIAPSIS_TIME = 2018-11-25T18:11:07.000Z
SPACECRAFT_ORIENTATION = (0.0,1.0,0.0)
^MEX_ORIENTATION_DESC = "MEX_ORIENTATION_DESC.TXT"
SPACECRAFT_POINTING_MODE = INERT
^MEX_POINTING_DESC = "MEX_POINTING_DESC.TXT"
RIGHT_ASCENSION = 59.608
DECLINATION = 45.921
OFFSET_ANGLE = -1e+32
SPACECRAFT_SOLAR_DISTANCE = 2.11698e+08
TARGET_NAME = MARS
/* CAMERA DATA ELEMENTS */
DETECTOR_TEMPERATURE = 18.7783
FOCAL_PLANE_TEMPERATURE = 12.6613
INST_CMPRS_NAME = "DISCRETE COSINE TRANSFORMATION (DCT)"
INST_CMPRS_RATIO = 9.16411
INST_CMPRS_QUALITY = 0
INST_CMPRS_QUANTZ_TBL_ID = 0
INSTRUMENT_TEMPERATURE = 13.0691
LENS_TEMPERATURE = 12.2535
MACROPIXEL_SIZE = 4
MISSING_FRAMES = 0
PIXEL_SUBSAMPLING_FLAG = N
SIGNAL_CHAIN_ID = 2
/* RADIOMETRIC DATA ELEMENTS */
BANDWIDTH = 88.0
CENTER_FILTER_WAVELENGTH = 538.0
RADIANCE_OFFSET = 1.28456
RADIANCE_SCALING_FACTOR = 0.00560994
REFLECTANCE_SCALING_FACTOR = 0.000216461
MEX:REFLECTANCE_OFFSET = 0.0495652
/* IMAGE OBJECT DEFINITIONS */
OBJECT = IMAGE
  INTERCHANGE_FORMAT = BINARY
  LINES = 15827
  LINE_SAMPLES = 1826
  SAMPLE_TYPE = UNSIGNED_INTEGER
  SAMPLE_BITS = 8
  BANDS = 1
  BAND_STORAGE_TYPE = BAND_SEQUENTIAL
  MAXIMUM = 255
  MEAN = 134.956
  MINIMUM = 1
  STANDARD_DEVIATION = 27.514
END_OBJECT = IMAGE
/* MAP OBJECT DEFINITIONS */
OBJECT = IMAGE_MAP_PROJECTION
  ^DATA_SET_MAP_PROJECTION_CATALOG= "DSMAP.CAT"
  A_AXIS_RADIUS = 3396.0
  B_AXIS_RADIUS = 3396.0
  C_AXIS_RADIUS = 3396.0
  CENTER_LATITUDE = 0.0
  CENTER_LONGITUDE = 184.0
  COORDINATE_SYSTEM_NAME = PLANETOGRAPHIC
  COORDINATE_SYSTEM_TYPE = "BODY-FIXED ROTATING"
  EASTERNMOST_LONGITUDE = 185.042
  FIRST_STANDARD_PARALLEL = "N/A"
  LINE_FIRST_PIXEL = 1
  LINE_LAST_PIXEL = 15827
  LINE_PROJECTION_OFFSET = -35772.875
  MAP_PROJECTION_ROTATION = 0.0
  MAP_PROJECTION_TYPE = SINUSOIDAL
  MAP_RESOLUTION = 1185.42760773333
  MAP_SCALE = 0.05
  MAXIMUM_LATITUDE = -30.1822
  MINIMUM_LATITUDE = -43.4612
  POSITIVE_LONGITUDE_DIRECTION = EAST
  REFERENCE_LATITUDE = "N/A"
  REFERENCE_LONGITUDE = "N/A"
  SAMPLE_FIRST_PIXEL = 1
  SAMPLE_LAST_PIXEL = 1826
  SAMPLE_PROJECTION_OFFSET = 686.875
  SECOND_STANDARD_PARALLEL = "N/A"
  WESTERNMOST_LONGITUDE = 183.189
END_OBJECT = IMAGE_MAP_PROJECTION
/* The JPEG2000 image data file associated with this label. */
OBJECT = COMPRESSED_FILE
  FILE_NAME = "HI851_0000_GR3.JP2"
  RECORD_TYPE = UNDEFINED
  FILE_RECORDS = UNK
  ENCODING_TYPE = "JP2"
  INTERCHANGE_FORMAT = BINARY
  UNCOMPRESSED_FILE_NAME = "HI851_0000_GR3.IMG"
  REQUIRED_STORAGE_BYTES = "28920188"
  ^DESCRIPTION = "JP2INFO.TXT"
END_OBJECT = COMPRESSED_FILE
END
