PDS_VERSION_ID = PDS3
/* FILE DATA ELEMENTS */
RECORD_TYPE = STREAM
/* POINTERS TO DATA OBJECTS */
^COMPRESSED_FILE = "HI856_0000_P23.JP2"
/* IDENTIFICATION DATA ELEMENTS */
DATA_SET_ID = "MEX-M-HRSC-5-REFDR-MAPPROJECTED-V3.0"
DATA_SET_NAME = "MARS EXPRESS HRSC MAP PROJECTED REFDR V3.0"
DETECTOR_ID = MEX_HRSC_P2
EVENT_TYPE = "MARS-REGIONAL-MAPPING-Im-Gl-Eo"
INSTRUMENT_HOST_ID = MEX
INSTRUMENT_HOST_NAME = "MARS EXPRESS"
INSTRUMENT_ID = HRSC
INSTRUMENT_NAME = "HIGH RESOLUTION STEREO CAMERA"
MISSION_NAME = "MARS EXPRESS"
MISSION_PHASE_NAME = ME_Phase_39
PROCESSING_LEVEL_ID = 3
PRODUCT_CREATION_TIME = 2019-02-22T11:38:04.000Z
PRODUCT_ID = "HI856_0000_P23.JP2"
RELEASE_ID = 0143
REVISION_ID = 0000
/* QUALITY DATA ELEMENTS */
DATA_QUALITY_ID = 1
DATA_QUALITY_DESC = "Data calculated based on original SPICE kernels"
/* TIME DATA ELEMENTS */
SPACECRAFT_CLOCK_START_COUNT = "1/0491374933.24946"
SPACECRAFT_CLOCK_STOP_COUNT = "1/0491375177.56494"
START_TIME = 2018-11-27T05:02:54.713Z
STOP_TIME = 2018-11-27T05:06:03.071Z
/* ORBITAL DATA ELEMENTS */
ASCENDING_NODE_LONGITUDE = 220.43
MAXIMUM_RESOLUTION = 27.3
FOOTPRINT_POINT_LATITUDE = (-42.0918,-42.0701,-42.033,-41.8617, -41.5438,-41.2258,-40.9179,-40.6515, -40.385,-40.1186,-39.7189,-39.4524, -39.1857,-38.919,-38.6526,-38.3859, -38.1183,-37.8481,-37.5799,-37.3125, -37.0469,-36.7791,-36.3778,-36.1111, -35.8469,-35.4455,-35.1776,-34.7755, -34.508,-34.1068,-33.8387,-33.4358, -33.1671,-32.9043,-32.644,-32.3861, -32.1253,-31.8646,-31.6033,-31.3426, -31.0818,-30.8213,-30.5593,-30.2959, -30.0349,-29.773,-29.5106,-29.2485, -28.9866,-28.7244,-28.5984,-28.6125, -28.6232,-28.6348,-28.8994,-29.2924, -29.6856,-30.0791,-30.342,-30.6057, -30.8671,-31.1273,-31.389,-31.7797, -32.0403,-32.301,-32.5619,-32.8237, -33.2112,-33.4823,-33.7463,-34.0141, -34.2829,-34.6868,-34.9556,-35.2251, -35.4928,-35.7608,-36.0291,-36.297, -36.5652,-36.8331,-37.235,-37.5022, -37.7699,-38.1706,-38.5711,-38.8384, -39.1055,-39.3727,-39.64,-39.9073, -40.1745,-40.5737,-40.8406,-41.1205, -41.4407,-41.7593,-42.0778,-42.0918)
FOOTPRINT_POINT_LONGITUDE = (34.0254,33.5288,32.78,32.6611,32.679, 32.6963,32.7129,32.7269,32.7405,32.754, 32.7736,32.7864,32.7986,32.8108,32.8229 ,32.8346,32.8453,32.8539,32.8639, 32.8744,32.8859,32.8957,32.9104,32.9205 ,32.9317,32.9453,32.9539,32.9665,32.975 ,32.9874,32.9952,33.0062,33.0131, 33.0188,33.0254,33.0328,33.039,33.045, 33.0508,33.0566,33.0623,33.0679,33.073, 33.0776,33.0827,33.0875,33.0921,33.0966 ,33.1011,33.1054,33.5565,33.8654, 34.0976,34.4406,34.4372,34.4344,34.4313 ,34.4278,34.425,34.4213,34.4194,34.4182 ,34.4159,34.4135,34.4118,34.41,34.4078, 34.4047,34.4046,34.3995,34.4023,34.4013 ,34.3992,34.3951,34.3928,34.3895, 34.3881,34.3862,34.384,34.382,34.3797, 34.3775,34.3739,34.3724,34.3702,34.368, 34.3659,34.364,34.3625,34.3604,34.3581, 34.3557,34.3533,34.3543,34.3528,34.35, 34.3419,34.3394,34.3371,34.0254)
ORBIT_NUMBER = 18856
ORBITAL_ECCENTRICITY = 0.578
ORBITAL_INCLINATION = 86.95
ORBITAL_SEMIMAJOR_AXIS = 8827.53
PERIAPSIS_ALTITUDE = 332.83
PERIAPSIS_ARGUMENT_ANGLE = 329.97
PERIAPSIS_TIME = 2018-11-27T05:06:04.000Z
SPACECRAFT_ORIENTATION = (0.0,1.0,0.0)
^MEX_ORIENTATION_DESC = "MEX_ORIENTATION_DESC.TXT"
SPACECRAFT_POINTING_MODE = INERT
^MEX_POINTING_DESC = "MEX_POINTING_DESC.TXT"
RIGHT_ASCENSION = 58.625
DECLINATION = 46.458
OFFSET_ANGLE = -1e+32
SPACECRAFT_SOLAR_DISTANCE = 2.11897e+08
TARGET_NAME = MARS
/* CAMERA DATA ELEMENTS */
DETECTOR_TEMPERATURE = 19.5939
FOCAL_PLANE_TEMPERATURE = 11.6418
INST_CMPRS_NAME = "DISCRETE COSINE TRANSFORMATION (DCT)"
INST_CMPRS_RATIO = 7.18849
INST_CMPRS_QUALITY = 0
INST_CMPRS_QUANTZ_TBL_ID = 0
INSTRUMENT_TEMPERATURE = 12.0496
LENS_TEMPERATURE = 11.6418
MACROPIXEL_SIZE = 2
MISSING_FRAMES = 0
PIXEL_SUBSAMPLING_FLAG = N
SIGNAL_CHAIN_ID = 3
/* RADIOMETRIC DATA ELEMENTS */
BANDWIDTH = 177.0
CENTER_FILTER_WAVELENGTH = 676.5
RADIANCE_OFFSET = 3.32298
RADIANCE_SCALING_FACTOR = 0.0191544
REFLECTANCE_SCALING_FACTOR = 0.00045601
MEX:REFLECTANCE_OFFSET = 0.0791102
/* IMAGE OBJECT DEFINITIONS */
OBJECT = IMAGE
  INTERCHANGE_FORMAT = BINARY
  LINES = 32044
  LINE_SAMPLES = 3419
  SAMPLE_TYPE = UNSIGNED_INTEGER
  SAMPLE_BITS = 8
  BANDS = 1
  BAND_STORAGE_TYPE = BAND_SEQUENTIAL
  MAXIMUM = 255
  MEAN = 143.072
  MINIMUM = 1
  STANDARD_DEVIATION = 38.4739
END_OBJECT = IMAGE
/* MAP OBJECT DEFINITIONS */
OBJECT = IMAGE_MAP_PROJECTION
  ^DATA_SET_MAP_PROJECTION_CATALOG= "DSMAP.CAT"
  A_AXIS_RADIUS = 3396.0
  B_AXIS_RADIUS = 3396.0
  C_AXIS_RADIUS = 3396.0
  CENTER_LATITUDE = 0.0
  CENTER_LONGITUDE = 34.0
  COORDINATE_SYSTEM_NAME = PLANETOGRAPHIC
  COORDINATE_SYSTEM_TYPE = "BODY-FIXED ROTATING"
  EASTERNMOST_LONGITUDE = 34.4406
  FIRST_STANDARD_PARALLEL = "N/A"
  LINE_FIRST_PIXEL = 1
  LINE_LAST_PIXEL = 32044
  LINE_PROJECTION_OFFSET = -67703.75
  MAP_PROJECTION_ROTATION = 0.0
  MAP_PROJECTION_TYPE = SINUSOIDAL
  MAP_RESOLUTION = 2370.85521546667
  MAP_SCALE = 0.025
  MAXIMUM_LATITUDE = -28.5984
  MINIMUM_LATITUDE = -42.0918
  POSITIVE_LONGITUDE_DIRECTION = EAST
  REFERENCE_LATITUDE = "N/A"
  REFERENCE_LONGITUDE = "N/A"
  SAMPLE_FIRST_PIXEL = 1
  SAMPLE_LAST_PIXEL = 3419
  SAMPLE_PROJECTION_OFFSET = 2576.75
  SECOND_STANDARD_PARALLEL = "N/A"
  WESTERNMOST_LONGITUDE = 32.6611
END_OBJECT = IMAGE_MAP_PROJECTION
/* The JPEG2000 image data file associated with this label. */
OBJECT = COMPRESSED_FILE
  FILE_NAME = "HI856_0000_P23.JP2"
  RECORD_TYPE = UNDEFINED
  FILE_RECORDS = UNK
  ENCODING_TYPE = "JP2"
  INTERCHANGE_FORMAT = BINARY
  UNCOMPRESSED_FILE_NAME = "HI856_0000_P23.IMG"
  REQUIRED_STORAGE_BYTES = "109582369"
  ^DESCRIPTION = "JP2INFO.TXT"
END_OBJECT = COMPRESSED_FILE
END
