PDS_VERSION_ID = PDS3
/* FILE DATA ELEMENTS */
RECORD_TYPE = STREAM
/* POINTERS TO DATA OBJECTS */
^COMPRESSED_FILE = "HI867_0000_P23.JP2"
/* IDENTIFICATION DATA ELEMENTS */
DATA_SET_ID = "MEX-M-HRSC-5-REFDR-MAPPROJECTED-V3.0"
DATA_SET_NAME = "MARS EXPRESS HRSC MAP PROJECTED REFDR V3.0"
DETECTOR_ID = MEX_HRSC_P2
EVENT_TYPE = "MARS-REGIONAL-STEREO-Im-Fl"
INSTRUMENT_HOST_ID = MEX
INSTRUMENT_HOST_NAME = "MARS EXPRESS"
INSTRUMENT_ID = HRSC
INSTRUMENT_NAME = "HIGH RESOLUTION STEREO CAMERA"
MISSION_NAME = "MARS EXPRESS"
MISSION_PHASE_NAME = ME_Phase_39
PROCESSING_LEVEL_ID = 3
PRODUCT_CREATION_TIME = 2019-02-22T11:38:04.000Z
PRODUCT_ID = "HI867_0000_P23.JP2"
RELEASE_ID = 0143
REVISION_ID = 0000
/* QUALITY DATA ELEMENTS */
DATA_QUALITY_ID = 1
DATA_QUALITY_DESC = "Data calculated based on original SPICE kernels"
/* TIME DATA ELEMENTS */
SPACECRAFT_CLOCK_START_COUNT = "1/0491651638.23992"
SPACECRAFT_CLOCK_STOP_COUNT = "1/0491651807.25257"
START_TIME = 2018-11-30T09:54:38.745Z
STOP_TIME = 2018-11-30T09:56:30.475Z
/* ORBITAL DATA ELEMENTS */
ASCENDING_NODE_LONGITUDE = 220.23
MAXIMUM_RESOLUTION = 26.7
FOOTPRINT_POINT_LATITUDE = (-33.3793,-33.3624,-33.3448,-33.3267, -33.3079,-33.2818,-33.0399,-32.8786, -32.6369,-32.4758,-32.3146,-32.1531, -31.9917,-31.8304,-31.6692,-31.5078, -31.3465,-31.1851,-31.0236,-30.8621, -30.7008,-30.5394,-30.3777,-30.216, -30.0544,-29.8118,-29.65,-29.4936, -29.3366,-29.18,-28.9451,-28.7884, -28.5532,-28.3182,-28.1612,-27.9996, -27.8373,-27.5942,-27.4321,-27.2696, -27.1072,-26.8635,-26.6198,-26.4566, -26.294,-26.1314,-25.9682,-25.8059, -25.5617,-25.3988,-25.2467,-25.2635, -25.2785,-25.2972,-25.3224,-25.3479, -25.5169,-25.6793,-25.842,-26.0045, -26.166,-26.3286,-26.4915,-26.6541, -26.8962,-27.1408,-27.3846,-27.5479, -27.7097,-27.8716,-28.0339,-28.196, -28.355,-28.5119,-28.7462,-28.9038, -29.1387,-29.2954,-29.4521,-29.6084, -29.8462,-30.0081,-30.1694,-30.3313, -30.5739,-30.8164,-30.9784,-31.14, -31.3014,-31.4628,-31.705,-31.9472, -32.1085,-32.2699,-32.4313,-32.6733, -32.9156,-33.077,-33.3188,-33.3793)
FOOTPRINT_POINT_LONGITUDE = (349.389,349.18,348.968,348.754,348.538 ,348.302,348.312,348.318,348.328, 348.335,348.342,348.347,348.353,348.359 ,348.365,348.371,348.376,348.382, 348.387,348.392,348.397,348.403,348.407 ,348.412,348.416,348.422,348.427, 348.431,348.434,348.438,348.443,348.447 ,348.452,348.457,348.459,348.462, 348.465,348.469,348.472,348.475,348.477 ,348.48,348.484,348.485,348.487,348.488 ,348.49,348.492,348.494,348.495,348.626 ,348.834,349.004,349.211,349.481, 349.745,349.822,349.821,349.819,349.818 ,349.816,349.814,349.812,349.811, 349.807,349.805,349.802,349.801,349.798 ,349.796,349.794,349.792,349.79,349.788 ,349.784,349.782,349.778,349.776, 349.773,349.771,349.767,349.764,349.761 ,349.759,349.754,349.75,349.747,349.744 ,349.741,349.737,349.732,349.727, 349.724,349.72,349.716,349.711,349.705, 349.702,349.696,349.389)
ORBIT_NUMBER = 18867
ORBITAL_ECCENTRICITY = 0.578
ORBITAL_INCLINATION = 86.96
ORBITAL_SEMIMAJOR_AXIS = 8820.4
PERIAPSIS_ALTITUDE = 332.33
PERIAPSIS_ARGUMENT_ANGLE = 328.07
PERIAPSIS_TIME = 2018-11-30T09:55:05.000Z
SPACECRAFT_ORIENTATION = (0.0,1.0,0.0)
^MEX_ORIENTATION_DESC = "MEX_ORIENTATION_DESC.TXT"
SPACECRAFT_POINTING_MODE = INERT
^MEX_POINTING_DESC = "MEX_POINTING_DESC.TXT"
RIGHT_ASCENSION = 56.383
DECLINATION = 47.633
OFFSET_ANGLE = -1e+32
SPACECRAFT_SOLAR_DISTANCE = 2.12344e+08
TARGET_NAME = MARS
/* CAMERA DATA ELEMENTS */
DETECTOR_TEMPERATURE = 18.5744
FOCAL_PLANE_TEMPERATURE = 12.6613
INST_CMPRS_NAME = "DISCRETE COSINE TRANSFORMATION (DCT)"
INST_CMPRS_RATIO = 6.9049
INST_CMPRS_QUALITY = 0
INST_CMPRS_QUANTZ_TBL_ID = 0
INSTRUMENT_TEMPERATURE = 13.4769
LENS_TEMPERATURE = 12.6613
MACROPIXEL_SIZE = 2
MISSING_FRAMES = 0
PIXEL_SUBSAMPLING_FLAG = N
SIGNAL_CHAIN_ID = 3
/* RADIOMETRIC DATA ELEMENTS */
BANDWIDTH = 177.0
CENTER_FILTER_WAVELENGTH = 676.5
RADIANCE_OFFSET = 3.52102
RADIANCE_SCALING_FACTOR = 0.0149215
REFLECTANCE_SCALING_FACTOR = 0.00035674
MEX:REFLECTANCE_OFFSET = 0.0841799
/* IMAGE OBJECT DEFINITIONS */
OBJECT = IMAGE
  INTERCHANGE_FORMAT = BINARY
  LINES = 19189
  LINE_SAMPLES = 3439
  SAMPLE_TYPE = UNSIGNED_INTEGER
  SAMPLE_BITS = 8
  BANDS = 1
  BAND_STORAGE_TYPE = BAND_SEQUENTIAL
  MAXIMUM = 255
  MEAN = 133.309
  MINIMUM = 1
  STANDARD_DEVIATION = 16.3055
END_OBJECT = IMAGE
/* MAP OBJECT DEFINITIONS */
OBJECT = IMAGE_MAP_PROJECTION
  ^DATA_SET_MAP_PROJECTION_CATALOG= "DSMAP.CAT"
  A_AXIS_RADIUS = 3396.0
  B_AXIS_RADIUS = 3396.0
  C_AXIS_RADIUS = 3396.0
  CENTER_LATITUDE = 0.0
  CENTER_LONGITUDE = 349.0
  COORDINATE_SYSTEM_NAME = PLANETOGRAPHIC
  COORDINATE_SYSTEM_TYPE = "BODY-FIXED ROTATING"
  EASTERNMOST_LONGITUDE = 349.822
  FIRST_STANDARD_PARALLEL = "N/A"
  LINE_FIRST_PIXEL = 1
  LINE_LAST_PIXEL = 19189
  LINE_PROJECTION_OFFSET = -59884.25
  MAP_PROJECTION_ROTATION = 0.0
  MAP_PROJECTION_TYPE = SINUSOIDAL
  MAP_RESOLUTION = 2370.85521546667
  MAP_SCALE = 0.025
  MAXIMUM_LATITUDE = -25.2467
  MINIMUM_LATITUDE = -33.3793
  POSITIVE_LONGITUDE_DIRECTION = EAST
  REFERENCE_LATITUDE = "N/A"
  REFERENCE_LONGITUDE = "N/A"
  SAMPLE_FIRST_PIXEL = 1
  SAMPLE_LAST_PIXEL = 3439
  SAMPLE_PROJECTION_OFFSET = 1800.25
  SECOND_STANDARD_PARALLEL = "N/A"
  WESTERNMOST_LONGITUDE = 348.302
END_OBJECT = IMAGE_MAP_PROJECTION
/* The JPEG2000 image data file associated with this label. */
OBJECT = COMPRESSED_FILE
  FILE_NAME = "HI867_0000_P23.JP2"
  RECORD_TYPE = UNDEFINED
  FILE_RECORDS = UNK
  ENCODING_TYPE = "JP2"
  INTERCHANGE_FORMAT = BINARY
  UNCOMPRESSED_FILE_NAME = "HI867_0000_P23.IMG"
  REQUIRED_STORAGE_BYTES = "66015044"
  ^DESCRIPTION = "JP2INFO.TXT"
END_OBJECT = COMPRESSED_FILE
END
