PDS_VERSION_ID = PDS3
/* FILE DATA ELEMENTS */
RECORD_TYPE = STREAM
/* POINTERS TO DATA OBJECTS */
^COMPRESSED_FILE = "HI875_0000_P23.JP2"
/* IDENTIFICATION DATA ELEMENTS */
DATA_SET_ID = "MEX-M-HRSC-5-REFDR-MAPPROJECTED-V3.0"
DATA_SET_NAME = "MARS EXPRESS HRSC MAP PROJECTED REFDR V3.0"
DETECTOR_ID = MEX_HRSC_P2
EVENT_TYPE = "MARS-REGIONAL-STEREO-Te-Im-Fl"
INSTRUMENT_HOST_ID = MEX
INSTRUMENT_HOST_NAME = "MARS EXPRESS"
INSTRUMENT_ID = HRSC
INSTRUMENT_NAME = "HIGH RESOLUTION STEREO CAMERA"
MISSION_NAME = "MARS EXPRESS"
MISSION_PHASE_NAME = ME_Phase_39
PROCESSING_LEVEL_ID = 3
PRODUCT_CREATION_TIME = 2019-02-22T11:38:04.000Z
PRODUCT_ID = "HI875_0000_P23.JP2"
RELEASE_ID = 0143
REVISION_ID = 0000
/* QUALITY DATA ELEMENTS */
DATA_QUALITY_ID = 1
DATA_QUALITY_DESC = "Data calculated based on original SPICE kernels"
/* TIME DATA ELEMENTS */
SPACECRAFT_CLOCK_START_COUNT = "1/0491852686.23989"
SPACECRAFT_CLOCK_STOP_COUNT = "1/0491852876.16549"
START_TIME = 2018-12-02T17:45:28.723Z
STOP_TIME = 2018-12-02T17:47:36.632Z
/* ORBITAL DATA ELEMENTS */
ASCENDING_NODE_LONGITUDE = 220.08
MAXIMUM_RESOLUTION = 26.7
FOOTPRINT_POINT_LATITUDE = (-38.7554,-38.7495,-38.743,-38.7359, -38.7281,-38.7196,-38.6103,-38.4423, -38.2739,-38.1056,-37.8534,-37.6844, -37.5178,-37.3497,-37.1802,-37.0113, -36.8447,-36.6809,-36.4356,-36.272, -36.1081,-35.9447,-35.781,-35.6169, -35.3711,-35.2058,-35.0415,-34.8774, -34.7131,-34.5494,-34.2253,-34.056, -33.8888,-33.722,-33.5574,-33.3127, -32.9862,-32.8201,-32.6546,-32.4908, -32.3262,-32.1619,-31.9989,-31.8332, -31.6668,-31.4995,-31.3335,-31.1679, -31.0018,-30.8361,-30.5877,-30.4054, -30.4158,-30.4262,-30.4316,-30.4356, -30.6025,-30.7691,-30.9334,-31.1803, -31.429,-31.5947,-31.7608,-32.0091, -32.1744,-32.3409,-32.5073,-32.6731, -32.9219,-33.1703,-33.4175,-33.5824, -33.7478,-33.9951,-34.1603,-34.3251, -34.5722,-34.7369,-34.9014,-35.0655, -35.2301,-35.3949,-35.5592,-35.7231, -35.8877,-36.0518,-36.2148,-36.379, -36.6254,-36.9514,-37.1195,-37.3749, -37.5448,-37.7107,-37.8787,-38.049, -38.2201,-38.3891,-38.5566,-38.7554)
FOOTPRINT_POINT_LONGITUDE = (253.059,252.827,252.594,252.36,252.125 ,251.89,251.711,251.72,251.728,251.736, 251.748,251.755,251.764,251.772,251.779 ,251.786,251.792,251.799,251.809, 251.816,251.822,251.829,251.836,251.842 ,251.851,251.856,251.862,251.868, 251.874,251.88,251.895,251.896,251.9, 251.903,251.908,251.918,251.93,251.934, 251.938,251.944,251.949,251.954,251.96, 251.964,251.967,251.97,251.973,251.977, 251.98,251.984,251.989,252.084,252.421, 252.818,253.073,253.318,253.317,253.316 ,253.315,253.313,253.311,253.31,253.309 ,253.307,253.306,253.304,253.302, 253.301,253.299,253.296,253.294,253.293 ,253.291,253.289,253.288,253.286, 253.284,253.282,253.28,253.279,253.277, 253.276,253.274,253.272,253.27,253.269, 253.267,253.265,253.263,253.259,253.257 ,253.254,253.252,253.251,253.249, 253.246,253.243,253.241,253.239, 253.059)
ORBIT_NUMBER = 18875
ORBITAL_ECCENTRICITY = 0.578
ORBITAL_INCLINATION = 86.95
ORBITAL_SEMIMAJOR_AXIS = 8825.75
PERIAPSIS_ALTITUDE = 331.38
PERIAPSIS_ARGUMENT_ANGLE = 326.69
PERIAPSIS_TIME = 2018-12-02T17:47:13.000Z
SPACECRAFT_ORIENTATION = (0.0,1.0,0.0)
^MEX_ORIENTATION_DESC = "MEX_ORIENTATION_DESC.TXT"
SPACECRAFT_POINTING_MODE = ACROSSTRACK
^MEX_POINTING_DESC = "MEX_POINTING_DESC.TXT"
RIGHT_ASCENSION = -1e+32
DECLINATION = -1e+32
OFFSET_ANGLE = 0.3
SPACECRAFT_SOLAR_DISTANCE = 2.12679e+08
TARGET_NAME = MARS
/* CAMERA DATA ELEMENTS */
DETECTOR_TEMPERATURE = 19.39
FOCAL_PLANE_TEMPERATURE = 10.6223
INST_CMPRS_NAME = "DISCRETE COSINE TRANSFORMATION (DCT)"
INST_CMPRS_RATIO = 5.66339
INST_CMPRS_QUALITY = 0
INST_CMPRS_QUANTZ_TBL_ID = 0
INSTRUMENT_TEMPERATURE = 12.6613
LENS_TEMPERATURE = 10.8262
MACROPIXEL_SIZE = 2
MISSING_FRAMES = 0
PIXEL_SUBSAMPLING_FLAG = N
SIGNAL_CHAIN_ID = 3
/* RADIOMETRIC DATA ELEMENTS */
BANDWIDTH = 177.0
CENTER_FILTER_WAVELENGTH = 676.5
RADIANCE_OFFSET = 3.40745
RADIANCE_SCALING_FACTOR = 0.024498
REFLECTANCE_SCALING_FACTOR = 0.000587538
MEX:REFLECTANCE_OFFSET = 0.0817212
/* IMAGE OBJECT DEFINITIONS */
OBJECT = IMAGE
  INTERCHANGE_FORMAT = BINARY
  LINES = 19736
  LINE_SAMPLES = 3176
  SAMPLE_TYPE = UNSIGNED_INTEGER
  SAMPLE_BITS = 8
  BANDS = 1
  BAND_STORAGE_TYPE = BAND_SEQUENTIAL
  MAXIMUM = 255
  MEAN = 114.009
  MINIMUM = 1
  STANDARD_DEVIATION = 26.7964
END_OBJECT = IMAGE
/* MAP OBJECT DEFINITIONS */
OBJECT = IMAGE_MAP_PROJECTION
  ^DATA_SET_MAP_PROJECTION_CATALOG= "DSMAP.CAT"
  A_AXIS_RADIUS = 3396.0
  B_AXIS_RADIUS = 3396.0
  C_AXIS_RADIUS = 3396.0
  CENTER_LATITUDE = 0.0
  CENTER_LONGITUDE = 253.0
  COORDINATE_SYSTEM_NAME = PLANETOGRAPHIC
  COORDINATE_SYSTEM_TYPE = "BODY-FIXED ROTATING"
  EASTERNMOST_LONGITUDE = 253.318
  FIRST_STANDARD_PARALLEL = "N/A"
  LINE_FIRST_PIXEL = 1
  LINE_LAST_PIXEL = 19736
  LINE_PROJECTION_OFFSET = -72040.75
  MAP_PROJECTION_ROTATION = 0.0
  MAP_PROJECTION_TYPE = SINUSOIDAL
  MAP_RESOLUTION = 2370.85521546667
  MAP_SCALE = 0.025
  MAXIMUM_LATITUDE = -30.4054
  MINIMUM_LATITUDE = -38.7554
  POSITIVE_LONGITUDE_DIRECTION = EAST
  REFERENCE_LATITUDE = "N/A"
  REFERENCE_LONGITUDE = "N/A"
  SAMPLE_FIRST_PIXEL = 1
  SAMPLE_LAST_PIXEL = 3176
  SAMPLE_PROJECTION_OFFSET = 2475.75
  SECOND_STANDARD_PARALLEL = "N/A"
  WESTERNMOST_LONGITUDE = 251.711
END_OBJECT = IMAGE_MAP_PROJECTION
/* The JPEG2000 image data file associated with this label. */
OBJECT = COMPRESSED_FILE
  FILE_NAME = "HI875_0000_P23.JP2"
  RECORD_TYPE = UNDEFINED
  FILE_RECORDS = UNK
  ENCODING_TYPE = "JP2"
  INTERCHANGE_FORMAT = BINARY
  UNCOMPRESSED_FILE_NAME = "HI875_0000_P23.IMG"
  REQUIRED_STORAGE_BYTES = "62703768"
  ^DESCRIPTION = "JP2INFO.TXT"
END_OBJECT = COMPRESSED_FILE
END
