PDS_VERSION_ID = PDS3
/* FILE DATA ELEMENTS */
RECORD_TYPE = STREAM
/* POINTERS TO DATA OBJECTS */
^COMPRESSED_FILE = "HI875_0000_S23.JP2"
/* IDENTIFICATION DATA ELEMENTS */
DATA_SET_ID = "MEX-M-HRSC-5-REFDR-MAPPROJECTED-V3.0"
DATA_SET_NAME = "MARS EXPRESS HRSC MAP PROJECTED REFDR V3.0"
DETECTOR_ID = MEX_HRSC_S2
EVENT_TYPE = "MARS-REGIONAL-STEREO-Te-Im-Fl"
INSTRUMENT_HOST_ID = MEX
INSTRUMENT_HOST_NAME = "MARS EXPRESS"
INSTRUMENT_ID = HRSC
INSTRUMENT_NAME = "HIGH RESOLUTION STEREO CAMERA"
MISSION_NAME = "MARS EXPRESS"
MISSION_PHASE_NAME = ME_Phase_39
PROCESSING_LEVEL_ID = 3
PRODUCT_CREATION_TIME = 2019-02-22T11:38:04.000Z
PRODUCT_ID = "HI875_0000_S23.JP2"
RELEASE_ID = 0143
REVISION_ID = 0000
/* QUALITY DATA ELEMENTS */
DATA_QUALITY_ID = 1
DATA_QUALITY_DESC = "Data calculated based on original SPICE kernels"
/* TIME DATA ELEMENTS */
SPACECRAFT_CLOCK_START_COUNT = "1/0491852686.23989"
SPACECRAFT_CLOCK_STOP_COUNT = "1/0491852876.16549"
START_TIME = 2018-12-02T17:45:17.984Z
STOP_TIME = 2018-12-02T17:47:26.345Z
/* ORBITAL DATA ELEMENTS */
ASCENDING_NODE_LONGITUDE = 220.08
MAXIMUM_RESOLUTION = 13.8
FOOTPRINT_POINT_LATITUDE = (-38.777,-38.7699,-38.7621,-38.7535, -38.7441,-38.7339,-38.694,-38.5273, -38.36,-38.1929,-38.0259,-37.8599, -37.6925,-37.5267,-37.2752,-37.1075, -36.9381,-36.6849,-36.5169,-36.3489, -36.1826,-36.0204,-35.8572,-35.6942, -35.5319,-35.3679,-35.2027,-35.0389, -34.875,-34.7118,-34.5488,-34.2275, -34.0573,-33.8041,-33.64,-33.4769, -33.2354,-32.9905,-32.8241,-32.6585, -32.4953,-32.2502,-32.0049,-31.8406, -31.6742,-31.5067,-31.2559,-31.0903, -30.9238,-30.675,-30.5093,-30.4285, -30.4428,-30.4523,-30.4618,-30.5492, -30.7166,-30.8802,-31.0437,-31.209, -31.3747,-31.5409,-31.7073,-31.8724, -32.1201,-32.2869,-32.4538,-32.6196, -32.8685,-33.1167,-33.3633,-33.6104, -33.7756,-33.9396,-34.1046,-34.2688, -34.5151,-34.6794,-34.8433,-35.0066, -35.1706,-35.3351,-35.4986,-35.6617, -35.8257,-36.1507,-36.3143,-36.4831, -36.6522,-36.9019,-37.0702,-37.3251, -37.4944,-37.6578,-37.8242,-37.9943, -38.1656,-38.3337,-38.4996,-38.777)
FOOTPRINT_POINT_LONGITUDE = (253.18,252.941,252.702,252.462,252.221 ,251.978,251.698,251.706,251.714, 251.723,251.731,251.739,251.747,251.756 ,251.767,251.775,251.781,251.791, 251.798,251.806,251.812,251.819,251.825 ,251.832,251.839,251.845,251.85,251.856 ,251.861,251.868,251.874,251.888, 251.891,251.895,251.901,251.906,251.917 ,251.925,251.929,251.933,251.939, 251.947,251.955,251.959,251.963,251.966 ,251.971,251.975,251.978,251.984, 251.987,252.201,252.558,252.898,253.145 ,253.319,253.318,253.317,253.316, 253.315,253.314,253.313,253.311,253.31, 253.309,253.307,253.306,253.304,253.302 ,253.3,253.298,253.296,253.295,253.293, 253.292,253.29,253.288,253.287,253.285, 253.284,253.283,253.281,253.279,253.278 ,253.276,253.273,253.272,253.27,253.268 ,253.266,253.264,253.261,253.259, 253.258,253.256,253.254,253.251,253.249 ,253.247,253.18)
ORBIT_NUMBER = 18875
ORBITAL_ECCENTRICITY = 0.578
ORBITAL_INCLINATION = 86.95
ORBITAL_SEMIMAJOR_AXIS = 8825.75
PERIAPSIS_ALTITUDE = 331.38
PERIAPSIS_ARGUMENT_ANGLE = 326.69
PERIAPSIS_TIME = 2018-12-02T17:47:13.000Z
SPACECRAFT_ORIENTATION = (0.0,1.0,0.0)
^MEX_ORIENTATION_DESC = "MEX_ORIENTATION_DESC.TXT"
SPACECRAFT_POINTING_MODE = ACROSSTRACK
^MEX_POINTING_DESC = "MEX_POINTING_DESC.TXT"
RIGHT_ASCENSION = -1e+32
DECLINATION = -1e+32
OFFSET_ANGLE = 0.3
SPACECRAFT_SOLAR_DISTANCE = 2.12679e+08
TARGET_NAME = MARS
/* CAMERA DATA ELEMENTS */
DETECTOR_TEMPERATURE = 19.39
FOCAL_PLANE_TEMPERATURE = 10.6223
INST_CMPRS_NAME = "DISCRETE COSINE TRANSFORMATION (DCT)"
INST_CMPRS_RATIO = 7.16107
INST_CMPRS_QUALITY = 0
INST_CMPRS_QUANTZ_TBL_ID = 0
INSTRUMENT_TEMPERATURE = 12.6613
LENS_TEMPERATURE = 10.8262
MACROPIXEL_SIZE = 1
MISSING_FRAMES = 0
PIXEL_SUBSAMPLING_FLAG = N
SIGNAL_CHAIN_ID = 1
/* RADIOMETRIC DATA ELEMENTS */
BANDWIDTH = 178.0
CENTER_FILTER_WAVELENGTH = 679.0
RADIANCE_OFFSET = 3.68911
RADIANCE_SCALING_FACTOR = 0.0249155
REFLECTANCE_SCALING_FACTOR = 0.000596827
MEX:REFLECTANCE_OFFSET = 0.0883688
/* IMAGE OBJECT DEFINITIONS */
OBJECT = IMAGE
  INTERCHANGE_FORMAT = BINARY
  LINES = 39472
  LINE_SAMPLES = 6352
  SAMPLE_TYPE = UNSIGNED_INTEGER
  SAMPLE_BITS = 8
  BANDS = 1
  BAND_STORAGE_TYPE = BAND_SEQUENTIAL
  MAXIMUM = 255
  MEAN = 112.852
  MINIMUM = 1
  STANDARD_DEVIATION = 27.2257
END_OBJECT = IMAGE
/* MAP OBJECT DEFINITIONS */
OBJECT = IMAGE_MAP_PROJECTION
  ^DATA_SET_MAP_PROJECTION_CATALOG= "DSMAP.CAT"
  A_AXIS_RADIUS = 3396.0
  B_AXIS_RADIUS = 3396.0
  C_AXIS_RADIUS = 3396.0
  CENTER_LATITUDE = 0.0
  CENTER_LONGITUDE = 253.0
  COORDINATE_SYSTEM_NAME = PLANETOGRAPHIC
  COORDINATE_SYSTEM_TYPE = "BODY-FIXED ROTATING"
  EASTERNMOST_LONGITUDE = 253.319
  FIRST_STANDARD_PARALLEL = "N/A"
  LINE_FIRST_PIXEL = 1
  LINE_LAST_PIXEL = 39472
  LINE_PROJECTION_OFFSET = -144081.0
  MAP_PROJECTION_ROTATION = 0.0
  MAP_PROJECTION_TYPE = SINUSOIDAL
  MAP_RESOLUTION = 4741.71043093333
  MAP_SCALE = 0.0125
  MAXIMUM_LATITUDE = -30.4285
  MINIMUM_LATITUDE = -38.777
  POSITIVE_LONGITUDE_DIRECTION = EAST
  REFERENCE_LATITUDE = "N/A"
  REFERENCE_LONGITUDE = "N/A"
  SAMPLE_FIRST_PIXEL = 1
  SAMPLE_LAST_PIXEL = 6352
  SAMPLE_PROJECTION_OFFSET = 4952.0
  SECOND_STANDARD_PARALLEL = "N/A"
  WESTERNMOST_LONGITUDE = 251.698
END_OBJECT = IMAGE_MAP_PROJECTION
/* The JPEG2000 image data file associated with this label. */
OBJECT = COMPRESSED_FILE
  FILE_NAME = "HI875_0000_S23.JP2"
  RECORD_TYPE = UNDEFINED
  FILE_RECORDS = UNK
  ENCODING_TYPE = "JP2"
  INTERCHANGE_FORMAT = BINARY
  UNCOMPRESSED_FILE_NAME = "HI875_0000_S23.IMG"
  REQUIRED_STORAGE_BYTES = "250757904"
  ^DESCRIPTION = "JP2INFO.TXT"
END_OBJECT = COMPRESSED_FILE
END
