PDS_VERSION_ID = PDS3
/* FILE DATA ELEMENTS */
RECORD_TYPE = STREAM
/* POINTERS TO DATA OBJECTS */
^COMPRESSED_FILE = "HI883_0000_ND3.JP2"
/* IDENTIFICATION DATA ELEMENTS */
DATA_SET_ID = "MEX-M-HRSC-5-REFDR-MAPPROJECTED-V3.0"
DATA_SET_NAME = "MARS EXPRESS HRSC MAP PROJECTED REFDR V3.0"
DETECTOR_ID = MEX_HRSC_NADIR
EVENT_TYPE = "MARS-REGIONAL-MAPPING-Vo-Fl-Eo"
INSTRUMENT_HOST_ID = MEX
INSTRUMENT_HOST_NAME = "MARS EXPRESS"
INSTRUMENT_ID = HRSC
INSTRUMENT_NAME = "HIGH RESOLUTION STEREO CAMERA"
MISSION_NAME = "MARS EXPRESS"
MISSION_PHASE_NAME = ME_Phase_39
PROCESSING_LEVEL_ID = 3
PRODUCT_CREATION_TIME = 2019-02-22T11:38:04.000Z
PRODUCT_ID = "HI883_0000_ND3.JP2"
RELEASE_ID = 0143
REVISION_ID = 0000
/* QUALITY DATA ELEMENTS */
DATA_QUALITY_ID = 1
DATA_QUALITY_DESC = "Data calculated based on original SPICE kernels"
/* TIME DATA ELEMENTS */
SPACECRAFT_CLOCK_START_COUNT = "1/0492053775.25695"
SPACECRAFT_CLOCK_STOP_COUNT = "1/0492053991.41945"
START_TIME = 2018-12-05T01:37:19.142Z
STOP_TIME = 2018-12-05T01:39:51.138Z
/* ORBITAL DATA ELEMENTS */
ASCENDING_NODE_LONGITUDE = 219.92
MAXIMUM_RESOLUTION = 13.2
FOOTPRINT_POINT_LATITUDE = (-41.9371,-41.9252,-41.9057,-41.7041, -41.5024,-41.3007,-41.0989,-40.897, -40.695,-40.493,-40.2909,-40.0887, -39.8865,-39.6842,-39.4819,-39.2795, -38.9787,-38.5867,-38.1944,-37.8022, -37.4097,-37.2134,-37.0171,-36.8207, -36.6242,-36.4278,-36.2314,-35.9368, -35.7403,-35.5438,-35.3473,-35.1508, -34.9543,-34.7577,-34.5611,-34.3646, -34.0697,-33.8731,-33.6765,-33.4799, -33.2834,-33.0868,-32.8903,-32.6937, -32.4972,-32.3006,-32.1041,-32.0003, -32.0056,-32.0087,-32.0129,-32.2098, -32.4066,-32.6035,-32.8004,-32.9973, -33.1942,-33.3912,-33.5881,-33.785, -34.0804,-34.2774,-34.4743,-34.7697, -34.9667,-35.1636,-35.459,-35.6559, -35.8527,-36.0496,-36.2465,-36.4433, -36.6402,-36.837,-37.0337,-37.2305, -37.4272,-37.6239,-37.8206,-38.0172, -38.2138,-38.4104,-38.6069,-38.8034, -38.9999,-39.3011,-39.504,-39.7069, -39.9097,-40.1124,-40.3151,-40.5177, -40.7203,-40.9228,-41.1252,-41.3276, -41.53,-41.7322,-41.9344,-41.9371)
FOOTPRINT_POINT_LONGITUDE = (155.452,154.95,154.287,154.299,154.312 ,154.325,154.337,154.35,154.362,154.373 ,154.385,154.396,154.408,154.419, 154.431,154.441,154.458,154.478,154.494 ,154.516,154.534,154.542,154.551, 154.559,154.564,154.572,154.58,154.596, 154.603,154.61,154.617,154.624,154.631, 154.638,154.644,154.65,154.66,154.666, 154.672,154.677,154.684,154.689,154.694 ,154.7,154.705,154.71,154.715,155.048, 155.416,155.673,156.096,156.093,156.091 ,156.088,156.086,156.083,156.08,156.078 ,156.075,156.072,156.068,156.065, 156.062,156.058,156.055,156.052,156.047 ,156.044,156.041,156.038,156.035, 156.031,156.028,156.025,156.021,156.018 ,156.014,156.011,156.007,156.004,156.0, 155.997,155.993,155.989,155.986,155.979 ,155.975,155.971,155.967,155.963, 155.958,155.954,155.949,155.945,155.94, 155.936,155.931,155.926,155.922, 155.452)
ORBIT_NUMBER = 18883
ORBITAL_ECCENTRICITY = 0.578
ORBITAL_INCLINATION = 86.96
ORBITAL_SEMIMAJOR_AXIS = 8816.34
PERIAPSIS_ALTITUDE = 332.17
PERIAPSIS_ARGUMENT_ANGLE = 325.37
PERIAPSIS_TIME = 2018-12-05T01:39:12.000Z
SPACECRAFT_ORIENTATION = (0.0,1.0,0.0)
^MEX_ORIENTATION_DESC = "MEX_ORIENTATION_DESC.TXT"
SPACECRAFT_POINTING_MODE = ACROSSTRACK
^MEX_POINTING_DESC = "MEX_POINTING_DESC.TXT"
RIGHT_ASCENSION = -1e+32
DECLINATION = -1e+32
OFFSET_ANGLE = 0.458
SPACECRAFT_SOLAR_DISTANCE = 2.13021e+08
TARGET_NAME = MARS
/* CAMERA DATA ELEMENTS */
DETECTOR_TEMPERATURE = 18.5744
FOCAL_PLANE_TEMPERATURE = 9.6028
INST_CMPRS_NAME = "DISCRETE COSINE TRANSFORMATION (DCT)"
INST_CMPRS_RATIO = 5.76098
INST_CMPRS_QUALITY = 0
INST_CMPRS_QUANTZ_TBL_ID = 0
INSTRUMENT_TEMPERATURE = 11.6418
LENS_TEMPERATURE = 10.2145
MACROPIXEL_SIZE = 1
MISSING_FRAMES = 0
PIXEL_SUBSAMPLING_FLAG = N
SIGNAL_CHAIN_ID = 0
/* RADIOMETRIC DATA ELEMENTS */
BANDWIDTH = 177.0
CENTER_FILTER_WAVELENGTH = 677.5
RADIANCE_OFFSET = 3.43102
RADIANCE_SCALING_FACTOR = 0.0205944
REFLECTANCE_SCALING_FACTOR = 0.000496453
MEX:REFLECTANCE_OFFSET = 0.0827091
/* IMAGE OBJECT DEFINITIONS */
OBJECT = IMAGE
  INTERCHANGE_FORMAT = BINARY
  LINES = 47194
  LINE_SAMPLES = 7088
  SAMPLE_TYPE = UNSIGNED_INTEGER
  SAMPLE_BITS = 8
  BANDS = 1
  BAND_STORAGE_TYPE = BAND_SEQUENTIAL
  MAXIMUM = 255
  MEAN = 139.137
  MINIMUM = 1
  STANDARD_DEVIATION = 34.3471
END_OBJECT = IMAGE
/* MAP OBJECT DEFINITIONS */
OBJECT = IMAGE_MAP_PROJECTION
  ^DATA_SET_MAP_PROJECTION_CATALOG= "DSMAP.CAT"
  A_AXIS_RADIUS = 3396.0
  B_AXIS_RADIUS = 3396.0
  C_AXIS_RADIUS = 3396.0
  CENTER_LATITUDE = 0.0
  CENTER_LONGITUDE = 155.0
  COORDINATE_SYSTEM_NAME = PLANETOGRAPHIC
  COORDINATE_SYSTEM_TYPE = "BODY-FIXED ROTATING"
  EASTERNMOST_LONGITUDE = 156.096
  FIRST_STANDARD_PARALLEL = "N/A"
  LINE_FIRST_PIXEL = 1
  LINE_LAST_PIXEL = 47194
  LINE_PROJECTION_OFFSET = -151704.0
  MAP_PROJECTION_ROTATION = 0.0
  MAP_PROJECTION_TYPE = SINUSOIDAL
  MAP_RESOLUTION = 4741.71043093333
  MAP_SCALE = 0.0125
  MAXIMUM_LATITUDE = -32.0003
  MINIMUM_LATITUDE = -41.9371
  POSITIVE_LONGITUDE_DIRECTION = EAST
  REFERENCE_LATITUDE = "N/A"
  REFERENCE_LONGITUDE = "N/A"
  SAMPLE_FIRST_PIXEL = 1
  SAMPLE_LAST_PIXEL = 7088
  SAMPLE_PROJECTION_OFFSET = 2651.0
  SECOND_STANDARD_PARALLEL = "N/A"
  WESTERNMOST_LONGITUDE = 154.287
END_OBJECT = IMAGE_MAP_PROJECTION
/* The JPEG2000 image data file associated with this label. */
OBJECT = COMPRESSED_FILE
  FILE_NAME = "HI883_0000_ND3.JP2"
  RECORD_TYPE = UNDEFINED
  FILE_RECORDS = UNK
  ENCODING_TYPE = "JP2"
  INTERCHANGE_FORMAT = BINARY
  UNCOMPRESSED_FILE_NAME = "HI883_0000_ND3.IMG"
  REQUIRED_STORAGE_BYTES = "334546512"
  ^DESCRIPTION = "JP2INFO.TXT"
END_OBJECT = COMPRESSED_FILE
END
