PDS_VERSION_ID = PDS3
/* FILE DATA ELEMENTS */
RECORD_TYPE = STREAM
/* POINTERS TO DATA OBJECTS */
^COMPRESSED_FILE = "HI886_0000_ND3.JP2"
/* IDENTIFICATION DATA ELEMENTS */
DATA_SET_ID = "MEX-M-HRSC-5-REFDR-MAPPROJECTED-V3.0"
DATA_SET_NAME = "MARS EXPRESS HRSC MAP PROJECTED REFDR V3.0"
DETECTOR_ID = MEX_HRSC_NADIR
EVENT_TYPE = "MARS-REGIONAL-MAPPING-Te-Im-Fl"
INSTRUMENT_HOST_ID = MEX
INSTRUMENT_HOST_NAME = "MARS EXPRESS"
INSTRUMENT_ID = HRSC
INSTRUMENT_NAME = "HIGH RESOLUTION STEREO CAMERA"
MISSION_NAME = "MARS EXPRESS"
MISSION_PHASE_NAME = ME_Phase_39
PROCESSING_LEVEL_ID = 3
PRODUCT_CREATION_TIME = 2019-02-22T11:38:04.000Z
PRODUCT_ID = "HI886_0000_ND3.JP2"
RELEASE_ID = 0143
REVISION_ID = 0000
/* QUALITY DATA ELEMENTS */
DATA_QUALITY_ID = 1
DATA_QUALITY_DESC = "Data calculated based on original SPICE kernels"
/* TIME DATA ELEMENTS */
SPACECRAFT_CLOCK_START_COUNT = "1/0492129219.25679"
SPACECRAFT_CLOCK_STOP_COUNT = "1/0492129388.56285"
START_TIME = 2018-12-05T22:34:41.889Z
STOP_TIME = 2018-12-05T22:36:28.900Z
/* ORBITAL DATA ELEMENTS */
ASCENDING_NODE_LONGITUDE = 219.87
MAXIMUM_RESOLUTION = 13.2
FOOTPRINT_POINT_LATITUDE = (-40.3486,-40.3442,-40.338,-40.3309, -40.3245,-40.0457,-39.7669,-39.488, -39.209,-38.9299,-38.6508,-38.5112, -38.3715,-38.2319,-38.0922,-37.9525, -37.8128,-37.6731,-37.5334,-37.3937, -37.2539,-37.1142,-36.9744,-36.8346, -36.6948,-36.555,-36.4152,-36.2754, -36.1355,-35.9957,-35.8558,-35.716, -35.5761,-35.4363,-35.2964,-35.0866, -34.9467,-34.7369,-34.597,-34.4572, -34.2473,-34.1075,-33.9676,-33.8277, -33.6879,-33.548,-33.3309,-33.3337, -33.3369,-33.339,-33.3413,-33.3434, -33.4835,-33.6236,-33.8337,-33.9738, -34.184,-34.3241,-34.5342,-34.6743, -34.8845,-35.0246,-35.1647,-35.3048, -35.4449,-35.585,-35.7251,-35.8652, -36.0052,-36.1453,-36.2854,-36.4255, -36.5655,-36.7056,-36.8456,-36.9857, -37.1257,-37.2657,-37.4057,-37.5457, -37.6857,-37.8257,-37.9656,-38.1056, -38.2455,-38.3854,-38.5253,-38.6652, -38.8051,-38.9449,-39.0847,-39.2246, -39.3643,-39.5041,-39.6439,-39.7836, -39.9233,-40.063,-40.2027,-40.3486)
FOOTPRINT_POINT_LONGITUDE = (210.077,209.734,209.346,208.973, 208.697,208.71,208.722,208.734,208.745, 208.757,208.767,208.773,208.778,208.783 ,208.788,208.793,208.798,208.802, 208.808,208.813,208.817,208.822,208.826 ,208.831,208.836,208.84,208.844,208.849 ,208.853,208.857,208.861,208.865, 208.869,208.873,208.877,208.883,208.886 ,208.891,208.895,208.899,208.904, 208.907,208.911,208.914,208.917,208.92, 208.966,209.17,209.441,209.659,209.944, 210.305,210.304,210.302,210.3,210.3, 210.299,210.298,210.297,210.296,210.294 ,210.293,210.292,210.291,210.29,210.289 ,210.288,210.287,210.286,210.285, 210.283,210.282,210.281,210.28,210.279, 210.277,210.276,210.275,210.274,210.272 ,210.271,210.269,210.268,210.267, 210.266,210.264,210.263,210.261,210.258 ,210.259,210.257,210.256,210.253, 210.251,210.25,210.248,210.247,210.245, 210.243,210.077)
ORBIT_NUMBER = 18886
ORBITAL_ECCENTRICITY = 0.578
ORBITAL_INCLINATION = 86.97
ORBITAL_SEMIMAJOR_AXIS = 8814.41
PERIAPSIS_ALTITUDE = 331.18
PERIAPSIS_ARGUMENT_ANGLE = 324.82
PERIAPSIS_TIME = 2018-12-05T22:36:02.000Z
SPACECRAFT_ORIENTATION = (0.0,1.0,0.0)
^MEX_ORIENTATION_DESC = "MEX_ORIENTATION_DESC.TXT"
SPACECRAFT_POINTING_MODE = NADIR
^MEX_POINTING_DESC = "MEX_POINTING_DESC.TXT"
RIGHT_ASCENSION = -1e+32
DECLINATION = -1e+32
OFFSET_ANGLE = -1e+32
SPACECRAFT_SOLAR_DISTANCE = 2.13151e+08
TARGET_NAME = MARS
/* CAMERA DATA ELEMENTS */
DETECTOR_TEMPERATURE = 18.3705
FOCAL_PLANE_TEMPERATURE = 10.0106
INST_CMPRS_NAME = "DISCRETE COSINE TRANSFORMATION (DCT)"
INST_CMPRS_RATIO = 5.82946
INST_CMPRS_QUALITY = 0
INST_CMPRS_QUANTZ_TBL_ID = 0
INSTRUMENT_TEMPERATURE = 12.4574
LENS_TEMPERATURE = 10.2145
MACROPIXEL_SIZE = 1
MISSING_FRAMES = 0
PIXEL_SUBSAMPLING_FLAG = N
SIGNAL_CHAIN_ID = 0
/* RADIOMETRIC DATA ELEMENTS */
BANDWIDTH = 177.0
CENTER_FILTER_WAVELENGTH = 677.5
RADIANCE_OFFSET = 3.29754
RADIANCE_SCALING_FACTOR = 0.0162624
REFLECTANCE_SCALING_FACTOR = 0.000392502
MEX:REFLECTANCE_OFFSET = 0.0795881
/* IMAGE OBJECT DEFINITIONS */
OBJECT = IMAGE
  INTERCHANGE_FORMAT = BINARY
  LINES = 33286
  LINE_SAMPLES = 6159
  SAMPLE_TYPE = UNSIGNED_INTEGER
  SAMPLE_BITS = 8
  BANDS = 1
  BAND_STORAGE_TYPE = BAND_SEQUENTIAL
  MAXIMUM = 255
  MEAN = 122.354
  MINIMUM = 1
  STANDARD_DEVIATION = 43.3656
END_OBJECT = IMAGE
/* MAP OBJECT DEFINITIONS */
OBJECT = IMAGE_MAP_PROJECTION
  ^DATA_SET_MAP_PROJECTION_CATALOG= "DSMAP.CAT"
  A_AXIS_RADIUS = 3396.0
  B_AXIS_RADIUS = 3396.0
  C_AXIS_RADIUS = 3396.0
  CENTER_LATITUDE = 0.0
  CENTER_LONGITUDE = 210.0
  COORDINATE_SYSTEM_NAME = PLANETOGRAPHIC
  COORDINATE_SYSTEM_TYPE = "BODY-FIXED ROTATING"
  EASTERNMOST_LONGITUDE = 210.305
  FIRST_STANDARD_PARALLEL = "N/A"
  LINE_FIRST_PIXEL = 1
  LINE_LAST_PIXEL = 33286
  LINE_PROJECTION_OFFSET = -158045.0
  MAP_PROJECTION_ROTATION = 0.0
  MAP_PROJECTION_TYPE = SINUSOIDAL
  MAP_RESOLUTION = 4741.71043093333
  MAP_SCALE = 0.0125
  MAXIMUM_LATITUDE = -33.3309
  MINIMUM_LATITUDE = -40.3486
  POSITIVE_LONGITUDE_DIRECTION = EAST
  REFERENCE_LATITUDE = "N/A"
  REFERENCE_LONGITUDE = "N/A"
  SAMPLE_FIRST_PIXEL = 1
  SAMPLE_LAST_PIXEL = 6159
  SAMPLE_PROJECTION_OFFSET = 4813.0
  SECOND_STANDARD_PARALLEL = "N/A"
  WESTERNMOST_LONGITUDE = 208.697
END_OBJECT = IMAGE_MAP_PROJECTION
/* The JPEG2000 image data file associated with this label. */
OBJECT = COMPRESSED_FILE
  FILE_NAME = "HI886_0000_ND3.JP2"
  RECORD_TYPE = UNDEFINED
  FILE_RECORDS = UNK
  ENCODING_TYPE = "JP2"
  INTERCHANGE_FORMAT = BINARY
  UNCOMPRESSED_FILE_NAME = "HI886_0000_ND3.IMG"
  REQUIRED_STORAGE_BYTES = "205039269"
  ^DESCRIPTION = "JP2INFO.TXT"
END_OBJECT = COMPRESSED_FILE
END
