PDS_VERSION_ID = PDS3
/* FILE DATA ELEMENTS */
RECORD_TYPE = STREAM
/* POINTERS TO DATA OBJECTS */
^COMPRESSED_FILE = "HI890_0000_ND3.JP2"
/* IDENTIFICATION DATA ELEMENTS */
DATA_SET_ID = "MEX-M-HRSC-5-REFDR-MAPPROJECTED-V3.0"
DATA_SET_NAME = "MARS EXPRESS HRSC MAP PROJECTED REFDR V3.0"
DETECTOR_ID = MEX_HRSC_NADIR
EVENT_TYPE = "MARS-REGIONAL-MAPPING-Vo-Im"
INSTRUMENT_HOST_ID = MEX
INSTRUMENT_HOST_NAME = "MARS EXPRESS"
INSTRUMENT_ID = HRSC
INSTRUMENT_NAME = "HIGH RESOLUTION STEREO CAMERA"
MISSION_NAME = "MARS EXPRESS"
MISSION_PHASE_NAME = ME_Phase_39
PROCESSING_LEVEL_ID = 3
PRODUCT_CREATION_TIME = 2019-02-22T11:38:04.000Z
PRODUCT_ID = "HI890_0000_ND3.JP2"
RELEASE_ID = 0143
REVISION_ID = 0000
/* QUALITY DATA ELEMENTS */
DATA_QUALITY_ID = 1
DATA_QUALITY_DESC = "Data calculated based on original SPICE kernels"
/* TIME DATA ELEMENTS */
SPACECRAFT_CLOCK_START_COUNT = "1/0492229605.24928"
SPACECRAFT_CLOCK_STOP_COUNT = "1/0492229798.56698"
START_TIME = 2018-12-07T02:27:54.787Z
STOP_TIME = 2018-12-07T02:29:57.770Z
/* ORBITAL DATA ELEMENTS */
ASCENDING_NODE_LONGITUDE = 219.79
MAXIMUM_RESOLUTION = 13.9
FOOTPRINT_POINT_LATITUDE = (-51.8311,-51.8261,-51.82,-51.813, -51.8051,-51.7963,-51.7864,-51.6136, -51.4408,-51.2678,-51.0947,-50.9215, -50.7482,-50.5748,-50.4012,-50.2276, -50.0539,-49.88,-49.7061,-49.532, -49.3578,-49.1836,-49.0092,-48.8348, -48.6602,-48.3992,-48.1062,-47.813, -47.5195,-47.2258,-46.9318,-46.6376, -46.3432,-46.1959,-46.0485,-45.9011, -45.7536,-45.6061,-45.4585,-45.3109, -45.1632,-45.0155,-44.8677,-44.7199, -44.572,-44.4241,-44.2761,-44.1281, -43.8887,-43.8929,-43.8977,-43.9026, -43.9052,-43.9085,-43.9103,-44.1329, -44.2812,-44.4296,-44.5778,-44.7261, -44.8742,-45.0224,-45.1705,-45.3185, -45.4665,-45.6144,-45.7623,-45.9102, -46.058,-46.2057,-46.3534,-46.5011, -46.6486,-46.7962,-46.9437,-47.0911, -47.2384,-47.533,-47.8274,-48.1215, -48.4153,-48.6735,-48.8486,-49.0236, -49.1985,-49.3734,-49.5481,-49.7228, -49.8973,-50.0717,-50.2461,-50.4204, -50.5946,-50.7686,-50.9425,-51.1163, -51.2901,-51.4637,-51.6372,-51.8311)
FOOTPRINT_POINT_LONGITUDE = (162.154,161.809,161.465,161.124, 160.786,160.449,160.118,160.136,160.152 ,160.169,160.186,160.202,160.218, 160.234,160.249,160.265,160.28,160.295, 160.31,160.324,160.339,160.353,160.367, 160.38,160.394,160.414,160.436,160.457, 160.478,160.498,160.518,160.537,160.556 ,160.565,160.574,160.583,160.592, 160.601,160.609,160.618,160.626,160.634 ,160.643,160.651,160.659,160.666, 160.674,160.682,160.792,161.007,161.289 ,161.623,161.842,162.18,162.393,162.394 ,162.393,162.393,162.392,162.392, 162.391,162.39,162.39,162.389,162.388, 162.388,162.387,162.386,162.385,162.385 ,162.384,162.383,162.382,162.381,162.38 ,162.379,162.378,162.377,162.376, 162.374,162.372,162.37,162.369,162.367, 162.366,162.365,162.362,162.36,162.358, 162.355,162.356,162.357,162.356,162.354 ,162.349,162.342,162.345,162.342, 162.337,162.154)
ORBIT_NUMBER = 18890
ORBITAL_ECCENTRICITY = 0.578
ORBITAL_INCLINATION = 86.96
ORBITAL_SEMIMAJOR_AXIS = 8813.62
PERIAPSIS_ALTITUDE = 331.82
PERIAPSIS_ARGUMENT_ANGLE = 324.17
PERIAPSIS_TIME = 2018-12-07T02:32:02.000Z
SPACECRAFT_ORIENTATION = (0.0,1.0,0.0)
^MEX_ORIENTATION_DESC = "MEX_ORIENTATION_DESC.TXT"
SPACECRAFT_POINTING_MODE = ACROSSTRACK
^MEX_POINTING_DESC = "MEX_POINTING_DESC.TXT"
RIGHT_ASCENSION = -1e+32
DECLINATION = -1e+32
OFFSET_ANGLE = -0.5
SPACECRAFT_SOLAR_DISTANCE = 2.13326e+08
TARGET_NAME = MARS
/* CAMERA DATA ELEMENTS */
DETECTOR_TEMPERATURE = 18.5744
FOCAL_PLANE_TEMPERATURE = 9.3989
INST_CMPRS_NAME = "DISCRETE COSINE TRANSFORMATION (DCT)"
INST_CMPRS_RATIO = 5.98907
INST_CMPRS_QUALITY = 0
INST_CMPRS_QUANTZ_TBL_ID = 0
INSTRUMENT_TEMPERATURE = 11.8457
LENS_TEMPERATURE = 10.0106
MACROPIXEL_SIZE = 1
MISSING_FRAMES = 0
PIXEL_SUBSAMPLING_FLAG = N
SIGNAL_CHAIN_ID = 0
/* RADIOMETRIC DATA ELEMENTS */
BANDWIDTH = 177.0
CENTER_FILTER_WAVELENGTH = 677.5
RADIANCE_OFFSET = 3.98938
RADIANCE_SCALING_FACTOR = 0.0207061
REFLECTANCE_SCALING_FACTOR = 0.000500577
MEX:REFLECTANCE_OFFSET = 0.0964444
/* IMAGE OBJECT DEFINITIONS */
OBJECT = IMAGE
  INTERCHANGE_FORMAT = BINARY
  LINES = 37677
  LINE_SAMPLES = 7541
  SAMPLE_TYPE = UNSIGNED_INTEGER
  SAMPLE_BITS = 8
  BANDS = 1
  BAND_STORAGE_TYPE = BAND_SEQUENTIAL
  MAXIMUM = 255
  MEAN = 117.736
  MINIMUM = 1
  STANDARD_DEVIATION = 33.2015
END_OBJECT = IMAGE
/* MAP OBJECT DEFINITIONS */
OBJECT = IMAGE_MAP_PROJECTION
  ^DATA_SET_MAP_PROJECTION_CATALOG= "DSMAP.CAT"
  A_AXIS_RADIUS = 3396.0
  B_AXIS_RADIUS = 3396.0
  C_AXIS_RADIUS = 3396.0
  CENTER_LATITUDE = 0.0
  CENTER_LONGITUDE = 161.0
  COORDINATE_SYSTEM_NAME = PLANETOGRAPHIC
  COORDINATE_SYSTEM_TYPE = "BODY-FIXED ROTATING"
  EASTERNMOST_LONGITUDE = 162.394
  FIRST_STANDARD_PARALLEL = "N/A"
  LINE_FIRST_PIXEL = 1
  LINE_LAST_PIXEL = 37677
  LINE_PROJECTION_OFFSET = -208100.0
  MAP_PROJECTION_ROTATION = 0.0
  MAP_PROJECTION_TYPE = SINUSOIDAL
  MAP_RESOLUTION = 4741.71043093333
  MAP_SCALE = 0.0125
  MAXIMUM_LATITUDE = -43.8887
  MINIMUM_LATITUDE = -51.8311
  POSITIVE_LONGITUDE_DIRECTION = EAST
  REFERENCE_LATITUDE = "N/A"
  REFERENCE_LONGITUDE = "N/A"
  SAMPLE_FIRST_PIXEL = 1
  SAMPLE_LAST_PIXEL = 7541
  SAMPLE_PROJECTION_OFFSET = 2565.0
  SECOND_STANDARD_PARALLEL = "N/A"
  WESTERNMOST_LONGITUDE = 160.118
END_OBJECT = IMAGE_MAP_PROJECTION
/* The JPEG2000 image data file associated with this label. */
OBJECT = COMPRESSED_FILE
  FILE_NAME = "HI890_0000_ND3.JP2"
  RECORD_TYPE = UNDEFINED
  FILE_RECORDS = UNK
  ENCODING_TYPE = "JP2"
  INTERCHANGE_FORMAT = BINARY
  UNCOMPRESSED_FILE_NAME = "HI890_0000_ND3.IMG"
  REQUIRED_STORAGE_BYTES = "284152421"
  ^DESCRIPTION = "JP2INFO.TXT"
END_OBJECT = COMPRESSED_FILE
END
