PDS_VERSION_ID = PDS3
/* FILE DATA ELEMENTS */
RECORD_TYPE = STREAM
/* POINTERS TO DATA OBJECTS */
^COMPRESSED_FILE = "HI890_0000_P13.JP2"
/* IDENTIFICATION DATA ELEMENTS */
DATA_SET_ID = "MEX-M-HRSC-5-REFDR-MAPPROJECTED-V3.0"
DATA_SET_NAME = "MARS EXPRESS HRSC MAP PROJECTED REFDR V3.0"
DETECTOR_ID = MEX_HRSC_P1
EVENT_TYPE = "MARS-REGIONAL-MAPPING-Vo-Im"
INSTRUMENT_HOST_ID = MEX
INSTRUMENT_HOST_NAME = "MARS EXPRESS"
INSTRUMENT_ID = HRSC
INSTRUMENT_NAME = "HIGH RESOLUTION STEREO CAMERA"
MISSION_NAME = "MARS EXPRESS"
MISSION_PHASE_NAME = ME_Phase_39
PROCESSING_LEVEL_ID = 3
PRODUCT_CREATION_TIME = 2019-02-22T11:38:04.000Z
PRODUCT_ID = "HI890_0000_P13.JP2"
RELEASE_ID = 0143
REVISION_ID = 0000
/* QUALITY DATA ELEMENTS */
DATA_QUALITY_ID = 1
DATA_QUALITY_DESC = "Data calculated based on original SPICE kernels"
/* TIME DATA ELEMENTS */
SPACECRAFT_CLOCK_START_COUNT = "1/0492229605.24928"
SPACECRAFT_CLOCK_STOP_COUNT = "1/0492229798.56698"
START_TIME = 2018-12-07T02:28:17.802Z
STOP_TIME = 2018-12-07T02:30:18.161Z
/* ORBITAL DATA ELEMENTS */
ASCENDING_NODE_LONGITUDE = 219.79
MAXIMUM_RESOLUTION = 28.2
FOOTPRINT_POINT_LATITUDE = (-51.7982,-51.7893,-51.7797,-51.7694, -51.7584,-51.7468,-51.7345,-51.5022, -51.2332,-51.054,-50.8745,-50.6953, -50.5159,-50.3362,-50.1565,-49.9766, -49.7989,-49.4974,-49.2711,-49.0443, -48.8175,-48.5911,-48.4398,-48.2132, -48.0619,-47.9106,-47.7595,-47.6082, -47.4568,-47.3055,-47.0781,-46.8506, -46.6988,-46.4714,-46.3196,-46.1681, -46.0171,-45.8659,-45.7147,-45.5636, -45.4121,-45.185,-45.0335,-44.8818, -44.6544,-44.5026,-44.3511,-44.199, -44.0476,-43.8701,-43.8785,-43.8863, -43.897,-43.904,-43.9121,-43.9925, -44.1453,-44.2974,-44.4495,-44.6015, -44.7533,-44.9811,-45.133,-45.2851, -45.4367,-45.5885,-45.7405,-45.8925, -46.044,-46.2718,-46.4993,-46.651, -46.8027,-46.9542,-47.106,-47.3336, -47.5619,-47.7899,-47.9418,-48.1693, -48.321,-48.4723,-48.6239,-48.7755, -48.9266,-49.1537,-49.3057,-49.457, -49.7587,-49.9162,-50.0959,-50.2791, -50.4617,-50.6426,-50.8224,-50.9972, -51.1791,-51.36,-51.5376,-51.7982)
FOOTPRINT_POINT_LONGITUDE = (162.207,161.875,161.545,161.218, 160.893,160.57,160.248,160.178,160.203, 160.22,160.236,160.252,160.268,160.283, 160.299,160.314,160.329,160.353,160.371 ,160.389,160.406,160.423,160.434, 160.451,160.461,160.472,160.483,160.493 ,160.503,160.513,160.528,160.543, 160.553,160.567,160.576,160.585,160.594 ,160.603,160.612,160.62,160.629,160.641 ,160.649,160.658,160.67,160.677,160.685 ,160.693,160.7,160.772,161.013,161.254, 161.611,161.857,162.203,162.391,162.391 ,162.391,162.39,162.39,162.389,162.387, 162.387,162.386,162.385,162.384,162.383 ,162.382,162.381,162.379,162.378, 162.376,162.375,162.374,162.373,162.371 ,162.37,162.369,162.368,162.366,162.365 ,162.363,162.362,162.36,162.358,162.356 ,162.355,162.354,162.349,162.346, 162.343,162.345,162.345,162.344,162.341 ,162.332,162.331,162.33,162.324, 162.207)
ORBIT_NUMBER = 18890
ORBITAL_ECCENTRICITY = 0.578
ORBITAL_INCLINATION = 86.96
ORBITAL_SEMIMAJOR_AXIS = 8813.62
PERIAPSIS_ALTITUDE = 331.82
PERIAPSIS_ARGUMENT_ANGLE = 324.17
PERIAPSIS_TIME = 2018-12-07T02:32:02.000Z
SPACECRAFT_ORIENTATION = (0.0,1.0,0.0)
^MEX_ORIENTATION_DESC = "MEX_ORIENTATION_DESC.TXT"
SPACECRAFT_POINTING_MODE = ACROSSTRACK
^MEX_POINTING_DESC = "MEX_POINTING_DESC.TXT"
RIGHT_ASCENSION = -1e+32
DECLINATION = -1e+32
OFFSET_ANGLE = -0.5
SPACECRAFT_SOLAR_DISTANCE = 2.13326e+08
TARGET_NAME = MARS
/* CAMERA DATA ELEMENTS */
DETECTOR_TEMPERATURE = 17.7588
FOCAL_PLANE_TEMPERATURE = 9.3989
INST_CMPRS_NAME = "DISCRETE COSINE TRANSFORMATION (DCT)"
INST_CMPRS_RATIO = 7.86503
INST_CMPRS_QUALITY = 0
INST_CMPRS_QUANTZ_TBL_ID = 0
INSTRUMENT_TEMPERATURE = 11.8457
LENS_TEMPERATURE = 10.0106
MACROPIXEL_SIZE = 2
MISSING_FRAMES = 0
PIXEL_SUBSAMPLING_FLAG = N
SIGNAL_CHAIN_ID = 3
/* RADIOMETRIC DATA ELEMENTS */
BANDWIDTH = 174.0
CENTER_FILTER_WAVELENGTH = 675.0
RADIANCE_OFFSET = 4.36511
RADIANCE_SCALING_FACTOR = 0.0199711
REFLECTANCE_SCALING_FACTOR = 0.000488847
MEX:REFLECTANCE_OFFSET = 0.106848
/* IMAGE OBJECT DEFINITIONS */
OBJECT = IMAGE
  INTERCHANGE_FORMAT = BINARY
  LINES = 18839
  LINE_SAMPLES = 3771
  SAMPLE_TYPE = UNSIGNED_INTEGER
  SAMPLE_BITS = 8
  BANDS = 1
  BAND_STORAGE_TYPE = BAND_SEQUENTIAL
  MAXIMUM = 255
  MEAN = 123.175
  MINIMUM = 1
  STANDARD_DEVIATION = 33.5617
END_OBJECT = IMAGE
/* MAP OBJECT DEFINITIONS */
OBJECT = IMAGE_MAP_PROJECTION
  ^DATA_SET_MAP_PROJECTION_CATALOG= "DSMAP.CAT"
  A_AXIS_RADIUS = 3396.0
  B_AXIS_RADIUS = 3396.0
  C_AXIS_RADIUS = 3396.0
  CENTER_LATITUDE = 0.0
  CENTER_LONGITUDE = 161.0
  COORDINATE_SYSTEM_NAME = PLANETOGRAPHIC
  COORDINATE_SYSTEM_TYPE = "BODY-FIXED ROTATING"
  EASTERNMOST_LONGITUDE = 162.391
  FIRST_STANDARD_PARALLEL = "N/A"
  LINE_FIRST_PIXEL = 1
  LINE_LAST_PIXEL = 18839
  LINE_PROJECTION_OFFSET = -104050.25
  MAP_PROJECTION_ROTATION = 0.0
  MAP_PROJECTION_TYPE = SINUSOIDAL
  MAP_RESOLUTION = 2370.85521546667
  MAP_SCALE = 0.025
  MAXIMUM_LATITUDE = -43.8701
  MINIMUM_LATITUDE = -51.7982
  POSITIVE_LONGITUDE_DIRECTION = EAST
  REFERENCE_LATITUDE = "N/A"
  REFERENCE_LONGITUDE = "N/A"
  SAMPLE_FIRST_PIXEL = 1
  SAMPLE_LAST_PIXEL = 3771
  SAMPLE_PROJECTION_OFFSET = 1282.25
  SECOND_STANDARD_PARALLEL = "N/A"
  WESTERNMOST_LONGITUDE = 160.178
END_OBJECT = IMAGE_MAP_PROJECTION
/* The JPEG2000 image data file associated with this label. */
OBJECT = COMPRESSED_FILE
  FILE_NAME = "HI890_0000_P13.JP2"
  RECORD_TYPE = UNDEFINED
  FILE_RECORDS = UNK
  ENCODING_TYPE = "JP2"
  INTERCHANGE_FORMAT = BINARY
  UNCOMPRESSED_FILE_NAME = "HI890_0000_P13.IMG"
  REQUIRED_STORAGE_BYTES = "71064495"
  ^DESCRIPTION = "JP2INFO.TXT"
END_OBJECT = COMPRESSED_FILE
END
