PDS_VERSION_ID = PDS3
/* FILE DATA ELEMENTS */
RECORD_TYPE = STREAM
/* POINTERS TO DATA OBJECTS */
^COMPRESSED_FILE = "HI891_0000_P13.JP2"
/* IDENTIFICATION DATA ELEMENTS */
DATA_SET_ID = "MEX-M-HRSC-5-REFDR-MAPPROJECTED-V3.0"
DATA_SET_NAME = "MARS EXPRESS HRSC MAP PROJECTED REFDR V3.0"
DETECTOR_ID = MEX_HRSC_P1
EVENT_TYPE = "MARS-REGIONAL-STEREO-Gl-Pf-La"
INSTRUMENT_HOST_ID = MEX
INSTRUMENT_HOST_NAME = "MARS EXPRESS"
INSTRUMENT_ID = HRSC
INSTRUMENT_NAME = "HIGH RESOLUTION STEREO CAMERA"
MISSION_NAME = "MARS EXPRESS"
MISSION_PHASE_NAME = ME_Phase_39
PROCESSING_LEVEL_ID = 3
PRODUCT_CREATION_TIME = 2019-02-22T11:38:04.000Z
PRODUCT_ID = "HI891_0000_P13.JP2"
RELEASE_ID = 0143
REVISION_ID = 0000
/* QUALITY DATA ELEMENTS */
DATA_QUALITY_ID = 1
DATA_QUALITY_DESC = "Data calculated based on original SPICE kernels"
/* TIME DATA ELEMENTS */
SPACECRAFT_CLOCK_START_COUNT = "1/0492254861.24549"
SPACECRAFT_CLOCK_STOP_COUNT = "1/0492255102.04886"
START_TIME = 2018-12-07T09:29:06.125Z
STOP_TIME = 2018-12-07T09:29:35.426Z
/* ORBITAL DATA ELEMENTS */
ASCENDING_NODE_LONGITUDE = 219.78
MAXIMUM_RESOLUTION = 28.4
FOOTPRINT_POINT_LATITUDE = (-44.589,-44.5858,-44.5839,-44.5821, -44.5802,-44.5782,-44.5763,-44.5743, -44.5722,-44.5702,-44.5681,-44.566, -44.5639,-44.5618,-44.5596,-44.5574, -44.5552,-44.553,-44.5507,-44.5485, -44.5462,-44.5439,-44.5415,-44.5392, -44.5368,-44.5344,-44.5995,-44.5228, -44.446,-44.3312,-44.2735,-44.1969, -44.1203,-44.0241,-43.9666,-43.871, -43.7945,-43.6986,-43.6217,-43.5255, -43.4486,-43.372,-43.2762,-43.1995, -43.1037,-43.027,-42.9502,-42.8925, -42.8157,-42.7392,-42.6686,-42.6709, -42.673,-42.6758,-42.6782,-42.6804, -42.6826,-42.6853,-42.6872,-42.6895, -42.6915,-42.6937,-42.6976,-42.6996, -42.7024,-42.7049,-42.7073,-42.7093, -42.7111,-42.7135,-42.7156,-42.7183, -42.7208,-42.7606,-42.8374,-42.9142, -42.9906,-43.0675,-43.1061,-43.164, -43.2408,-43.337,-43.4139,-43.4714, -43.5482,-43.6057,-43.6825,-43.7593, -43.8362,-43.9327,-44.048,-44.1056, -44.1823,-44.2783,-44.3358,-44.4127, -44.5086,-44.5473,-44.6433,-44.589)
FOOTPRINT_POINT_LONGITUDE = (60.5411,60.4241,60.3575,60.2911, 60.2248,60.1587,60.0928,60.027,59.9613, 59.8958,59.8304,59.7653,59.7003,59.6355 ,59.5708,59.5063,59.4419,59.3777, 59.3137,59.2498,59.186,59.1222,59.0587, 58.9953,58.9321,58.869,58.8702,58.8737, 58.8772,58.8824,58.8849,58.8883,58.8917 ,58.8958,58.8983,58.9025,58.9058, 58.9098,58.913,58.9169,58.92,58.9231, 58.927,58.9301,58.9339,58.9369,58.9398, 58.942,58.945,58.9479,58.9506,59.0132, 59.0765,59.156,59.2198,59.2837,59.3478, 59.4121,59.4762,59.5407,59.6052,59.6701 ,59.784,59.8492,59.9311,60.0132,60.0955 ,60.1615,60.2275,60.3104,60.3935, 60.4935,60.5939,60.6335,60.6335,60.6335 ,60.6331,60.6332,60.6335,60.634,60.634, 60.6343,60.6344,60.6344,60.6344,60.6342 ,60.6343,60.6343,60.6343,60.635,60.6352 ,60.6351,60.635,60.6349,60.6349,60.635, 60.6347,60.6352,60.6351,60.5411)
ORBIT_NUMBER = 18891
ORBITAL_ECCENTRICITY = 0.578
ORBITAL_INCLINATION = 86.97
ORBITAL_SEMIMAJOR_AXIS = 8817.04
PERIAPSIS_ALTITUDE = 330.83
PERIAPSIS_ARGUMENT_ANGLE = 323.98
PERIAPSIS_TIME = 2018-12-07T09:30:58.000Z
SPACECRAFT_ORIENTATION = (0.0,1.0,0.0)
^MEX_ORIENTATION_DESC = "MEX_ORIENTATION_DESC.TXT"
SPACECRAFT_POINTING_MODE = ACROSSTRACK
^MEX_POINTING_DESC = "MEX_POINTING_DESC.TXT"
RIGHT_ASCENSION = -1e+32
DECLINATION = -1e+32
OFFSET_ANGLE = -0.7
SPACECRAFT_SOLAR_DISTANCE = 2.1337e+08
TARGET_NAME = MARS
/* CAMERA DATA ELEMENTS */
DETECTOR_TEMPERATURE = 0.0
FOCAL_PLANE_TEMPERATURE = 0.0
INST_CMPRS_NAME = "DISCRETE COSINE TRANSFORMATION (DCT)"
INST_CMPRS_RATIO = 10.7413
INST_CMPRS_QUALITY = 0
INST_CMPRS_QUANTZ_TBL_ID = 0
INSTRUMENT_TEMPERATURE = 0.0
LENS_TEMPERATURE = 0.0
MACROPIXEL_SIZE = 2
MISSING_FRAMES = 0
PIXEL_SUBSAMPLING_FLAG = N
SIGNAL_CHAIN_ID = 3
/* RADIOMETRIC DATA ELEMENTS */
BANDWIDTH = 174.0
CENTER_FILTER_WAVELENGTH = 675.0
RADIANCE_OFFSET = 7.75788
RADIANCE_SCALING_FACTOR = 0.0124871
REFLECTANCE_SCALING_FACTOR = 0.000305783
MEX:REFLECTANCE_OFFSET = 0.189974
/* IMAGE OBJECT DEFINITIONS */
OBJECT = IMAGE
  INTERCHANGE_FORMAT = BINARY
  LINES = 7775
  LINE_SAMPLES = 3116
  SAMPLE_TYPE = UNSIGNED_INTEGER
  SAMPLE_BITS = 8
  BANDS = 1
  BAND_STORAGE_TYPE = BAND_SEQUENTIAL
  MAXIMUM = 255
  MEAN = 194.441
  MINIMUM = 1
  STANDARD_DEVIATION = 24.4795
END_OBJECT = IMAGE
/* MAP OBJECT DEFINITIONS */
OBJECT = IMAGE_MAP_PROJECTION
  ^DATA_SET_MAP_PROJECTION_CATALOG= "DSMAP.CAT"
  A_AXIS_RADIUS = 3396.0
  B_AXIS_RADIUS = 3396.0
  C_AXIS_RADIUS = 3396.0
  CENTER_LATITUDE = 0.0
  CENTER_LONGITUDE = 60.0
  COORDINATE_SYSTEM_NAME = PLANETOGRAPHIC
  COORDINATE_SYSTEM_TYPE = "BODY-FIXED ROTATING"
  EASTERNMOST_LONGITUDE = 60.6352
  FIRST_STANDARD_PARALLEL = "N/A"
  LINE_FIRST_PIXEL = 1
  LINE_LAST_PIXEL = 7775
  LINE_PROJECTION_OFFSET = -98001.25
  MAP_PROJECTION_ROTATION = 0.0
  MAP_PROJECTION_TYPE = SINUSOIDAL
  MAP_RESOLUTION = 2370.85521546667
  MAP_SCALE = 0.025
  MAXIMUM_LATITUDE = -42.6686
  MINIMUM_LATITUDE = -44.6433
  POSITIVE_LONGITUDE_DIRECTION = EAST
  REFERENCE_LATITUDE = "N/A"
  REFERENCE_LONGITUDE = "N/A"
  SAMPLE_FIRST_PIXEL = 1
  SAMPLE_LAST_PIXEL = 3116
  SAMPLE_PROJECTION_OFFSET = 1947.75
  SECOND_STANDARD_PARALLEL = "N/A"
  WESTERNMOST_LONGITUDE = 58.869
END_OBJECT = IMAGE_MAP_PROJECTION
/* The JPEG2000 image data file associated with this label. */
OBJECT = COMPRESSED_FILE
  FILE_NAME = "HI891_0000_P13.JP2"
  RECORD_TYPE = UNDEFINED
  FILE_RECORDS = UNK
  ENCODING_TYPE = "JP2"
  INTERCHANGE_FORMAT = BINARY
  UNCOMPRESSED_FILE_NAME = "HI891_0000_P13.IMG"
  REQUIRED_STORAGE_BYTES = "24251828"
  ^DESCRIPTION = "JP2INFO.TXT"
END_OBJECT = COMPRESSED_FILE
END
