PDS_VERSION_ID = PDS3
/* FILE DATA ELEMENTS */
RECORD_TYPE = STREAM
/* POINTERS TO DATA OBJECTS */
^COMPRESSED_FILE = "HI894_0000_P23.JP2"
/* IDENTIFICATION DATA ELEMENTS */
DATA_SET_ID = "MEX-M-HRSC-5-REFDR-MAPPROJECTED-V3.0"
DATA_SET_NAME = "MARS EXPRESS HRSC MAP PROJECTED REFDR V3.0"
DETECTOR_ID = MEX_HRSC_P2
EVENT_TYPE = "MARS-REGIONAL-MAPPING-Vo-Im"
INSTRUMENT_HOST_ID = MEX
INSTRUMENT_HOST_NAME = "MARS EXPRESS"
INSTRUMENT_ID = HRSC
INSTRUMENT_NAME = "HIGH RESOLUTION STEREO CAMERA"
MISSION_NAME = "MARS EXPRESS"
MISSION_PHASE_NAME = ME_Phase_39
PROCESSING_LEVEL_ID = 3
PRODUCT_CREATION_TIME = 2019-02-22T11:38:04.000Z
PRODUCT_ID = "HI894_0000_P23.JP2"
RELEASE_ID = 0143
REVISION_ID = 0000
/* QUALITY DATA ELEMENTS */
DATA_QUALITY_ID = 1
DATA_QUALITY_DESC = "Data calculated based on original SPICE kernels"
/* TIME DATA ELEMENTS */
SPACECRAFT_CLOCK_START_COUNT = "1/0492330370.23948"
SPACECRAFT_CLOCK_STOP_COUNT = "1/0492330585.46990"
START_TIME = 2018-12-08T06:26:52.502Z
STOP_TIME = 2018-12-08T06:29:24.262Z
/* ORBITAL DATA ELEMENTS */
ASCENDING_NODE_LONGITUDE = 219.72
MAXIMUM_RESOLUTION = 27.1
FOOTPRINT_POINT_LATITUDE = (-38.941,-38.9354,-38.9293,-38.9225, -38.9151,-38.7791,-38.4841,-38.2878, -38.0921,-37.895,-37.6977,-37.4019, -37.2043,-36.908,-36.7109,-36.4153, -36.1184,-35.8226,-35.5253,-35.327, -35.0296,-34.8312,-34.6331,-34.4346, -34.2365,-34.0379,-33.7404,-33.5413, -33.343,-33.1442,-32.9457,-32.7464, -32.448,-32.2491,-32.0499,-31.8509, -31.6514,-31.3525,-31.1539,-30.9546, -30.6557,-30.4563,-30.2568,-30.0575, -29.8578,-29.5585,-29.3589,-29.0596, -28.9623,-28.9668,-28.9707,-28.9755, -28.9798,-29.1791,-29.4786,-29.6783, -29.8779,-30.0777,-30.2779,-30.4779, -30.6777,-30.977,-31.1767,-31.3761, -31.5758,-31.7753,-31.9741,-32.1733, -32.3724,-32.5722,-32.771,-32.9707, -33.1703,-33.3694,-33.6677,-33.8668, -34.1649,-34.3638,-34.5625,-34.7612, -34.9597,-35.1581,-35.3568,-35.6561, -35.9516,-36.1499,-36.3475,-36.5454, -36.7435,-36.9414,-37.1395,-37.3372, -37.6337,-37.8315,-38.0308,-38.2266, -38.4186,-38.6152,-38.9091,-38.941)
FOOTPRINT_POINT_LONGITUDE = (112.611,112.383,112.155,111.927, 111.697,111.459,111.472,111.481,111.49, 111.498,111.506,111.518,111.525,111.537 ,111.544,111.556,111.566,111.576, 111.586,111.592,111.601,111.607,111.613 ,111.619,111.625,111.63,111.638,111.643 ,111.648,111.653,111.658,111.663, 111.669,111.674,111.678,111.682,111.686 ,111.691,111.695,111.699,111.704, 111.707,111.71,111.713,111.716,111.72, 111.723,111.727,112.016,112.237,112.446 ,112.757,113.071,113.07,113.067,113.066 ,113.064,113.062,113.061,113.059, 113.057,113.054,113.052,113.051,113.049 ,113.047,113.045,113.043,113.042, 113.039,113.038,113.035,113.033,113.031 ,113.028,113.026,113.023,113.02,113.018 ,113.016,113.014,113.011,113.009, 113.005,113.002,112.999,112.997,112.995 ,112.992,112.989,112.987,112.984,112.98 ,112.977,112.973,112.971,112.97,112.967 ,112.964,112.611)
ORBIT_NUMBER = 18894
ORBITAL_ECCENTRICITY = 0.578
ORBITAL_INCLINATION = 86.96
ORBITAL_SEMIMAJOR_AXIS = 8817.54
PERIAPSIS_ALTITUDE = 330.6
PERIAPSIS_ARGUMENT_ANGLE = 323.45
PERIAPSIS_TIME = 2018-12-08T06:27:50.000Z
SPACECRAFT_ORIENTATION = (0.0,1.0,0.0)
^MEX_ORIENTATION_DESC = "MEX_ORIENTATION_DESC.TXT"
SPACECRAFT_POINTING_MODE = ACROSSTRACK
^MEX_POINTING_DESC = "MEX_POINTING_DESC.TXT"
RIGHT_ASCENSION = -1e+32
DECLINATION = -1e+32
OFFSET_ANGLE = 0.229
SPACECRAFT_SOLAR_DISTANCE = 2.13503e+08
TARGET_NAME = MARS
/* CAMERA DATA ELEMENTS */
DETECTOR_TEMPERATURE = 18.1666
FOCAL_PLANE_TEMPERATURE = 10.2145
INST_CMPRS_NAME = "DISCRETE COSINE TRANSFORMATION (DCT)"
INST_CMPRS_RATIO = 6.04201
INST_CMPRS_QUALITY = 0
INST_CMPRS_QUANTZ_TBL_ID = 0
INSTRUMENT_TEMPERATURE = 12.2535
LENS_TEMPERATURE = 10.4184
MACROPIXEL_SIZE = 2
MISSING_FRAMES = 0
PIXEL_SUBSAMPLING_FLAG = N
SIGNAL_CHAIN_ID = 3
/* RADIOMETRIC DATA ELEMENTS */
BANDWIDTH = 177.0
CENTER_FILTER_WAVELENGTH = 676.5
RADIANCE_OFFSET = 4.16653
RADIANCE_SCALING_FACTOR = 0.0257747
REFLECTANCE_SCALING_FACTOR = 0.000622957
MEX:REFLECTANCE_OFFSET = 0.100702
/* IMAGE OBJECT DEFINITIONS */
OBJECT = IMAGE
  INTERCHANGE_FORMAT = BINARY
  LINES = 23612
  LINE_SAMPLES = 3339
  SAMPLE_TYPE = UNSIGNED_INTEGER
  SAMPLE_BITS = 8
  BANDS = 1
  BAND_STORAGE_TYPE = BAND_SEQUENTIAL
  MAXIMUM = 255
  MEAN = 142.766
  MINIMUM = 1
  STANDARD_DEVIATION = 41.9776
END_OBJECT = IMAGE
/* MAP OBJECT DEFINITIONS */
OBJECT = IMAGE_MAP_PROJECTION
  ^DATA_SET_MAP_PROJECTION_CATALOG= "DSMAP.CAT"
  A_AXIS_RADIUS = 3396.0
  B_AXIS_RADIUS = 3396.0
  C_AXIS_RADIUS = 3396.0
  CENTER_LATITUDE = 0.0
  CENTER_LONGITUDE = 112.0
  COORDINATE_SYSTEM_NAME = PLANETOGRAPHIC
  COORDINATE_SYSTEM_TYPE = "BODY-FIXED ROTATING"
  EASTERNMOST_LONGITUDE = 113.071
  FIRST_STANDARD_PARALLEL = "N/A"
  LINE_FIRST_PIXEL = 1
  LINE_LAST_PIXEL = 23612
  LINE_PROJECTION_OFFSET = -68619.75
  MAP_PROJECTION_ROTATION = 0.0
  MAP_PROJECTION_TYPE = SINUSOIDAL
  MAP_RESOLUTION = 2370.85521546667
  MAP_SCALE = 0.025
  MAXIMUM_LATITUDE = -28.9623
  MINIMUM_LATITUDE = -38.941
  POSITIVE_LONGITUDE_DIRECTION = EAST
  REFERENCE_LATITUDE = "N/A"
  REFERENCE_LONGITUDE = "N/A"
  SAMPLE_FIRST_PIXEL = 1
  SAMPLE_LAST_PIXEL = 3339
  SAMPLE_PROJECTION_OFFSET = 1055.25
  SECOND_STANDARD_PARALLEL = "N/A"
  WESTERNMOST_LONGITUDE = 111.459
END_OBJECT = IMAGE_MAP_PROJECTION
/* The JPEG2000 image data file associated with this label. */
OBJECT = COMPRESSED_FILE
  FILE_NAME = "HI894_0000_P23.JP2"
  RECORD_TYPE = UNDEFINED
  FILE_RECORDS = UNK
  ENCODING_TYPE = "JP2"
  INTERCHANGE_FORMAT = BINARY
  UNCOMPRESSED_FILE_NAME = "HI894_0000_P23.IMG"
  REQUIRED_STORAGE_BYTES = "78863841"
  ^DESCRIPTION = "JP2INFO.TXT"
END_OBJECT = COMPRESSED_FILE
END
