PDS_VERSION_ID = PDS3
/* FILE DATA ELEMENTS */
RECORD_TYPE = STREAM
/* POINTERS TO DATA OBJECTS */
^COMPRESSED_FILE = "HI898_0000_S13.JP2"
/* IDENTIFICATION DATA ELEMENTS */
DATA_SET_ID = "MEX-M-HRSC-5-REFDR-MAPPROJECTED-V3.0"
DATA_SET_NAME = "MARS EXPRESS HRSC MAP PROJECTED REFDR V3.0"
DETECTOR_ID = MEX_HRSC_S1
EVENT_TYPE = "MARS-REGIONAL-STEREO-Im-Gl-Mw"
INSTRUMENT_HOST_ID = MEX
INSTRUMENT_HOST_NAME = "MARS EXPRESS"
INSTRUMENT_ID = HRSC
INSTRUMENT_NAME = "HIGH RESOLUTION STEREO CAMERA"
MISSION_NAME = "MARS EXPRESS"
MISSION_PHASE_NAME = ME_Phase_39
PROCESSING_LEVEL_ID = 3
PRODUCT_CREATION_TIME = 2019-02-22T11:38:04.000Z
PRODUCT_ID = "HI898_0000_S13.JP2"
RELEASE_ID = 0143
REVISION_ID = 0000
/* QUALITY DATA ELEMENTS */
DATA_QUALITY_ID = 1
DATA_QUALITY_DESC = "Data calculated based on original SPICE kernels"
/* TIME DATA ELEMENTS */
SPACECRAFT_CLOCK_START_COUNT = "1/0492430978.23991"
SPACECRAFT_CLOCK_STOP_COUNT = "1/0492431138.08374"
START_TIME = 2018-12-09T10:24:29.156Z
STOP_TIME = 2018-12-09T10:26:07.761Z
/* ORBITAL DATA ELEMENTS */
ASCENDING_NODE_LONGITUDE = 219.65
MAXIMUM_RESOLUTION = 14.4
FOOTPRINT_POINT_LATITUDE = (-35.9057,-35.9014,-35.8969,-35.8922, -35.8873,-35.8822,-35.9598,-35.8343, -35.6441,-35.5173,-35.327,-35.2012, -35.0749,-34.949,-34.7604,-34.5127, -34.3858,-34.2597,-34.0709,-33.8818, -33.7563,-33.6297,-33.5037,-33.2547, -33.1294,-33.0036,-32.8155,-32.6863, -32.5606,-32.3757,-32.252,-32.1271, -31.9969,-31.8006,-31.6751,-31.5472, -31.4182,-31.2894,-31.1604,-31.0317, -30.9007,-30.771,-30.6426,-30.5149, -30.3868,-30.259,-30.1309,-30.0027, -29.8727,-29.744,-29.6066,-29.6096, -29.6146,-29.6208,-29.6241,-29.6285, -29.6979,-29.8269,-30.0201,-30.1482, -30.2768,-30.4046,-30.5331,-30.6615, -30.8538,-30.9822,-31.11,-31.2391, -31.4328,-31.5599,-31.6891,-31.818, -31.947,-32.1409,-32.2661,-32.4538, -32.5793,-32.7044,-32.83,-32.9557, -33.0823,-33.2076,-33.3363,-33.4627, -33.7109,-33.8997,-34.0903,-34.2169, -34.406,-34.5352,-34.7265,-34.9158, -35.1625,-35.2892,-35.4796,-35.6064, -35.7331,-35.8582,-35.9856,-35.9057)
FOOTPRINT_POINT_LONGITUDE = (64.9265,64.7025,64.4792,64.2568, 64.0351,63.8139,63.6772,63.6796,63.6837 ,63.6863,63.6903,63.6926,63.695,63.6973 ,63.7006,63.7039,63.7063,63.7084, 63.7114,63.7144,63.7163,63.7183,63.7203 ,63.7233,63.7249,63.7266,63.729,63.7314 ,63.733,63.7345,63.7355,63.7368,63.7387 ,63.7413,63.7417,63.7426,63.7438, 63.7449,63.746,63.747,63.7485,63.7497, 63.7506,63.7513,63.752,63.7527,63.7534, 63.7541,63.7551,63.7559,63.8553,64.0368 ,64.2606,64.5417,64.7113,64.9522, 65.1873,65.1872,65.1868,65.1862,65.1857 ,65.1848,65.1843,65.1836,65.1824, 65.1816,65.1805,65.18,65.1793,65.1776, 65.177,65.1763,65.1755,65.1751,65.1745, 65.1733,65.1727,65.1719,65.1713,65.1707 ,65.1705,65.1696,65.1704,65.17,65.1667, 65.1656,65.1652,65.1647,65.1635,65.1643 ,65.1641,65.1627,65.1578,65.157,65.156, 65.1552,65.1543,65.1526,65.152,64.9265)
ORBIT_NUMBER = 18898
ORBITAL_ECCENTRICITY = 0.578
ORBITAL_INCLINATION = 86.98
ORBITAL_SEMIMAJOR_AXIS = 8814.9
PERIAPSIS_ALTITUDE = 330.29
PERIAPSIS_ARGUMENT_ANGLE = 322.77
PERIAPSIS_TIME = 2018-12-09T10:23:42.000Z
SPACECRAFT_ORIENTATION = (0.0,1.0,0.0)
^MEX_ORIENTATION_DESC = "MEX_ORIENTATION_DESC.TXT"
SPACECRAFT_POINTING_MODE = ACROSSTRACK
^MEX_POINTING_DESC = "MEX_POINTING_DESC.TXT"
RIGHT_ASCENSION = -1e+32
DECLINATION = -1e+32
OFFSET_ANGLE = -0.229
SPACECRAFT_SOLAR_DISTANCE = 2.13682e+08
TARGET_NAME = MARS
/* CAMERA DATA ELEMENTS */
DETECTOR_TEMPERATURE = 19.1861
FOCAL_PLANE_TEMPERATURE = 11.0301
INST_CMPRS_NAME = "DISCRETE COSINE TRANSFORMATION (DCT)"
INST_CMPRS_RATIO = 8.28154
INST_CMPRS_QUALITY = 0
INST_CMPRS_QUANTZ_TBL_ID = 0
INSTRUMENT_TEMPERATURE = 12.8652
LENS_TEMPERATURE = 11.4379
MACROPIXEL_SIZE = 1
MISSING_FRAMES = 0
PIXEL_SUBSAMPLING_FLAG = N
SIGNAL_CHAIN_ID = 2
/* RADIOMETRIC DATA ELEMENTS */
BANDWIDTH = 180.0
CENTER_FILTER_WAVELENGTH = 677.0
RADIANCE_OFFSET = 6.38937
RADIANCE_SCALING_FACTOR = 0.0191024
REFLECTANCE_SCALING_FACTOR = 0.000455055
MEX:REFLECTANCE_OFFSET = 0.152207
/* IMAGE OBJECT DEFINITIONS */
OBJECT = IMAGE
  INTERCHANGE_FORMAT = BINARY
  LINES = 30123
  LINE_SAMPLES = 6139
  SAMPLE_TYPE = UNSIGNED_INTEGER
  SAMPLE_BITS = 8
  BANDS = 1
  BAND_STORAGE_TYPE = BAND_SEQUENTIAL
  MAXIMUM = 255
  MEAN = 179.126
  MINIMUM = 1
  STANDARD_DEVIATION = 30.9963
END_OBJECT = IMAGE
/* MAP OBJECT DEFINITIONS */
OBJECT = IMAGE_MAP_PROJECTION
  ^DATA_SET_MAP_PROJECTION_CATALOG= "DSMAP.CAT"
  A_AXIS_RADIUS = 3396.0
  B_AXIS_RADIUS = 3396.0
  C_AXIS_RADIUS = 3396.0
  CENTER_LATITUDE = 0.0
  CENTER_LONGITUDE = 64.0
  COORDINATE_SYSTEM_NAME = PLANETOGRAPHIC
  COORDINATE_SYSTEM_TYPE = "BODY-FIXED ROTATING"
  EASTERNMOST_LONGITUDE = 65.18729999999999
  FIRST_STANDARD_PARALLEL = "N/A"
  LINE_FIRST_PIXEL = 1
  LINE_LAST_PIXEL = 30123
  LINE_PROJECTION_OFFSET = -140337.0
  MAP_PROJECTION_ROTATION = 0.0
  MAP_PROJECTION_TYPE = SINUSOIDAL
  MAP_RESOLUTION = 4741.71043093333
  MAP_SCALE = 0.0125
  MAXIMUM_LATITUDE = -29.6066
  MINIMUM_LATITUDE = -35.9856
  POSITIVE_LONGITUDE_DIRECTION = EAST
  REFERENCE_LATITUDE = "N/A"
  REFERENCE_LONGITUDE = "N/A"
  SAMPLE_FIRST_PIXEL = 1
  SAMPLE_LAST_PIXEL = 6139
  SAMPLE_PROJECTION_OFFSET = 1233.0
  SECOND_STANDARD_PARALLEL = "N/A"
  WESTERNMOST_LONGITUDE = 63.6772
END_OBJECT = IMAGE_MAP_PROJECTION
/* The JPEG2000 image data file associated with this label. */
OBJECT = COMPRESSED_FILE
  FILE_NAME = "HI898_0000_S13.JP2"
  RECORD_TYPE = UNDEFINED
  FILE_RECORDS = UNK
  ENCODING_TYPE = "JP2"
  INTERCHANGE_FORMAT = BINARY
  UNCOMPRESSED_FILE_NAME = "HI898_0000_S13.IMG"
  REQUIRED_STORAGE_BYTES = "184955792"
  ^DESCRIPTION = "JP2INFO.TXT"
END_OBJECT = COMPRESSED_FILE
END
