PDS_VERSION_ID = PDS3
/* FILE DATA ELEMENTS */
RECORD_TYPE = STREAM
/* POINTERS TO DATA OBJECTS */
^COMPRESSED_FILE = "HI899_0000_S23.JP2"
/* IDENTIFICATION DATA ELEMENTS */
DATA_SET_ID = "MEX-M-HRSC-5-REFDR-MAPPROJECTED-V3.0"
DATA_SET_NAME = "MARS EXPRESS HRSC MAP PROJECTED REFDR V3.0"
DETECTOR_ID = MEX_HRSC_S2
EVENT_TYPE = "MARS-REGIONAL-MAPPING-Im-Fl"
INSTRUMENT_HOST_ID = MEX
INSTRUMENT_HOST_NAME = "MARS EXPRESS"
INSTRUMENT_ID = HRSC
INSTRUMENT_NAME = "HIGH RESOLUTION STEREO CAMERA"
MISSION_NAME = "MARS EXPRESS"
MISSION_PHASE_NAME = ME_Phase_39
PROCESSING_LEVEL_ID = 3
PRODUCT_CREATION_TIME = 2019-02-22T11:38:04.000Z
PRODUCT_ID = "HI899_0000_S23.JP2"
RELEASE_ID = 0143
REVISION_ID = 0000
/* QUALITY DATA ELEMENTS */
DATA_QUALITY_ID = 1
DATA_QUALITY_DESC = "Data calculated based on original SPICE kernels"
/* TIME DATA ELEMENTS */
SPACECRAFT_CLOCK_START_COUNT = "1/0492456019.25741"
SPACECRAFT_CLOCK_STOP_COUNT = "1/0492456203.09383"
START_TIME = 2018-12-09T17:20:51.081Z
STOP_TIME = 2018-12-09T17:22:53.532Z
/* ORBITAL DATA ELEMENTS */
ASCENDING_NODE_LONGITUDE = 219.63
MAXIMUM_RESOLUTION = 28
FOOTPRINT_POINT_LATITUDE = (-42.3079,-42.3032,-42.299,-42.2899, -42.2836,-42.2046,-41.9642,-41.8037, -41.6429,-41.4826,-41.3242,-41.0853, -40.8444,-40.6838,-40.5306,-40.3728, -40.1414,-39.9062,-39.7472,-39.5106, -39.3491,-39.1908,-39.0344,-38.8041, -38.6465,-38.4925,-38.3334,-38.096, -37.9371,-37.7798,-37.6262,-37.4693, -37.3097,-37.0759,-36.9184,-36.7544, -36.5944,-36.4368,-36.2781,-36.1191, -35.9615,-35.8027,-35.565,-35.4057, -35.2498,-35.0942,-34.936,-34.7787, -34.6201,-34.3825,-34.3084,-34.3131, -34.3162,-34.3205,-34.3228,-34.5633, -34.7239,-34.8825,-35.0353,-35.1907, -35.3447,-35.5011,-35.6585,-35.8182, -35.979,-36.1385,-36.3839,-36.547, -36.7032,-36.8604,-37.0183,-37.1769, -37.4142,-37.5732,-37.7295,-37.964, -38.1222,-38.3576,-38.5943,-38.7518, -38.9081,-39.0632,-39.2238,-39.3776, -39.5358,-39.7741,-39.9287,-40.0844, -40.2433,-40.4019,-40.5659,-40.7297, -40.89,-41.2007,-41.3615,-41.5287, -41.6885,-41.8485,-42.0062,-42.3079)
FOOTPRINT_POINT_LONGITUDE = (322.631,322.277,322.032,321.602, 321.356,321.02,321.033,321.042,321.05, 321.058,321.067,321.08,321.093,321.1, 321.111,321.118,321.129,321.14,321.146, 321.155,321.16,321.167,321.173,321.184, 321.19,321.198,321.203,321.212,321.217, 321.223,321.23,321.235,321.24,321.249, 321.255,321.258,321.262,321.267,321.272 ,321.277,321.282,321.286,321.293, 321.297,321.302,321.308,321.312,321.317 ,321.321,321.327,321.505,321.79,322.088 ,322.495,322.73,322.728,322.726,322.725 ,322.726,322.727,322.727,322.727, 322.727,322.725,322.723,322.721,322.717 ,322.714,322.713,322.712,322.711,322.71 ,322.707,322.706,322.705,322.704, 322.702,322.7,322.698,322.696,322.695, 322.695,322.692,322.691,322.689,322.686 ,322.685,322.684,322.681,322.678, 322.673,322.671,322.669,322.67,322.669, 322.664,322.663,322.661,322.66,322.631)
ORBIT_NUMBER = 18899
ORBITAL_ECCENTRICITY = 0.578
ORBITAL_INCLINATION = 86.98
ORBITAL_SEMIMAJOR_AXIS = 8809.55
PERIAPSIS_ALTITUDE = 330.85
PERIAPSIS_ARGUMENT_ANGLE = 322.61
PERIAPSIS_TIME = 2018-12-09T17:22:37.000Z
SPACECRAFT_ORIENTATION = (0.0,1.0,0.0)
^MEX_ORIENTATION_DESC = "MEX_ORIENTATION_DESC.TXT"
SPACECRAFT_POINTING_MODE = NADIR
^MEX_POINTING_DESC = "MEX_POINTING_DESC.TXT"
RIGHT_ASCENSION = -1e+32
DECLINATION = -1e+32
OFFSET_ANGLE = -1e+32
SPACECRAFT_SOLAR_DISTANCE = 2.13727e+08
TARGET_NAME = MARS
/* CAMERA DATA ELEMENTS */
DETECTOR_TEMPERATURE = 19.5939
FOCAL_PLANE_TEMPERATURE = 9.8067
INST_CMPRS_NAME = "DISCRETE COSINE TRANSFORMATION (DCT)"
INST_CMPRS_RATIO = 10.8503
INST_CMPRS_QUALITY = 0
INST_CMPRS_QUANTZ_TBL_ID = 0
INSTRUMENT_TEMPERATURE = 12.0496
LENS_TEMPERATURE = 10.0106
MACROPIXEL_SIZE = 2
MISSING_FRAMES = 0
PIXEL_SUBSAMPLING_FLAG = N
SIGNAL_CHAIN_ID = 1
/* RADIOMETRIC DATA ELEMENTS */
BANDWIDTH = 178.0
CENTER_FILTER_WAVELENGTH = 679.0
RADIANCE_OFFSET = 3.84928
RADIANCE_SCALING_FACTOR = 0.0223733
REFLECTANCE_SCALING_FACTOR = 0.000541222
MEX:REFLECTANCE_OFFSET = 0.0931162
/* IMAGE OBJECT DEFINITIONS */
OBJECT = IMAGE
  INTERCHANGE_FORMAT = BINARY
  LINES = 18830
  LINE_SAMPLES = 3219
  SAMPLE_TYPE = UNSIGNED_INTEGER
  SAMPLE_BITS = 8
  BANDS = 1
  BAND_STORAGE_TYPE = BAND_SEQUENTIAL
  MAXIMUM = 255
  MEAN = 152.397
  MINIMUM = 1
  STANDARD_DEVIATION = 31.0964
END_OBJECT = IMAGE
/* MAP OBJECT DEFINITIONS */
OBJECT = IMAGE_MAP_PROJECTION
  ^DATA_SET_MAP_PROJECTION_CATALOG= "DSMAP.CAT"
  A_AXIS_RADIUS = 3396.0
  B_AXIS_RADIUS = 3396.0
  C_AXIS_RADIUS = 3396.0
  CENTER_LATITUDE = 0.0
  CENTER_LONGITUDE = 322.0
  COORDINATE_SYSTEM_NAME = PLANETOGRAPHIC
  COORDINATE_SYSTEM_TYPE = "BODY-FIXED ROTATING"
  EASTERNMOST_LONGITUDE = 322.73
  FIRST_STANDARD_PARALLEL = "N/A"
  LINE_FIRST_PIXEL = 1
  LINE_LAST_PIXEL = 18830
  LINE_PROJECTION_OFFSET = -81305.75
  MAP_PROJECTION_ROTATION = 0.0
  MAP_PROJECTION_TYPE = SINUSOIDAL
  MAP_RESOLUTION = 2370.85521546667
  MAP_SCALE = 0.025
  MAXIMUM_LATITUDE = -34.3084
  MINIMUM_LATITUDE = -42.3079
  POSITIVE_LONGITUDE_DIRECTION = EAST
  REFERENCE_LATITUDE = "N/A"
  REFERENCE_LONGITUDE = "N/A"
  SAMPLE_FIRST_PIXEL = 1
  SAMPLE_LAST_PIXEL = 3219
  SAMPLE_PROJECTION_OFFSET = 1729.25
  SECOND_STANDARD_PARALLEL = "N/A"
  WESTERNMOST_LONGITUDE = 321.02
END_OBJECT = IMAGE_MAP_PROJECTION
/* The JPEG2000 image data file associated with this label. */
OBJECT = COMPRESSED_FILE
  FILE_NAME = "HI899_0000_S23.JP2"
  RECORD_TYPE = UNDEFINED
  FILE_RECORDS = UNK
  ENCODING_TYPE = "JP2"
  INTERCHANGE_FORMAT = BINARY
  UNCOMPRESSED_FILE_NAME = "HI899_0000_S23.IMG"
  REQUIRED_STORAGE_BYTES = "60636303"
  ^DESCRIPTION = "JP2INFO.TXT"
END_OBJECT = COMPRESSED_FILE
END
