PDS_VERSION_ID = PDS3
/* FILE DATA ELEMENTS */
RECORD_TYPE = STREAM
/* POINTERS TO DATA OBJECTS */
^COMPRESSED_FILE = "HI904_0000_IR3.JP2"
/* IDENTIFICATION DATA ELEMENTS */
DATA_SET_ID = "MEX-M-HRSC-5-REFDR-MAPPROJECTED-V3.0"
DATA_SET_NAME = "MARS EXPRESS HRSC MAP PROJECTED REFDR V3.0"
DETECTOR_ID = MEX_HRSC_IR
EVENT_TYPE = "MARS-REGIONAL-MAPPING-Im-Fl-Eo"
INSTRUMENT_HOST_ID = MEX
INSTRUMENT_HOST_NAME = "MARS EXPRESS"
INSTRUMENT_ID = HRSC
INSTRUMENT_NAME = "HIGH RESOLUTION STEREO CAMERA"
MISSION_NAME = "MARS EXPRESS"
MISSION_PHASE_NAME = ME_Phase_39
PROCESSING_LEVEL_ID = 3
PRODUCT_CREATION_TIME = 2019-02-22T11:38:04.000Z
PRODUCT_ID = "HI904_0000_IR3.JP2"
RELEASE_ID = 0143
REVISION_ID = 0000
/* QUALITY DATA ELEMENTS */
DATA_QUALITY_ID = 1
DATA_QUALITY_DESC = "Data calculated based on original SPICE kernels"
/* TIME DATA ELEMENTS */
SPACECRAFT_CLOCK_START_COUNT = "1/0492581674.23948"
SPACECRAFT_CLOCK_STOP_COUNT = "1/0492581860.41023"
START_TIME = 2018-12-11T04:16:03.033Z
STOP_TIME = 2018-12-11T04:18:05.290Z
/* ORBITAL DATA ELEMENTS */
ASCENDING_NODE_LONGITUDE = 219.53
MAXIMUM_RESOLUTION = 55.1
FOOTPRINT_POINT_LATITUDE = (-45.3262,-45.3231,-45.3196,-45.3156, -45.3113,-45.3067,-45.3418,-45.1736, -44.9228,-44.6822,-44.4425,-44.282, -44.1228,-43.9625,-43.8023,-43.6424, -43.4856,-43.3232,-43.083,-42.9227, -42.763,-42.5229,-42.3628,-42.2028, -41.9628,-41.7229,-41.5629,-41.4021, -41.1613,-41.0009,-40.8416,-40.6832, -40.5243,-40.3655,-40.2072,-40.0483, -39.8095,-39.6501,-39.4913,-39.3316, -39.1725,-39.0138,-38.8548,-38.696, -38.537,-38.2989,-38.1401,-37.9016, -37.7427,-37.5835,-37.4236,-37.3189, -37.3244,-37.3259,-37.3277,-37.3285, -37.4879,-37.6449,-37.8042,-38.043, -38.2023,-38.3617,-38.5208,-38.7596, -38.9187,-39.0779,-39.237,-39.4762, -39.6358,-39.7953,-39.9548,-40.1141, -40.354,-40.5937,-40.754,-40.9132, -41.0729,-41.2332,-41.4731,-41.6336, -41.8741,-42.1145,-42.2743,-42.437, -42.6004,-42.761,-43.0018,-43.2427, -43.4035,-43.5638,-43.7219,-44.0348, -44.1938,-44.4347,-44.5953,-44.7562, -44.9172,-45.0828,-45.2498,-45.3262)
FOOTPRINT_POINT_LONGITUDE = (171.492,171.249,171.005,170.76,170.515 ,170.269,170.004,170.017,170.036, 170.053,170.068,170.079,170.088,170.098 ,170.108,170.118,170.125,170.137, 170.151,170.16,170.169,170.183,170.192, 170.2,170.213,170.226,170.234,170.243, 170.256,170.264,170.271,170.278,170.285 ,170.292,170.298,170.305,170.315, 170.322,170.328,170.335,170.341,170.347 ,170.354,170.36,170.366,170.374,170.38, 170.389,170.394,170.4,170.406,170.723, 171.021,171.238,171.576,171.792,171.861 ,171.858,171.855,171.851,171.849, 171.846,171.843,171.839,171.836,171.833 ,171.83,171.825,171.822,171.819,171.816 ,171.812,171.808,171.803,171.8,171.796, 171.793,171.789,171.784,171.781,171.775 ,171.77,171.766,171.763,171.761,171.757 ,171.751,171.746,171.742,171.738, 171.733,171.722,171.717,171.711,171.707 ,171.702,171.698,171.694,171.69, 171.492)
ORBIT_NUMBER = 18904
ORBITAL_ECCENTRICITY = 0.578
ORBITAL_INCLINATION = 86.97
ORBITAL_SEMIMAJOR_AXIS = 8808.72
PERIAPSIS_ALTITUDE = 330.99
PERIAPSIS_ARGUMENT_ANGLE = 321.75
PERIAPSIS_TIME = 2018-12-11T04:17:29.000Z
SPACECRAFT_ORIENTATION = (0.0,1.0,0.0)
^MEX_ORIENTATION_DESC = "MEX_ORIENTATION_DESC.TXT"
SPACECRAFT_POINTING_MODE = ACROSSTRACK
^MEX_POINTING_DESC = "MEX_POINTING_DESC.TXT"
RIGHT_ASCENSION = -1e+32
DECLINATION = -1e+32
OFFSET_ANGLE = 0.17
SPACECRAFT_SOLAR_DISTANCE = 2.13953e+08
TARGET_NAME = MARS
/* CAMERA DATA ELEMENTS */
DETECTOR_TEMPERATURE = 17.351
FOCAL_PLANE_TEMPERATURE = 9.195
INST_CMPRS_NAME = "DISCRETE COSINE TRANSFORMATION (DCT)"
INST_CMPRS_RATIO = 8.73234
INST_CMPRS_QUALITY = 0
INST_CMPRS_QUANTZ_TBL_ID = 0
INSTRUMENT_TEMPERATURE = 11.234
LENS_TEMPERATURE = 10.0106
MACROPIXEL_SIZE = 4
MISSING_FRAMES = 0
PIXEL_SUBSAMPLING_FLAG = N
SIGNAL_CHAIN_ID = 2
/* RADIOMETRIC DATA ELEMENTS */
BANDWIDTH = 81.0
CENTER_FILTER_WAVELENGTH = 955.5
RADIANCE_OFFSET = 0.798115
RADIANCE_SCALING_FACTOR = 0.00778988
REFLECTANCE_SCALING_FACTOR = 0.000769295
MEX:REFLECTANCE_OFFSET = 0.0788184
/* IMAGE OBJECT DEFINITIONS */
OBJECT = IMAGE
  INTERCHANGE_FORMAT = BINARY
  LINES = 9565
  LINE_SAMPLES = 1694
  SAMPLE_TYPE = UNSIGNED_INTEGER
  SAMPLE_BITS = 8
  BANDS = 1
  BAND_STORAGE_TYPE = BAND_SEQUENTIAL
  MAXIMUM = 255
  MEAN = 140.778
  MINIMUM = 1
  STANDARD_DEVIATION = 46.3086
END_OBJECT = IMAGE
/* MAP OBJECT DEFINITIONS */
OBJECT = IMAGE_MAP_PROJECTION
  ^DATA_SET_MAP_PROJECTION_CATALOG= "DSMAP.CAT"
  A_AXIS_RADIUS = 3396.0
  B_AXIS_RADIUS = 3396.0
  C_AXIS_RADIUS = 3396.0
  CENTER_LATITUDE = 0.0
  CENTER_LONGITUDE = 171.0
  COORDINATE_SYSTEM_NAME = PLANETOGRAPHIC
  COORDINATE_SYSTEM_TYPE = "BODY-FIXED ROTATING"
  EASTERNMOST_LONGITUDE = 171.861
  FIRST_STANDARD_PARALLEL = "N/A"
  LINE_FIRST_PIXEL = 1
  LINE_LAST_PIXEL = 9565
  LINE_PROJECTION_OFFSET = -44239.875
  MAP_PROJECTION_ROTATION = 0.0
  MAP_PROJECTION_TYPE = SINUSOIDAL
  MAP_RESOLUTION = 1185.42760773333
  MAP_SCALE = 0.05
  MAXIMUM_LATITUDE = -37.3189
  MINIMUM_LATITUDE = -45.3418
  POSITIVE_LONGITUDE_DIRECTION = EAST
  REFERENCE_LATITUDE = "N/A"
  REFERENCE_LONGITUDE = "N/A"
  SAMPLE_FIRST_PIXEL = 1
  SAMPLE_LAST_PIXEL = 1694
  SAMPLE_PROJECTION_OFFSET = 865.625
  SECOND_STANDARD_PARALLEL = "N/A"
  WESTERNMOST_LONGITUDE = 170.004
END_OBJECT = IMAGE_MAP_PROJECTION
/* The JPEG2000 image data file associated with this label. */
OBJECT = COMPRESSED_FILE
  FILE_NAME = "HI904_0000_IR3.JP2"
  RECORD_TYPE = UNDEFINED
  FILE_RECORDS = UNK
  ENCODING_TYPE = "JP2"
  INTERCHANGE_FORMAT = BINARY
  UNCOMPRESSED_FILE_NAME = "HI904_0000_IR3.IMG"
  REQUIRED_STORAGE_BYTES = "16223438"
  ^DESCRIPTION = "JP2INFO.TXT"
END_OBJECT = COMPRESSED_FILE
END
