PDS_VERSION_ID = PDS3
/* FILE DATA ELEMENTS */
RECORD_TYPE = STREAM
/* POINTERS TO DATA OBJECTS */
^COMPRESSED_FILE = "HI904_0000_S23.JP2"
/* IDENTIFICATION DATA ELEMENTS */
DATA_SET_ID = "MEX-M-HRSC-5-REFDR-MAPPROJECTED-V3.0"
DATA_SET_NAME = "MARS EXPRESS HRSC MAP PROJECTED REFDR V3.0"
DETECTOR_ID = MEX_HRSC_S2
EVENT_TYPE = "MARS-REGIONAL-MAPPING-Im-Fl-Eo"
INSTRUMENT_HOST_ID = MEX
INSTRUMENT_HOST_NAME = "MARS EXPRESS"
INSTRUMENT_ID = HRSC
INSTRUMENT_NAME = "HIGH RESOLUTION STEREO CAMERA"
MISSION_NAME = "MARS EXPRESS"
MISSION_PHASE_NAME = ME_Phase_39
PROCESSING_LEVEL_ID = 3
PRODUCT_CREATION_TIME = 2019-02-22T11:38:04.000Z
PRODUCT_ID = "HI904_0000_S23.JP2"
RELEASE_ID = 0143
REVISION_ID = 0000
/* QUALITY DATA ELEMENTS */
DATA_QUALITY_ID = 1
DATA_QUALITY_DESC = "Data calculated based on original SPICE kernels"
/* TIME DATA ELEMENTS */
SPACECRAFT_CLOCK_START_COUNT = "1/0492581674.23948"
SPACECRAFT_CLOCK_STOP_COUNT = "1/0492581860.41023"
START_TIME = 2018-12-11T04:15:06.052Z
STOP_TIME = 2018-12-11T04:17:11.024Z
/* ORBITAL DATA ELEMENTS */
ASCENDING_NODE_LONGITUDE = 219.53
MAXIMUM_RESOLUTION = 28.1
FOOTPRINT_POINT_LATITUDE = (-45.4608,-45.454,-45.4462,-45.436, -45.4263,-45.4157,-45.4043,-45.1129, -44.9531,-44.7122,-44.5508,-44.3904, -44.2283,-44.0667,-43.9056,-43.744, -43.5781,-43.4173,-43.259,-43.0961, -42.8531,-42.6908,-42.5287,-42.3667, -42.2044,-42.0421,-41.8794,-41.7169, -41.5547,-41.3932,-41.2337,-41.0767, -40.9189,-40.7595,-40.5204,-40.3609, -40.2011,-40.0422,-39.8831,-39.6449, -39.4858,-39.2477,-39.0885,-38.929, -38.7697,-38.6102,-38.4507,-38.2908, -38.0515,-37.8918,-37.7324,-37.4941, -37.3399,-37.3439,-37.3511,-37.3564, -37.3617,-37.3665,-37.5303,-37.6928, -37.8525,-38.0123,-38.172,-38.4113, -38.6514,-38.8112,-38.9713,-39.1309, -39.3704,-39.5298,-39.7687,-39.9281, -40.1669,-40.405,-40.5642,-40.7223, -40.8813,-41.1196,-41.2776,-41.5198, -41.6827,-41.8458,-42.0093,-42.254, -42.4172,-42.7353,-42.8976,-43.141, -43.3841,-43.5466,-43.7962,-43.9633, -44.1278,-44.2899,-44.4514,-44.6937, -44.8544,-45.0149,-45.175,-45.4608)
FOOTPRINT_POINT_LONGITUDE = (171.702,171.439,171.174,170.86,170.594 ,170.329,170.062,169.986,169.998, 170.015,170.026,170.038,170.048,170.059 ,170.07,170.081,170.089,170.1,170.112, 170.122,170.137,170.147,170.156,170.166 ,170.176,170.185,170.194,170.204, 170.213,170.222,170.231,170.24,170.248, 170.256,170.267,170.274,170.281,170.289 ,170.296,170.307,170.314,170.325, 170.332,170.339,170.345,170.352,170.358 ,170.365,170.374,170.38,170.387,170.396 ,170.531,170.785,171.083,171.281, 171.507,171.732,171.861,171.859,171.856 ,171.854,171.852,171.849,171.845, 171.843,171.84,171.838,171.834,171.832, 171.828,171.825,171.821,171.818,171.815 ,171.812,171.809,171.805,171.803, 171.798,171.795,171.792,171.789,171.785 ,171.782,171.778,171.775,171.77,171.765 ,171.762,171.755,171.75,171.745,171.742 ,171.738,171.733,171.729,171.726, 171.722,171.702)
ORBIT_NUMBER = 18904
ORBITAL_ECCENTRICITY = 0.578
ORBITAL_INCLINATION = 86.97
ORBITAL_SEMIMAJOR_AXIS = 8808.72
PERIAPSIS_ALTITUDE = 330.99
PERIAPSIS_ARGUMENT_ANGLE = 321.75
PERIAPSIS_TIME = 2018-12-11T04:17:29.000Z
SPACECRAFT_ORIENTATION = (0.0,1.0,0.0)
^MEX_ORIENTATION_DESC = "MEX_ORIENTATION_DESC.TXT"
SPACECRAFT_POINTING_MODE = ACROSSTRACK
^MEX_POINTING_DESC = "MEX_POINTING_DESC.TXT"
RIGHT_ASCENSION = -1e+32
DECLINATION = -1e+32
OFFSET_ANGLE = 0.17
SPACECRAFT_SOLAR_DISTANCE = 2.13953e+08
TARGET_NAME = MARS
/* CAMERA DATA ELEMENTS */
DETECTOR_TEMPERATURE = 18.7783
FOCAL_PLANE_TEMPERATURE = 9.195
INST_CMPRS_NAME = "DISCRETE COSINE TRANSFORMATION (DCT)"
INST_CMPRS_RATIO = 8.83982
INST_CMPRS_QUALITY = 0
INST_CMPRS_QUANTZ_TBL_ID = 0
INSTRUMENT_TEMPERATURE = 11.234
LENS_TEMPERATURE = 10.0106
MACROPIXEL_SIZE = 2
MISSING_FRAMES = 0
PIXEL_SUBSAMPLING_FLAG = N
SIGNAL_CHAIN_ID = 1
/* RADIOMETRIC DATA ELEMENTS */
BANDWIDTH = 178.0
CENTER_FILTER_WAVELENGTH = 679.0
RADIANCE_OFFSET = 4.05549
RADIANCE_SCALING_FACTOR = 0.0269558
REFLECTANCE_SCALING_FACTOR = 0.000653455
MEX:REFLECTANCE_OFFSET = 0.0983123
/* IMAGE OBJECT DEFINITIONS */
OBJECT = IMAGE
  INTERCHANGE_FORMAT = BINARY
  LINES = 19129
  LINE_SAMPLES = 3388
  SAMPLE_TYPE = UNSIGNED_INTEGER
  SAMPLE_BITS = 8
  BANDS = 1
  BAND_STORAGE_TYPE = BAND_SEQUENTIAL
  MAXIMUM = 255
  MEAN = 138.865
  MINIMUM = 1
  STANDARD_DEVIATION = 40.3205
END_OBJECT = IMAGE
/* MAP OBJECT DEFINITIONS */
OBJECT = IMAGE_MAP_PROJECTION
  ^DATA_SET_MAP_PROJECTION_CATALOG= "DSMAP.CAT"
  A_AXIS_RADIUS = 3396.0
  B_AXIS_RADIUS = 3396.0
  C_AXIS_RADIUS = 3396.0
  CENTER_LATITUDE = 0.0
  CENTER_LONGITUDE = 171.0
  COORDINATE_SYSTEM_NAME = PLANETOGRAPHIC
  COORDINATE_SYSTEM_TYPE = "BODY-FIXED ROTATING"
  EASTERNMOST_LONGITUDE = 171.861
  FIRST_STANDARD_PARALLEL = "N/A"
  LINE_FIRST_PIXEL = 1
  LINE_LAST_PIXEL = 19129
  LINE_PROJECTION_OFFSET = -88479.25
  MAP_PROJECTION_ROTATION = 0.0
  MAP_PROJECTION_TYPE = SINUSOIDAL
  MAP_RESOLUTION = 2370.85521546667
  MAP_SCALE = 0.025
  MAXIMUM_LATITUDE = -37.3399
  MINIMUM_LATITUDE = -45.4608
  POSITIVE_LONGITUDE_DIRECTION = EAST
  REFERENCE_LATITUDE = "N/A"
  REFERENCE_LONGITUDE = "N/A"
  SAMPLE_FIRST_PIXEL = 1
  SAMPLE_LAST_PIXEL = 3388
  SAMPLE_PROJECTION_OFFSET = 1731.75
  SECOND_STANDARD_PARALLEL = "N/A"
  WESTERNMOST_LONGITUDE = 169.986
END_OBJECT = IMAGE_MAP_PROJECTION
/* The JPEG2000 image data file associated with this label. */
OBJECT = COMPRESSED_FILE
  FILE_NAME = "HI904_0000_S23.JP2"
  RECORD_TYPE = UNDEFINED
  FILE_RECORDS = UNK
  ENCODING_TYPE = "JP2"
  INTERCHANGE_FORMAT = BINARY
  UNCOMPRESSED_FILE_NAME = "HI904_0000_S23.IMG"
  REQUIRED_STORAGE_BYTES = "64832768"
  ^DESCRIPTION = "JP2INFO.TXT"
END_OBJECT = COMPRESSED_FILE
END
