PDS_VERSION_ID = PDS3
/* FILE DATA ELEMENTS */
RECORD_TYPE = STREAM
/* POINTERS TO DATA OBJECTS */
^COMPRESSED_FILE = "HI906_0000_P23.JP2"
/* IDENTIFICATION DATA ELEMENTS */
DATA_SET_ID = "MEX-M-HRSC-5-REFDR-MAPPROJECTED-V3.0"
DATA_SET_NAME = "MARS EXPRESS HRSC MAP PROJECTED REFDR V3.0"
DETECTOR_ID = MEX_HRSC_P2
EVENT_TYPE = "MARS-REGIONAL-STEREO-Im-Gl-Pf"
INSTRUMENT_HOST_ID = MEX
INSTRUMENT_HOST_NAME = "MARS EXPRESS"
INSTRUMENT_ID = HRSC
INSTRUMENT_NAME = "HIGH RESOLUTION STEREO CAMERA"
MISSION_NAME = "MARS EXPRESS"
MISSION_PHASE_NAME = ME_Phase_39
PROCESSING_LEVEL_ID = 3
PRODUCT_CREATION_TIME = 2019-02-22T11:38:04.000Z
PRODUCT_ID = "HI906_0000_P23.JP2"
RELEASE_ID = 0143
REVISION_ID = 0000
/* QUALITY DATA ELEMENTS */
DATA_QUALITY_ID = 1
DATA_QUALITY_DESC = "Data calculated based on original SPICE kernels"
/* TIME DATA ELEMENTS */
SPACECRAFT_CLOCK_START_COUNT = "1/0492631994.23938"
SPACECRAFT_CLOCK_STOP_COUNT = "1/0492632169.49776"
START_TIME = 2018-12-11T18:13:56.558Z
STOP_TIME = 2018-12-11T18:15:50.018Z
/* ORBITAL DATA ELEMENTS */
ASCENDING_NODE_LONGITUDE = 219.5
MAXIMUM_RESOLUTION = 27.1
FOOTPRINT_POINT_LATITUDE = (-42.6436,-42.6393,-42.6312,-42.626, -42.6199,-42.4982,-42.3536,-42.2056, -42.0586,-41.8401,-41.6926,-41.546, -41.3998,-41.1118,-40.9641,-40.6729, -40.5251,-40.3786,-40.2291,-40.0825, -39.936,-39.7885,-39.6422,-39.4946, -39.3469,-39.2004,-39.0519,-38.9037, -38.6817,-38.5332,-38.3114,-38.1639, -38.016,-37.7943,-37.6459,-37.4986, -37.3485,-37.1993,-37.0511,-36.9022, -36.7538,-36.6057,-36.3844,-36.2352, -36.0872,-35.9417,-35.7947,-35.6463, -35.4976,-35.3502,-35.1955,-35.2005, -35.2047,-35.2065,-35.2078,-35.2834, -35.5067,-35.6556,-35.8044,-35.9531, -36.102,-36.2503,-36.4722,-36.6166, -36.7634,-36.9119,-37.0608,-37.2848, -37.4353,-37.659,-37.8086,-38.0295, -38.1768,-38.325,-38.5468,-38.6946, -38.8429,-38.9905,-39.1387,-39.2873, -39.4353,-39.583,-39.7306,-39.9522, -40.1007,-40.2494,-40.4717,-40.6907, -40.8373,-40.9846,-41.1328,-41.2789, -41.4263,-41.6456,-41.793,-41.9373, -42.0849,-42.3028,-42.5938,-42.6436)
FOOTPRINT_POINT_LONGITUDE = (327.613,327.325,326.901,326.673, 326.431,326.194,326.203,326.21,326.217, 326.229,326.236,326.244,326.251,326.268 ,326.275,326.29,326.296,326.303,326.308 ,326.315,326.321,326.327,326.334,326.34 ,326.346,326.352,326.357,326.363, 326.371,326.376,326.384,326.389,326.395 ,326.402,326.407,326.412,326.416,326.42 ,326.425,326.429,326.433,326.438, 326.445,326.449,326.453,326.459,326.463 ,326.467,326.471,326.475,326.698, 326.945,327.259,327.492,327.698,327.894 ,327.892,327.89,327.889,327.887,327.886 ,327.884,327.883,327.883,327.883, 327.881,327.879,327.876,327.873,327.87, 327.868,327.866,327.865,327.863,327.86, 327.859,327.857,327.855,327.853,327.851 ,327.849,327.847,327.845,327.842, 327.839,327.837,327.833,327.831,327.829 ,327.827,327.825,327.823,327.821, 327.818,327.816,327.815,327.812,327.81, 327.807,327.613)
ORBIT_NUMBER = 18906
ORBITAL_ECCENTRICITY = 0.578
ORBITAL_INCLINATION = 86.98
ORBITAL_SEMIMAJOR_AXIS = 8807.49
PERIAPSIS_ALTITUDE = 330.48
PERIAPSIS_ARGUMENT_ANGLE = 321.4
PERIAPSIS_TIME = 2018-12-11T18:15:19.000Z
SPACECRAFT_ORIENTATION = (0.0,1.0,0.0)
^MEX_ORIENTATION_DESC = "MEX_ORIENTATION_DESC.TXT"
SPACECRAFT_POINTING_MODE = NADIR
^MEX_POINTING_DESC = "MEX_POINTING_DESC.TXT"
RIGHT_ASCENSION = -1e+32
DECLINATION = -1e+32
OFFSET_ANGLE = -1e+32
SPACECRAFT_SOLAR_DISTANCE = 2.14044e+08
TARGET_NAME = MARS
/* CAMERA DATA ELEMENTS */
DETECTOR_TEMPERATURE = 19.1861
FOCAL_PLANE_TEMPERATURE = 10.8262
INST_CMPRS_NAME = "DISCRETE COSINE TRANSFORMATION (DCT)"
INST_CMPRS_RATIO = 5.89651
INST_CMPRS_QUALITY = 0
INST_CMPRS_QUANTZ_TBL_ID = 0
INSTRUMENT_TEMPERATURE = 12.8652
LENS_TEMPERATURE = 11.234
MACROPIXEL_SIZE = 2
MISSING_FRAMES = 0
PIXEL_SUBSAMPLING_FLAG = N
SIGNAL_CHAIN_ID = 3
/* RADIOMETRIC DATA ELEMENTS */
BANDWIDTH = 177.0
CENTER_FILTER_WAVELENGTH = 676.5
RADIANCE_OFFSET = 4.79894
RADIANCE_SCALING_FACTOR = 0.0162236
REFLECTANCE_SCALING_FACTOR = 0.000394102
MEX:REFLECTANCE_OFFSET = 0.116575
/* IMAGE OBJECT DEFINITIONS */
OBJECT = IMAGE
  INTERCHANGE_FORMAT = BINARY
  LINES = 17597
  LINE_SAMPLES = 3234
  SAMPLE_TYPE = UNSIGNED_INTEGER
  SAMPLE_BITS = 8
  BANDS = 1
  BAND_STORAGE_TYPE = BAND_SEQUENTIAL
  MAXIMUM = 255
  MEAN = 139.791
  MINIMUM = 1
  STANDARD_DEVIATION = 39.7277
END_OBJECT = IMAGE
/* MAP OBJECT DEFINITIONS */
OBJECT = IMAGE_MAP_PROJECTION
  ^DATA_SET_MAP_PROJECTION_CATALOG= "DSMAP.CAT"
  A_AXIS_RADIUS = 3396.0
  B_AXIS_RADIUS = 3396.0
  C_AXIS_RADIUS = 3396.0
  CENTER_LATITUDE = 0.0
  CENTER_LONGITUDE = 327.0
  COORDINATE_SYSTEM_NAME = PLANETOGRAPHIC
  COORDINATE_SYSTEM_TYPE = "BODY-FIXED ROTATING"
  EASTERNMOST_LONGITUDE = 327.894
  FIRST_STANDARD_PARALLEL = "N/A"
  LINE_FIRST_PIXEL = 1
  LINE_LAST_PIXEL = 17597
  LINE_PROJECTION_OFFSET = -83404.75
  MAP_PROJECTION_ROTATION = 0.0
  MAP_PROJECTION_TYPE = SINUSOIDAL
  MAP_RESOLUTION = 2370.85521546667
  MAP_SCALE = 0.025
  MAXIMUM_LATITUDE = -35.1955
  MINIMUM_LATITUDE = -42.6436
  POSITIVE_LONGITUDE_DIRECTION = EAST
  REFERENCE_LATITUDE = "N/A"
  REFERENCE_LONGITUDE = "N/A"
  SAMPLE_FIRST_PIXEL = 1
  SAMPLE_LAST_PIXEL = 3234
  SAMPLE_PROJECTION_OFFSET = 1444.75
  SECOND_STANDARD_PARALLEL = "N/A"
  WESTERNMOST_LONGITUDE = 326.194
END_OBJECT = IMAGE_MAP_PROJECTION
/* The JPEG2000 image data file associated with this label. */
OBJECT = COMPRESSED_FILE
  FILE_NAME = "HI906_0000_P23.JP2"
  RECORD_TYPE = UNDEFINED
  FILE_RECORDS = UNK
  ENCODING_TYPE = "JP2"
  INTERCHANGE_FORMAT = BINARY
  UNCOMPRESSED_FILE_NAME = "HI906_0000_P23.IMG"
  REQUIRED_STORAGE_BYTES = "56931336"
  ^DESCRIPTION = "JP2INFO.TXT"
END_OBJECT = COMPRESSED_FILE
END
