PDS_VERSION_ID = PDS3
/* FILE DATA ELEMENTS */
RECORD_TYPE = STREAM
/* POINTERS TO DATA OBJECTS */
^COMPRESSED_FILE = "HI910_0000_ND3.JP2"
/* IDENTIFICATION DATA ELEMENTS */
DATA_SET_ID = "MEX-M-HRSC-5-REFDR-MAPPROJECTED-V3.0"
DATA_SET_NAME = "MARS EXPRESS HRSC MAP PROJECTED REFDR V3.0"
DETECTOR_ID = MEX_HRSC_NADIR
EVENT_TYPE = "MARS-REGIONAL-MAPPING-Im-Gl-Pf"
INSTRUMENT_HOST_ID = MEX
INSTRUMENT_HOST_NAME = "MARS EXPRESS"
INSTRUMENT_ID = HRSC
INSTRUMENT_NAME = "HIGH RESOLUTION STEREO CAMERA"
MISSION_NAME = "MARS EXPRESS"
MISSION_PHASE_NAME = ME_Phase_39
PROCESSING_LEVEL_ID = 3
PRODUCT_CREATION_TIME = 2019-02-22T11:38:04.000Z
PRODUCT_ID = "HI910_0000_ND3.JP2"
RELEASE_ID = 0143
REVISION_ID = 0000
/* QUALITY DATA ELEMENTS */
DATA_QUALITY_ID = 1
DATA_QUALITY_DESC = "Data calculated based on original SPICE kernels"
/* TIME DATA ELEMENTS */
SPACECRAFT_CLOCK_START_COUNT = "1/0492732325.24923"
SPACECRAFT_CLOCK_STOP_COUNT = "1/0492732549.14546"
START_TIME = 2018-12-12T22:06:37.201Z
STOP_TIME = 2018-12-12T22:09:08.190Z
/* ORBITAL DATA ELEMENTS */
ASCENDING_NODE_LONGITUDE = 219.43
MAXIMUM_RESOLUTION = 13.8
FOOTPRINT_POINT_LATITUDE = (-57.2635,-57.2556,-57.2464,-57.236, -57.2245,-57.2117,-56.8954,-56.6896, -56.4835,-56.2773,-56.0709,-55.8643, -55.6575,-55.4505,-55.2434,-55.0361, -54.8286,-54.621,-54.4132,-54.2052, -53.9971,-53.7888,-53.4759,-53.2673, -53.0583,-52.8493,-52.6401,-52.4308, -52.2213,-52.0117,-51.802,-51.6148, -51.2628,-50.9104,-50.4696,-50.2048, -49.8515,-49.4977,-49.3207,-49.1436, -48.9664,-48.7892,-48.6119,-48.4345, -48.2571,-48.0795,-47.9019,-47.7243, -47.5412,-47.5473,-47.5547,-47.5598, -47.564,-47.5679,-47.7461,-47.9242, -48.1023,-48.2803,-48.4582,-48.6361, -48.8139,-48.9917,-49.1693,-49.3469, -49.5244,-49.7019,-49.8792,-50.0565, -50.2337,-50.6764,-51.0301,-51.3835, -51.7366,-52.0453,-52.2556,-52.4658, -52.6759,-52.8858,-53.0956,-53.3053, -53.5149,-53.7242,-53.9335,-54.1425, -54.3515,-54.5603,-54.7689,-54.9774, -55.1857,-55.3938,-55.6018,-55.8097, -56.0174,-56.2249,-56.4322,-56.6394, -56.8464,-57.0532,-57.2599,-57.2635)
FOOTPRINT_POINT_LONGITUDE = (279.504,279.097,278.693,278.292, 277.895,277.499,277.356,277.385,277.414 ,277.442,277.47,277.497,277.524,277.55, 277.576,277.602,277.627,277.651,277.676 ,277.7,277.723,277.746,277.78,277.802, 277.823,277.845,277.865,277.886,277.906 ,277.926,277.946,277.963,277.994, 278.025,278.062,278.083,278.111,278.138 ,278.152,278.165,278.178,278.19,278.203 ,278.215,278.227,278.239,278.25,278.262 ,278.395,278.676,279.065,279.386, 279.711,280.084,280.082,280.081,280.08, 280.079,280.077,280.075,280.08,280.072, 280.071,280.069,280.067,280.065,280.06, 280.063,280.062,280.055,280.059,280.059 ,280.052,280.045,280.043,280.042, 280.042,280.038,280.032,280.024,280.014 ,280.013,280.01,280.006,280.002,280.001 ,279.999,279.995,279.991,279.987, 279.983,279.979,279.975,279.97,279.966, 279.962,279.957,279.95,279.947,279.504)
ORBIT_NUMBER = 18910
ORBITAL_ECCENTRICITY = 0.578
ORBITAL_INCLINATION = 86.96
ORBITAL_SEMIMAJOR_AXIS = 8812.53
PERIAPSIS_ALTITUDE = 330.15
PERIAPSIS_ARGUMENT_ANGLE = 320.71
PERIAPSIS_TIME = 2018-12-12T22:11:16.000Z
SPACECRAFT_ORIENTATION = (0.0,1.0,0.0)
^MEX_ORIENTATION_DESC = "MEX_ORIENTATION_DESC.TXT"
SPACECRAFT_POINTING_MODE = ACROSSTRACK
^MEX_POINTING_DESC = "MEX_POINTING_DESC.TXT"
RIGHT_ASCENSION = -1e+32
DECLINATION = -1e+32
OFFSET_ANGLE = -0.6
SPACECRAFT_SOLAR_DISTANCE = 2.14227e+08
TARGET_NAME = MARS
/* CAMERA DATA ELEMENTS */
DETECTOR_TEMPERATURE = 19.1861
FOCAL_PLANE_TEMPERATURE = 10.4184
INST_CMPRS_NAME = "DISCRETE COSINE TRANSFORMATION (DCT)"
INST_CMPRS_RATIO = 6.38847
INST_CMPRS_QUALITY = 0
INST_CMPRS_QUANTZ_TBL_ID = 0
INSTRUMENT_TEMPERATURE = 12.6613
LENS_TEMPERATURE = 11.0301
MACROPIXEL_SIZE = 1
MISSING_FRAMES = 0
PIXEL_SUBSAMPLING_FLAG = N
SIGNAL_CHAIN_ID = 0
/* RADIOMETRIC DATA ELEMENTS */
BANDWIDTH = 177.0
CENTER_FILTER_WAVELENGTH = 677.5
RADIANCE_OFFSET = 3.76755
RADIANCE_SCALING_FACTOR = 0.0166811
REFLECTANCE_SCALING_FACTOR = 0.000406684
MEX:REFLECTANCE_OFFSET = 0.0918524
/* IMAGE OBJECT DEFINITIONS */
OBJECT = IMAGE
  INTERCHANGE_FORMAT = BINARY
  LINES = 46138
  LINE_SAMPLES = 7994
  SAMPLE_TYPE = UNSIGNED_INTEGER
  SAMPLE_BITS = 8
  BANDS = 1
  BAND_STORAGE_TYPE = BAND_SEQUENTIAL
  MAXIMUM = 255
  MEAN = 118.778
  MINIMUM = 1
  STANDARD_DEVIATION = 32.501
END_OBJECT = IMAGE
/* MAP OBJECT DEFINITIONS */
OBJECT = IMAGE_MAP_PROJECTION
  ^DATA_SET_MAP_PROJECTION_CATALOG= "DSMAP.CAT"
  A_AXIS_RADIUS = 3396.0
  B_AXIS_RADIUS = 3396.0
  C_AXIS_RADIUS = 3396.0
  CENTER_LATITUDE = 0.0
  CENTER_LONGITUDE = 279.0
  COORDINATE_SYSTEM_NAME = PLANETOGRAPHIC
  COORDINATE_SYSTEM_TYPE = "BODY-FIXED ROTATING"
  EASTERNMOST_LONGITUDE = 280.084
  FIRST_STANDARD_PARALLEL = "N/A"
  LINE_FIRST_PIXEL = 1
  LINE_LAST_PIXEL = 46138
  LINE_PROJECTION_OFFSET = -225418.0
  MAP_PROJECTION_ROTATION = 0.0
  MAP_PROJECTION_TYPE = SINUSOIDAL
  MAP_RESOLUTION = 4741.71043093333
  MAP_SCALE = 0.0125
  MAXIMUM_LATITUDE = -47.5412
  MINIMUM_LATITUDE = -57.2635
  POSITIVE_LONGITUDE_DIRECTION = EAST
  REFERENCE_LATITUDE = "N/A"
  REFERENCE_LONGITUDE = "N/A"
  SAMPLE_FIRST_PIXEL = 1
  SAMPLE_LAST_PIXEL = 7994
  SAMPLE_PROJECTION_OFFSET = 4326.0
  SECOND_STANDARD_PARALLEL = "N/A"
  WESTERNMOST_LONGITUDE = 277.356
END_OBJECT = IMAGE_MAP_PROJECTION
/* The JPEG2000 image data file associated with this label. */
OBJECT = COMPRESSED_FILE
  FILE_NAME = "HI910_0000_ND3.JP2"
  RECORD_TYPE = UNDEFINED
  FILE_RECORDS = UNK
  ENCODING_TYPE = "JP2"
  INTERCHANGE_FORMAT = BINARY
  UNCOMPRESSED_FILE_NAME = "HI910_0000_ND3.IMG"
  REQUIRED_STORAGE_BYTES = "368859148"
  ^DESCRIPTION = "JP2INFO.TXT"
END_OBJECT = COMPRESSED_FILE
END
