PDS_VERSION_ID = PDS3
/* FILE DATA ELEMENTS */
RECORD_TYPE = STREAM
/* POINTERS TO DATA OBJECTS */
^COMPRESSED_FILE = "HI914_0000_P13.JP2"
/* IDENTIFICATION DATA ELEMENTS */
DATA_SET_ID = "MEX-M-HRSC-5-REFDR-MAPPROJECTED-V3.0"
DATA_SET_NAME = "MARS EXPRESS HRSC MAP PROJECTED REFDR V3.0"
DETECTOR_ID = MEX_HRSC_P1
EVENT_TYPE = "MARS-REGIONAL-MAPPING-Te-Im-Fl"
INSTRUMENT_HOST_ID = MEX
INSTRUMENT_HOST_NAME = "MARS EXPRESS"
INSTRUMENT_ID = HRSC
INSTRUMENT_NAME = "HIGH RESOLUTION STEREO CAMERA"
MISSION_NAME = "MARS EXPRESS"
MISSION_PHASE_NAME = ME_Phase_39
PROCESSING_LEVEL_ID = 3
PRODUCT_CREATION_TIME = 2019-02-22T11:38:04.000Z
PRODUCT_ID = "HI914_0000_P13.JP2"
RELEASE_ID = 0143
REVISION_ID = 0000
/* QUALITY DATA ELEMENTS */
DATA_QUALITY_ID = 1
DATA_QUALITY_DESC = "Data calculated based on original SPICE kernels"
/* TIME DATA ELEMENTS */
SPACECRAFT_CLOCK_START_COUNT = "1/0492833082.23969"
SPACECRAFT_CLOCK_STOP_COUNT = "1/0492833309.24018"
START_TIME = 2018-12-14T02:06:04.326Z
STOP_TIME = 2018-12-14T02:08:48.682Z
/* ORBITAL DATA ELEMENTS */
ASCENDING_NODE_LONGITUDE = 219.36
MAXIMUM_RESOLUTION = 26.8
FOOTPRINT_POINT_LATITUDE = (-44.6954,-44.6906,-44.686,-44.6801, -44.6689,-44.6901,-44.4719,-44.1483, -43.9326,-43.7166,-43.3927,-43.178, -42.9643,-42.7491,-42.5324,-42.3144, -42.0996,-41.8838,-41.6685,-41.4531, -41.2383,-41.0242,-40.7037,-40.4892, -40.275,-39.9536,-39.739,-39.5242, -39.3103,-39.0956,-38.8804,-38.5576, -38.3436,-38.0225,-37.8085,-37.4877, -37.2751,-37.0627,-36.8497,-36.6357, -36.4225,-36.2092,-35.9967,-35.6788, -35.3607,-35.1485,-34.8303,-34.6181, -34.4064,-34.1946,-33.9831,-33.9552, -33.9578,-33.9609,-33.9643,-33.9666, -34.075,-34.3929,-34.605,-34.8174, -35.0297,-35.2423,-35.5613,-35.7742, -36.094,-36.4139,-36.6271,-36.8399, -37.0523,-37.2687,-37.5901,-37.8004, -38.1231,-38.3389,-38.554,-38.7686, -38.9832,-39.3041,-39.6258,-39.8402, -40.0537,-40.3761,-40.6978,-40.9121, -41.1273,-41.3419,-41.5568,-41.7724, -41.988,-42.2063,-42.5317,-42.8587, -43.0747,-43.2878,-43.6118,-43.9366, -44.1531,-44.3687,-44.5849,-44.6954)
FOOTPRINT_POINT_LONGITUDE = (230.872,230.624,230.407,230.144, 229.698,229.37,229.384,229.401,229.413, 229.425,229.442,229.452,229.462,229.472 ,229.483,229.494,229.503,229.513, 229.522,229.532,229.54,229.549,229.56, 229.568,229.576,229.587,229.595,229.602 ,229.609,229.616,229.624,229.634, 229.641,229.65,229.656,229.665,229.67, 229.675,229.68,229.686,229.691,229.695, 229.7,229.706,229.712,229.716,229.722, 229.725,229.729,229.732,229.736,230.009 ,230.186,230.419,230.707,230.927, 231.152,231.149,231.147,231.145,231.142 ,231.14,231.137,231.135,231.131,231.128 ,231.125,231.122,231.119,231.119, 231.115,231.11,231.107,231.106,231.103, 231.101,231.098,231.093,231.088,231.085 ,231.081,231.076,231.07,231.066,231.063 ,231.059,231.055,231.052,231.048, 231.047,231.043,231.04,231.036,231.03, 231.024,231.019,231.015,231.01,231.006, 230.872)
ORBIT_NUMBER = 18914
ORBITAL_ECCENTRICITY = 0.578
ORBITAL_INCLINATION = 86.98
ORBITAL_SEMIMAJOR_AXIS = 8809.1
PERIAPSIS_ALTITUDE = 329.44
PERIAPSIS_ARGUMENT_ANGLE = 320.0
PERIAPSIS_TIME = 2018-12-14T02:06:58.000Z
SPACECRAFT_ORIENTATION = (0.0,1.0,0.0)
^MEX_ORIENTATION_DESC = "MEX_ORIENTATION_DESC.TXT"
SPACECRAFT_POINTING_MODE = ACROSSTRACK
^MEX_POINTING_DESC = "MEX_POINTING_DESC.TXT"
RIGHT_ASCENSION = -1e+32
DECLINATION = -1e+32
OFFSET_ANGLE = -0.15
SPACECRAFT_SOLAR_DISTANCE = 2.14412e+08
TARGET_NAME = MARS
/* CAMERA DATA ELEMENTS */
DETECTOR_TEMPERATURE = 16.7393
FOCAL_PLANE_TEMPERATURE = 9.6028
INST_CMPRS_NAME = "DISCRETE COSINE TRANSFORMATION (DCT)"
INST_CMPRS_RATIO = 8.49943
INST_CMPRS_QUALITY = 0
INST_CMPRS_QUANTZ_TBL_ID = 0
INSTRUMENT_TEMPERATURE = 11.4379
LENS_TEMPERATURE = 10.2145
MACROPIXEL_SIZE = 2
MISSING_FRAMES = 0
PIXEL_SUBSAMPLING_FLAG = N
SIGNAL_CHAIN_ID = 3
/* RADIOMETRIC DATA ELEMENTS */
BANDWIDTH = 174.0
CENTER_FILTER_WAVELENGTH = 675.0
RADIANCE_OFFSET = 4.24699
RADIANCE_SCALING_FACTOR = 0.0220501
REFLECTANCE_SCALING_FACTOR = 0.000545248
MEX:REFLECTANCE_OFFSET = 0.105018
/* IMAGE OBJECT DEFINITIONS */
OBJECT = IMAGE
  INTERCHANGE_FORMAT = BINARY
  LINES = 25520
  LINE_SAMPLES = 3444
  SAMPLE_TYPE = UNSIGNED_INTEGER
  SAMPLE_BITS = 8
  BANDS = 1
  BAND_STORAGE_TYPE = BAND_SEQUENTIAL
  MAXIMUM = 255
  MEAN = 119.273
  MINIMUM = 1
  STANDARD_DEVIATION = 39.0528
END_OBJECT = IMAGE
/* MAP OBJECT DEFINITIONS */
OBJECT = IMAGE_MAP_PROJECTION
  ^DATA_SET_MAP_PROJECTION_CATALOG= "DSMAP.CAT"
  A_AXIS_RADIUS = 3396.0
  B_AXIS_RADIUS = 3396.0
  C_AXIS_RADIUS = 3396.0
  CENTER_LATITUDE = 0.0
  CENTER_LONGITUDE = 230.0
  COORDINATE_SYSTEM_NAME = PLANETOGRAPHIC
  COORDINATE_SYSTEM_TYPE = "BODY-FIXED ROTATING"
  EASTERNMOST_LONGITUDE = 231.152
  FIRST_STANDARD_PARALLEL = "N/A"
  LINE_FIRST_PIXEL = 1
  LINE_LAST_PIXEL = 25520
  LINE_PROJECTION_OFFSET = -80550.75
  MAP_PROJECTION_ROTATION = 0.0
  MAP_PROJECTION_TYPE = SINUSOIDAL
  MAP_RESOLUTION = 2370.85521546667
  MAP_SCALE = 0.025
  MAXIMUM_LATITUDE = -33.9552
  MINIMUM_LATITUDE = -44.6954
  POSITIVE_LONGITUDE_DIRECTION = EAST
  REFERENCE_LATITUDE = "N/A"
  REFERENCE_LONGITUDE = "N/A"
  SAMPLE_FIRST_PIXEL = 1
  SAMPLE_LAST_PIXEL = 3444
  SAMPLE_PROJECTION_OFFSET = 1101.25
  SECOND_STANDARD_PARALLEL = "N/A"
  WESTERNMOST_LONGITUDE = 229.37
END_OBJECT = IMAGE_MAP_PROJECTION
/* The JPEG2000 image data file associated with this label. */
OBJECT = COMPRESSED_FILE
  FILE_NAME = "HI914_0000_P13.JP2"
  RECORD_TYPE = UNDEFINED
  FILE_RECORDS = UNK
  ENCODING_TYPE = "JP2"
  INTERCHANGE_FORMAT = BINARY
  UNCOMPRESSED_FILE_NAME = "HI914_0000_P13.IMG"
  REQUIRED_STORAGE_BYTES = "87914988"
  ^DESCRIPTION = "JP2INFO.TXT"
END_OBJECT = COMPRESSED_FILE
END
