PDS_VERSION_ID = PDS3
/* FILE DATA ELEMENTS */
RECORD_TYPE = STREAM
/* POINTERS TO DATA OBJECTS */
^COMPRESSED_FILE = "HI916_0000_GR3.JP2"
/* IDENTIFICATION DATA ELEMENTS */
DATA_SET_ID = "MEX-M-HRSC-5-REFDR-MAPPROJECTED-V3.0"
DATA_SET_NAME = "MARS EXPRESS HRSC MAP PROJECTED REFDR V3.0"
DETECTOR_ID = MEX_HRSC_GREEN
EVENT_TYPE = "MARS-REGIONAL-MAPPING-Im-Eo"
INSTRUMENT_HOST_ID = MEX
INSTRUMENT_HOST_NAME = "MARS EXPRESS"
INSTRUMENT_ID = HRSC
INSTRUMENT_NAME = "HIGH RESOLUTION STEREO CAMERA"
MISSION_NAME = "MARS EXPRESS"
MISSION_PHASE_NAME = ME_Phase_39
PROCESSING_LEVEL_ID = 3
PRODUCT_CREATION_TIME = 2019-02-22T11:38:04.000Z
PRODUCT_ID = "HI916_0000_GR3.JP2"
RELEASE_ID = 0143
REVISION_ID = 0000
/* QUALITY DATA ELEMENTS */
DATA_QUALITY_ID = 1
DATA_QUALITY_DESC = "Data calculated based on original SPICE kernels"
/* TIME DATA ELEMENTS */
SPACECRAFT_CLOCK_START_COUNT = "1/0492883238.23972"
SPACECRAFT_CLOCK_STOP_COUNT = "1/0492883499.63086"
START_TIME = 2018-12-14T16:01:50.771Z
STOP_TIME = 2018-12-14T16:05:05.244Z
/* ORBITAL DATA ELEMENTS */
ASCENDING_NODE_LONGITUDE = 219.32
MAXIMUM_RESOLUTION = 52.4
FOOTPRINT_POINT_LATITUDE = (-52.88,-52.87,-52.8525,-52.8415, -52.8333,-52.5793,-52.1978,-51.9434, -51.6888,-51.434,-51.1799,-50.924, -50.6688,-50.4131,-50.1576,-49.903, -49.5186,-49.2623,-49.0063,-48.75, -48.4937,-48.2373,-47.9806,-47.7239, -47.467,-47.21,-46.9529,-46.6958, -46.4387,-46.0532,-45.6712,-45.4221, -45.1724,-44.9232,-44.6739,-44.4245, -44.1751,-43.8008,-43.5513,-43.3017, -43.052,-42.8023,-42.4277,-42.1781, -41.9283,-41.5536,-41.179,-40.8044, -40.5547,-40.3051,-40.1701,-40.1789, -40.1849,-40.191,-40.4434,-40.6935, -41.0687,-41.4441,-41.8196,-42.195, -42.4454,-42.821,-43.0714,-43.3216, -43.6969,-43.9473,-44.1975,-44.4476, -44.6977,-44.9477,-45.3227,-45.5726, -45.8225,-46.0803,-46.3384,-46.5964, -46.8543,-47.1122,-47.37,-47.6278, -47.8855,-48.1431,-48.4006,-48.658, -48.9152,-49.1722,-49.5576,-49.8147, -50.0715,-50.3282,-50.5846,-50.841, -51.0971,-51.3527,-51.6089,-51.9937, -52.2493,-52.5046,-52.7587,-52.88)
FOOTPRINT_POINT_LONGITUDE = (25.357,25.0158,24.4838,24.1788,23.7474 ,23.7809,23.8306,23.8623,23.8934, 23.9239,23.9496,23.983,24.0115,24.0414, 24.0685,24.0905,24.1333,24.1603,24.1851 ,24.2102,24.2338,24.2574,24.2809, 24.3039,24.3265,24.3489,24.3708,24.3918 ,24.4123,24.4404,24.4688,24.4871,24.507 ,24.524,24.5412,24.558,24.5744,24.5987, 24.6143,24.6297,24.6451,24.66,24.6819, 24.6956,24.7096,24.7298,24.7492,24.7675 ,24.7796,24.7908,25.0068,25.4255, 25.7592,26.188,26.2837,26.2777,26.2687, 26.2596,26.2506,26.2411,26.2348,26.2254 ,26.2189,26.2122,26.2018,26.195,26.1879 ,26.1807,26.1733,26.1658,26.1543, 26.1464,26.1385,26.1303,26.1217,26.1131 ,26.1043,26.0953,26.0863,26.0772,26.068 ,26.0586,26.0489,26.0391,26.029,26.0185 ,26.0028,25.9925,25.9818,25.9708, 25.9595,25.948,25.9362,25.9234,25.9118, 25.8954,25.8829,25.8699,25.8546,25.357)
ORBIT_NUMBER = 18916
ORBITAL_ECCENTRICITY = 0.578
ORBITAL_INCLINATION = 86.96
ORBITAL_SEMIMAJOR_AXIS = 8809.87
PERIAPSIS_ALTITUDE = 330.3
PERIAPSIS_ARGUMENT_ANGLE = 319.68
PERIAPSIS_TIME = 2018-12-14T16:05:00.000Z
SPACECRAFT_ORIENTATION = (0.0,1.0,0.0)
^MEX_ORIENTATION_DESC = "MEX_ORIENTATION_DESC.TXT"
SPACECRAFT_POINTING_MODE = ACROSSTRACK
^MEX_POINTING_DESC = "MEX_POINTING_DESC.TXT"
RIGHT_ASCENSION = -1e+32
DECLINATION = -1e+32
OFFSET_ANGLE = 0.229
SPACECRAFT_SOLAR_DISTANCE = 2.14505e+08
TARGET_NAME = MARS
/* CAMERA DATA ELEMENTS */
DETECTOR_TEMPERATURE = 18.5744
FOCAL_PLANE_TEMPERATURE = 10.0106
INST_CMPRS_NAME = "DISCRETE COSINE TRANSFORMATION (DCT)"
INST_CMPRS_RATIO = 7.90174
INST_CMPRS_QUALITY = 0
INST_CMPRS_QUANTZ_TBL_ID = 0
INSTRUMENT_TEMPERATURE = 11.8457
LENS_TEMPERATURE = 11.4379
MACROPIXEL_SIZE = 4
MISSING_FRAMES = 0
PIXEL_SUBSAMPLING_FLAG = N
SIGNAL_CHAIN_ID = 2
/* RADIOMETRIC DATA ELEMENTS */
BANDWIDTH = 88.0
CENTER_FILTER_WAVELENGTH = 538.0
RADIANCE_OFFSET = 1.34295
RADIANCE_SCALING_FACTOR = 0.00532372
REFLECTANCE_SCALING_FACTOR = 0.000210901
MEX:REFLECTANCE_OFFSET = 0.0532015
/* IMAGE OBJECT DEFINITIONS */
OBJECT = IMAGE
  INTERCHANGE_FORMAT = BINARY
  LINES = 15091
  LINE_SAMPLES = 2093
  SAMPLE_TYPE = UNSIGNED_INTEGER
  SAMPLE_BITS = 8
  BANDS = 1
  BAND_STORAGE_TYPE = BAND_SEQUENTIAL
  MAXIMUM = 255
  MEAN = 171.301
  MINIMUM = 1
  STANDARD_DEVIATION = 22.9438
END_OBJECT = IMAGE
/* MAP OBJECT DEFINITIONS */
OBJECT = IMAGE_MAP_PROJECTION
  ^DATA_SET_MAP_PROJECTION_CATALOG= "DSMAP.CAT"
  A_AXIS_RADIUS = 3396.0
  B_AXIS_RADIUS = 3396.0
  C_AXIS_RADIUS = 3396.0
  CENTER_LATITUDE = 0.0
  CENTER_LONGITUDE = 25.0
  COORDINATE_SYSTEM_NAME = PLANETOGRAPHIC
  COORDINATE_SYSTEM_TYPE = "BODY-FIXED ROTATING"
  EASTERNMOST_LONGITUDE = 26.2837
  FIRST_STANDARD_PARALLEL = "N/A"
  LINE_FIRST_PIXEL = 1
  LINE_LAST_PIXEL = 15091
  LINE_PROJECTION_OFFSET = -47622.625
  MAP_PROJECTION_ROTATION = 0.0
  MAP_PROJECTION_TYPE = SINUSOIDAL
  MAP_RESOLUTION = 1185.42760773333
  MAP_SCALE = 0.05
  MAXIMUM_LATITUDE = -40.1701
  MINIMUM_LATITUDE = -52.88
  POSITIVE_LONGITUDE_DIRECTION = EAST
  REFERENCE_LATITUDE = "N/A"
  REFERENCE_LONGITUDE = "N/A"
  SAMPLE_FIRST_PIXEL = 1
  SAMPLE_LAST_PIXEL = 2093
  SAMPLE_PROJECTION_OFFSET = 915.625
  SECOND_STANDARD_PARALLEL = "N/A"
  WESTERNMOST_LONGITUDE = 23.7474
END_OBJECT = IMAGE_MAP_PROJECTION
/* The JPEG2000 image data file associated with this label. */
OBJECT = COMPRESSED_FILE
  FILE_NAME = "HI916_0000_GR3.JP2"
  RECORD_TYPE = UNDEFINED
  FILE_RECORDS = UNK
  ENCODING_TYPE = "JP2"
  INTERCHANGE_FORMAT = BINARY
  UNCOMPRESSED_FILE_NAME = "HI916_0000_GR3.IMG"
  REQUIRED_STORAGE_BYTES = "31606393"
  ^DESCRIPTION = "JP2INFO.TXT"
END_OBJECT = COMPRESSED_FILE
END
