PDS_VERSION_ID = PDS3
/* FILE DATA ELEMENTS */
RECORD_TYPE = STREAM
/* POINTERS TO DATA OBJECTS */
^COMPRESSED_FILE = "HI918_0000_P13.JP2"
/* IDENTIFICATION DATA ELEMENTS */
DATA_SET_ID = "MEX-M-HRSC-5-REFDR-MAPPROJECTED-V3.0"
DATA_SET_NAME = "MARS EXPRESS HRSC MAP PROJECTED REFDR V3.0"
DETECTOR_ID = MEX_HRSC_P1
EVENT_TYPE = "MARS-REGIONAL-MAPPING-Te-Im-Fl"
INSTRUMENT_HOST_ID = MEX
INSTRUMENT_HOST_NAME = "MARS EXPRESS"
INSTRUMENT_ID = HRSC
INSTRUMENT_NAME = "HIGH RESOLUTION STEREO CAMERA"
MISSION_NAME = "MARS EXPRESS"
MISSION_PHASE_NAME = ME_Phase_39
PROCESSING_LEVEL_ID = 3
PRODUCT_CREATION_TIME = 2019-02-22T11:38:04.000Z
PRODUCT_ID = "HI918_0000_P13.JP2"
RELEASE_ID = 0143
REVISION_ID = 0000
/* QUALITY DATA ELEMENTS */
DATA_QUALITY_ID = 1
DATA_QUALITY_DESC = "Data calculated based on original SPICE kernels"
/* TIME DATA ELEMENTS */
SPACECRAFT_CLOCK_START_COUNT = "1/0492933559.25682"
SPACECRAFT_CLOCK_STOP_COUNT = "1/0492933736.15231"
START_TIME = 2018-12-15T06:00:45.113Z
STOP_TIME = 2018-12-15T06:02:35.967Z
/* ORBITAL DATA ELEMENTS */
ASCENDING_NODE_LONGITUDE = 219.28
MAXIMUM_RESOLUTION = 27.1
FOOTPRINT_POINT_LATITUDE = (-50.6149,-50.6064,-50.5944,-50.5863, -50.5764,-50.608,-50.4604,-50.312, -50.1635,-50.0157,-49.8678,-49.7223, -49.5005,-49.3526,-49.2042,-49.0524, -48.9031,-48.7555,-48.6077,-48.3858, -48.2379,-48.0901,-47.9421,-47.794, -47.572,-47.4238,-47.278,-47.1344, -46.9906,-46.7753,-46.6318,-46.4173, -46.2738,-46.131,-45.9878,-45.845, -45.7019,-45.5589,-45.3453,-44.9889, -44.7745,-44.6314,-44.4885,-44.3456, -44.2026,-43.9882,-43.7054,-43.5626, -43.3205,-43.3258,-43.3305,-43.333, -43.3364,-43.3422,-43.3464,-43.5613, -43.7046,-43.9195,-44.0629,-44.2063, -44.3496,-44.4933,-44.7081,-44.8514, -45.0663,-45.2097,-45.3532,-45.4965, -45.7114,-45.8544,-46.1397,-46.3539, -46.4992,-46.6429,-46.7864,-46.9293, -47.0732,-47.2175,-47.3607,-47.5099, -47.6583,-47.8046,-48.0271,-48.2494, -48.3976,-48.5457,-48.6957,-48.8454, -48.9942,-49.1429,-49.2915,-49.4401, -49.5884,-49.7371,-49.8856,-50.0345, -50.1826,-50.3315,-50.5547,-50.6149)
FOOTPRINT_POINT_LONGITUDE = (181.87,181.491,181.023,180.735,180.411 ,180.156,180.171,180.186,180.201, 180.215,180.229,180.241,180.261,180.275 ,180.288,180.305,180.319,180.331, 180.344,180.362,180.374,180.386,180.398 ,180.41,180.428,180.439,180.451,180.462 ,180.473,180.489,180.5,180.515,180.525, 180.535,180.545,180.554,180.563,180.573 ,180.586,180.607,180.62,180.629,180.638 ,180.646,180.654,180.667,180.68,180.688 ,180.778,181.009,181.224,181.471, 181.686,182.009,182.291,182.286,182.283 ,182.278,182.274,182.271,182.268, 182.264,182.259,182.255,182.25,182.246, 182.242,182.238,182.232,182.228,182.219 ,182.213,182.21,182.206,182.202,182.197 ,182.193,182.19,182.185,182.182,182.178 ,182.172,182.165,182.157,182.153, 182.148,182.144,182.14,182.135,182.13, 182.126,182.121,182.115,182.11,182.105, 182.1,182.095,182.09,182.082,181.87)
ORBIT_NUMBER = 18918
ORBITAL_ECCENTRICITY = 0.578
ORBITAL_INCLINATION = 86.97
ORBITAL_SEMIMAJOR_AXIS = 8804.53
PERIAPSIS_ALTITUDE = 330.26
PERIAPSIS_ARGUMENT_ANGLE = 319.34
PERIAPSIS_TIME = 2018-12-15T06:02:59.000Z
SPACECRAFT_ORIENTATION = (0.0,1.0,0.0)
^MEX_ORIENTATION_DESC = "MEX_ORIENTATION_DESC.TXT"
SPACECRAFT_POINTING_MODE = NADIR
^MEX_POINTING_DESC = "MEX_POINTING_DESC.TXT"
RIGHT_ASCENSION = -1e+32
DECLINATION = -1e+32
OFFSET_ANGLE = -1e+32
SPACECRAFT_SOLAR_DISTANCE = 2.14599e+08
TARGET_NAME = MARS
/* CAMERA DATA ELEMENTS */
DETECTOR_TEMPERATURE = 17.9627
FOCAL_PLANE_TEMPERATURE = 10.2145
INST_CMPRS_NAME = "DISCRETE COSINE TRANSFORMATION (DCT)"
INST_CMPRS_RATIO = 7.24506
INST_CMPRS_QUALITY = 0
INST_CMPRS_QUANTZ_TBL_ID = 0
INSTRUMENT_TEMPERATURE = 12.6613
LENS_TEMPERATURE = 10.6223
MACROPIXEL_SIZE = 2
MISSING_FRAMES = 0
PIXEL_SUBSAMPLING_FLAG = N
SIGNAL_CHAIN_ID = 3
/* RADIOMETRIC DATA ELEMENTS */
BANDWIDTH = 174.0
CENTER_FILTER_WAVELENGTH = 675.0
RADIANCE_OFFSET = 3.82057
RADIANCE_SCALING_FACTOR = 0.024744
REFLECTANCE_SCALING_FACTOR = 0.000612926
MEX:REFLECTANCE_OFFSET = 0.0946381
/* IMAGE OBJECT DEFINITIONS */
OBJECT = IMAGE
  INTERCHANGE_FORMAT = BINARY
  LINES = 17389
  LINE_SAMPLES = 3607
  SAMPLE_TYPE = UNSIGNED_INTEGER
  SAMPLE_BITS = 8
  BANDS = 1
  BAND_STORAGE_TYPE = BAND_SEQUENTIAL
  MAXIMUM = 255
  MEAN = 145.992
  MINIMUM = 1
  STANDARD_DEVIATION = 40.585
END_OBJECT = IMAGE
/* MAP OBJECT DEFINITIONS */
OBJECT = IMAGE_MAP_PROJECTION
  ^DATA_SET_MAP_PROJECTION_CATALOG= "DSMAP.CAT"
  A_AXIS_RADIUS = 3396.0
  B_AXIS_RADIUS = 3396.0
  C_AXIS_RADIUS = 3396.0
  CENTER_LATITUDE = 0.0
  CENTER_LONGITUDE = 181.0
  COORDINATE_SYSTEM_NAME = PLANETOGRAPHIC
  COORDINATE_SYSTEM_TYPE = "BODY-FIXED ROTATING"
  EASTERNMOST_LONGITUDE = 182.291
  FIRST_STANDARD_PARALLEL = "N/A"
  LINE_FIRST_PIXEL = 1
  LINE_LAST_PIXEL = 17389
  LINE_PROJECTION_OFFSET = -102750.25
  MAP_PROJECTION_ROTATION = 0.0
  MAP_PROJECTION_TYPE = SINUSOIDAL
  MAP_RESOLUTION = 2370.85521546667
  MAP_SCALE = 0.025
  MAXIMUM_LATITUDE = -43.3205
  MINIMUM_LATITUDE = -50.6149
  POSITIVE_LONGITUDE_DIRECTION = EAST
  REFERENCE_LATITUDE = "N/A"
  REFERENCE_LONGITUDE = "N/A"
  SAMPLE_FIRST_PIXEL = 1
  SAMPLE_LAST_PIXEL = 3607
  SAMPLE_PROJECTION_OFFSET = 1331.75
  SECOND_STANDARD_PARALLEL = "N/A"
  WESTERNMOST_LONGITUDE = 180.156
END_OBJECT = IMAGE_MAP_PROJECTION
/* The JPEG2000 image data file associated with this label. */
OBJECT = COMPRESSED_FILE
  FILE_NAME = "HI918_0000_P13.JP2"
  RECORD_TYPE = UNDEFINED
  FILE_RECORDS = UNK
  ENCODING_TYPE = "JP2"
  INTERCHANGE_FORMAT = BINARY
  UNCOMPRESSED_FILE_NAME = "HI918_0000_P13.IMG"
  REQUIRED_STORAGE_BYTES = "62743765"
  ^DESCRIPTION = "JP2INFO.TXT"
END_OBJECT = COMPRESSED_FILE
END
