PDS_VERSION_ID = PDS3
/* FILE DATA ELEMENTS */
RECORD_TYPE = STREAM
/* POINTERS TO DATA OBJECTS */
^COMPRESSED_FILE = "HI924_0000_P23.JP2"
/* IDENTIFICATION DATA ELEMENTS */
DATA_SET_ID = "MEX-M-HRSC-5-REFDR-MAPPROJECTED-V3.0"
DATA_SET_NAME = "MARS EXPRESS HRSC MAP PROJECTED REFDR V3.0"
DETECTOR_ID = MEX_HRSC_P2
EVENT_TYPE = "MARS-REGIONAL-MAPPING-Te-Im-Ot"
INSTRUMENT_HOST_ID = MEX
INSTRUMENT_HOST_NAME = "MARS EXPRESS"
INSTRUMENT_ID = HRSC
INSTRUMENT_NAME = "HIGH RESOLUTION STEREO CAMERA"
MISSION_NAME = "MARS EXPRESS"
MISSION_PHASE_NAME = ME_Phase_39
PROCESSING_LEVEL_ID = 3
PRODUCT_CREATION_TIME = 2019-02-22T11:38:04.000Z
PRODUCT_ID = "HI924_0000_P23.JP2"
RELEASE_ID = 0143
REVISION_ID = 0000
/* QUALITY DATA ELEMENTS */
DATA_QUALITY_ID = 1
DATA_QUALITY_DESC = "Data calculated based on original SPICE kernels"
/* TIME DATA ELEMENTS */
SPACECRAFT_CLOCK_START_COUNT = "1/0493084330.23982"
SPACECRAFT_CLOCK_STOP_COUNT = "1/0493084566.00116"
START_TIME = 2018-12-16T23:52:54.847Z
STOP_TIME = 2018-12-16T23:55:46.321Z
/* ORBITAL DATA ELEMENTS */
ASCENDING_NODE_LONGITUDE = 219.17
MAXIMUM_RESOLUTION = 27.3
FOOTPRINT_POINT_LATITUDE = (-55.7817,-55.7484,-55.5472,-55.3042, -54.9396,-54.6958,-54.4525,-54.2078, -53.9637,-53.719,-53.4742,-53.2294, -52.878,-52.6723,-52.4664,-52.2598, -51.95,-51.743,-51.5355,-51.3277, -51.1204,-50.9126,-50.7051,-50.4969, -50.2887,-50.0798,-49.8704,-49.6606, -49.3465,-49.1367,-48.9268,-48.7164, -48.5057,-48.2949,-48.0841,-47.8732, -47.6625,-47.4521,-47.2408,-47.029, -46.7119,-46.5004,-46.2886,-46.0774, -45.7622,-45.5569,-45.2473,-45.0407, -44.8339,-44.8369,-44.8471,-44.8522, -44.8576,-45.0647,-45.271,-45.4776, -45.6845,-45.9977,-46.2087,-46.4215, -46.6281,-46.84,-47.052,-47.3763, -47.591,-47.8023,-48.1195,-48.3301, -48.6461,-48.8565,-49.0666,-49.2777, -49.4883,-49.6995,-49.911,-50.1209, -50.4351,-50.6433,-50.8462,-51.0524, -51.2613,-51.5736,-51.7818,-52.0973, -52.3095,-52.5169,-52.7233,-52.9302, -53.1596,-53.4072,-53.6547,-53.9017, -54.1482,-54.3885,-54.6323,-54.8768, -55.2461,-55.4958,-55.7389,-55.7817)
FOOTPRINT_POINT_LONGITUDE = (288.386,287.421,286.728,286.766, 286.821,286.856,286.892,286.926,286.96, 286.993,287.026,287.059,287.104,287.13, 287.156,287.181,287.218,287.242,287.266 ,287.289,287.312,287.334,287.357, 287.379,287.4,287.421,287.442,287.462, 287.492,287.511,287.53,287.549,287.567, 287.585,287.603,287.621,287.638,287.656 ,287.672,287.689,287.713,287.729, 287.745,287.76,287.783,287.798,287.818, 287.831,287.844,288.415,288.796,289.113 ,289.485,289.479,289.475,289.469, 289.464,289.456,289.452,289.446,289.445 ,289.439,289.434,289.421,289.413, 289.407,289.398,289.392,289.383,289.377 ,289.371,289.363,289.357,289.349, 289.341,289.334,289.323,289.317,289.314 ,289.309,289.301,289.29,289.283,289.268 ,289.256,289.248,289.241,289.233, 289.222,289.211,289.2,289.188,289.177, 289.17,289.16,289.149,289.129,289.112, 289.101,288.386)
ORBIT_NUMBER = 18924
ORBITAL_ECCENTRICITY = 0.578
ORBITAL_INCLINATION = 86.96
ORBITAL_SEMIMAJOR_AXIS = 8806.88
PERIAPSIS_ALTITUDE = 329.77
PERIAPSIS_ARGUMENT_ANGLE = 318.32
PERIAPSIS_TIME = 2018-12-16T23:56:56.000Z
SPACECRAFT_ORIENTATION = (0.0,1.0,0.0)
^MEX_ORIENTATION_DESC = "MEX_ORIENTATION_DESC.TXT"
SPACECRAFT_POINTING_MODE = NADIR
^MEX_POINTING_DESC = "MEX_POINTING_DESC.TXT"
RIGHT_ASCENSION = -1e+32
DECLINATION = -1e+32
OFFSET_ANGLE = -1e+32
SPACECRAFT_SOLAR_DISTANCE = 2.14882e+08
TARGET_NAME = MARS
/* CAMERA DATA ELEMENTS */
DETECTOR_TEMPERATURE = 20.0017
FOCAL_PLANE_TEMPERATURE = 9.8067
INST_CMPRS_NAME = "DISCRETE COSINE TRANSFORMATION (DCT)"
INST_CMPRS_RATIO = 7.13071
INST_CMPRS_QUALITY = 0
INST_CMPRS_QUANTZ_TBL_ID = 0
INSTRUMENT_TEMPERATURE = 12.6613
LENS_TEMPERATURE = 10.2145
MACROPIXEL_SIZE = 2
MISSING_FRAMES = 0
PIXEL_SUBSAMPLING_FLAG = N
SIGNAL_CHAIN_ID = 3
/* RADIOMETRIC DATA ELEMENTS */
BANDWIDTH = 177.0
CENTER_FILTER_WAVELENGTH = 676.5
RADIANCE_OFFSET = 4.1237
RADIANCE_SCALING_FACTOR = 0.0144443
REFLECTANCE_SCALING_FACTOR = 0.000353632
MEX:REFLECTANCE_OFFSET = 0.100958
/* IMAGE OBJECT DEFINITIONS */
OBJECT = IMAGE
  INTERCHANGE_FORMAT = BINARY
  LINES = 25941
  LINE_SAMPLES = 4236
  SAMPLE_TYPE = UNSIGNED_INTEGER
  SAMPLE_BITS = 8
  BANDS = 1
  BAND_STORAGE_TYPE = BAND_SEQUENTIAL
  MAXIMUM = 255
  MEAN = 153.941
  MINIMUM = 1
  STANDARD_DEVIATION = 28.8738
END_OBJECT = IMAGE
/* MAP OBJECT DEFINITIONS */
OBJECT = IMAGE_MAP_PROJECTION
  ^DATA_SET_MAP_PROJECTION_CATALOG= "DSMAP.CAT"
  A_AXIS_RADIUS = 3396.0
  B_AXIS_RADIUS = 3396.0
  C_AXIS_RADIUS = 3396.0
  CENTER_LATITUDE = 0.0
  CENTER_LONGITUDE = 288.0
  COORDINATE_SYSTEM_NAME = PLANETOGRAPHIC
  COORDINATE_SYSTEM_TYPE = "BODY-FIXED ROTATING"
  EASTERNMOST_LONGITUDE = 289.485
  FIRST_STANDARD_PARALLEL = "N/A"
  LINE_FIRST_PIXEL = 1
  LINE_LAST_PIXEL = 25941
  LINE_PROJECTION_OFFSET = -106200.25
  MAP_PROJECTION_ROTATION = 0.0
  MAP_PROJECTION_TYPE = SINUSOIDAL
  MAP_RESOLUTION = 2370.85521546667
  MAP_SCALE = 0.025
  MAXIMUM_LATITUDE = -44.8339
  MINIMUM_LATITUDE = -55.7817
  POSITIVE_LONGITUDE_DIRECTION = EAST
  REFERENCE_LATITUDE = "N/A"
  REFERENCE_LONGITUDE = "N/A"
  SAMPLE_FIRST_PIXEL = 1
  SAMPLE_LAST_PIXEL = 4236
  SAMPLE_PROJECTION_OFFSET = 1698.25
  SECOND_STANDARD_PARALLEL = "N/A"
  WESTERNMOST_LONGITUDE = 286.728
END_OBJECT = IMAGE_MAP_PROJECTION
/* The JPEG2000 image data file associated with this label. */
OBJECT = COMPRESSED_FILE
  FILE_NAME = "HI924_0000_P23.JP2"
  RECORD_TYPE = UNDEFINED
  FILE_RECORDS = UNK
  ENCODING_TYPE = "JP2"
  INTERCHANGE_FORMAT = BINARY
  UNCOMPRESSED_FILE_NAME = "HI924_0000_P23.IMG"
  REQUIRED_STORAGE_BYTES = "109911492"
  ^DESCRIPTION = "JP2INFO.TXT"
END_OBJECT = COMPRESSED_FILE
END
