PDS_VERSION_ID = PDS3
/* FILE DATA ELEMENTS */
RECORD_TYPE = STREAM
/* POINTERS TO DATA OBJECTS */
^COMPRESSED_FILE = "HI929_0000_BL3.JP2"
/* IDENTIFICATION DATA ELEMENTS */
DATA_SET_ID = "MEX-M-HRSC-5-REFDR-MAPPROJECTED-V3.0"
DATA_SET_NAME = "MARS EXPRESS HRSC MAP PROJECTED REFDR V3.0"
DETECTOR_ID = MEX_HRSC_BLUE
EVENT_TYPE = "MARS-REGIONAL-MAPPING-Im-Fl"
INSTRUMENT_HOST_ID = MEX
INSTRUMENT_HOST_NAME = "MARS EXPRESS"
INSTRUMENT_ID = HRSC
INSTRUMENT_NAME = "HIGH RESOLUTION STEREO CAMERA"
MISSION_NAME = "MARS EXPRESS"
MISSION_PHASE_NAME = ME_Phase_39
PROCESSING_LEVEL_ID = 3
PRODUCT_CREATION_TIME = 2019-02-22T11:38:04.000Z
PRODUCT_ID = "HI929_0000_BL3.JP2"
RELEASE_ID = 0143
REVISION_ID = 0000
/* QUALITY DATA ELEMENTS */
DATA_QUALITY_ID = 1
DATA_QUALITY_DESC = "Data calculated based on original SPICE kernels"
/* TIME DATA ELEMENTS */
SPACECRAFT_CLOCK_START_COUNT = "1/0493210055.25726"
SPACECRAFT_CLOCK_STOP_COUNT = "1/0493210340.48488"
START_TIME = 2018-12-18T10:48:36.443Z
STOP_TIME = 2018-12-18T10:52:15.959Z
/* ORBITAL DATA ELEMENTS */
ASCENDING_NODE_LONGITUDE = 219.08
MAXIMUM_RESOLUTION = 52.3
FOOTPRINT_POINT_LATITUDE = (-54.6685,-54.6593,-54.6488,-54.6373, -54.625,-54.6118,-54.586,-54.3028, -54.0198,-53.736,-53.4522,-53.025, -52.7393,-52.4544,-52.17,-51.8848, -51.5991,-51.3132,-51.0273,-50.597, -50.3101,-50.0235,-49.5937,-49.1623, -48.7307,-48.4428,-48.0102,-47.7218, -47.4354,-47.1561,-46.8766,-46.597, -46.1771,-45.8971,-45.4764,-45.1959, -44.9151,-44.6335,-44.3528,-43.9316, -43.5099,-43.0881,-42.8071,-42.5257, -42.1033,-41.8218,-41.5401,-41.2585, -40.977,-40.6952,-40.4136,-40.3639, -40.3692,-40.3755,-40.3826,-40.3871, -40.6695,-41.0931,-41.3754,-41.6576, -41.94,-42.2221,-42.6452,-43.068, -43.4907,-43.7726,-44.1956,-44.4775, -44.9004,-45.1806,-45.462,-45.7441, -46.0251,-46.4457,-46.7263,-47.0067, -47.4275,-47.8581,-48.1474,-48.5801, -48.8689,-49.1578,-49.4468,-49.7353, -50.0235,-50.3113,-50.5989,-51.0303, -51.4614,-51.7481,-52.0349,-52.3214, -52.6077,-52.8939,-53.3239,-53.61, -53.8952,-54.1801,-54.6072,-54.6685)
FOOTPRINT_POINT_LONGITUDE = (137.874,137.578,137.261,136.944, 136.627,136.309,136.025,136.066,136.107 ,136.146,136.185,136.239,136.272, 136.308,136.345,136.38,136.413,136.446, 136.478,136.523,136.553,136.583,136.629 ,136.671,136.711,136.738,136.775,136.8, 136.825,136.848,136.871,136.893,136.925 ,136.945,136.975,136.994,137.012, 137.028,137.046,137.073,137.098,137.122 ,137.138,137.153,137.174,137.188, 137.201,137.215,137.228,137.24,137.253, 137.605,137.828,138.121,138.511,138.752 ,138.745,138.735,138.728,138.721, 138.713,138.706,138.695,138.684,138.673 ,138.665,138.652,138.643,138.629, 138.622,138.613,138.603,138.594,138.581 ,138.572,138.563,138.548,138.532, 138.522,138.508,138.497,138.485,138.473 ,138.461,138.449,138.437,138.425, 138.406,138.386,138.373,138.36,138.346, 138.332,138.317,138.292,138.275,138.259 ,138.244,138.219,137.874)
ORBIT_NUMBER = 18929
ORBITAL_ECCENTRICITY = 0.578
ORBITAL_INCLINATION = 86.95
ORBITAL_SEMIMAJOR_AXIS = 8806.14
PERIAPSIS_ALTITUDE = 329.96
PERIAPSIS_ARGUMENT_ANGLE = 317.47
PERIAPSIS_TIME = 2018-12-18T10:51:50.000Z
SPACECRAFT_ORIENTATION = (0.0,1.0,0.0)
^MEX_ORIENTATION_DESC = "MEX_ORIENTATION_DESC.TXT"
SPACECRAFT_POINTING_MODE = ACROSSTRACK
^MEX_POINTING_DESC = "MEX_POINTING_DESC.TXT"
RIGHT_ASCENSION = -1e+32
DECLINATION = -1e+32
OFFSET_ANGLE = 0.15
SPACECRAFT_SOLAR_DISTANCE = 2.1512e+08
TARGET_NAME = MARS
/* CAMERA DATA ELEMENTS */
DETECTOR_TEMPERATURE = 18.5744
FOCAL_PLANE_TEMPERATURE = 9.8067
INST_CMPRS_NAME = "DISCRETE COSINE TRANSFORMATION (DCT)"
INST_CMPRS_RATIO = 10.6575
INST_CMPRS_QUALITY = 0
INST_CMPRS_QUANTZ_TBL_ID = 0
INSTRUMENT_TEMPERATURE = 12.2535
LENS_TEMPERATURE = 10.4184
MACROPIXEL_SIZE = 4
MISSING_FRAMES = 0
PIXEL_SUBSAMPLING_FLAG = N
SIGNAL_CHAIN_ID = 2
/* RADIOMETRIC DATA ELEMENTS */
BANDWIDTH = 76.0
CENTER_FILTER_WAVELENGTH = 444.0
RADIANCE_OFFSET = 0.621449
RADIANCE_SCALING_FACTOR = 0.0020678
REFLECTANCE_SCALING_FACTOR = 9.83165e-05
MEX:REFLECTANCE_OFFSET = 0.0295476
/* IMAGE OBJECT DEFINITIONS */
OBJECT = IMAGE
  INTERCHANGE_FORMAT = BINARY
  LINES = 16973
  LINE_SAMPLES = 2082
  SAMPLE_TYPE = UNSIGNED_INTEGER
  SAMPLE_BITS = 8
  BANDS = 1
  BAND_STORAGE_TYPE = BAND_SEQUENTIAL
  MAXIMUM = 255
  MEAN = 132.077
  MINIMUM = 1
  STANDARD_DEVIATION = 35.3746
END_OBJECT = IMAGE
/* MAP OBJECT DEFINITIONS */
OBJECT = IMAGE_MAP_PROJECTION
  ^DATA_SET_MAP_PROJECTION_CATALOG= "DSMAP.CAT"
  A_AXIS_RADIUS = 3396.0
  B_AXIS_RADIUS = 3396.0
  C_AXIS_RADIUS = 3396.0
  CENTER_LATITUDE = 0.0
  CENTER_LONGITUDE = 138.0
  COORDINATE_SYSTEM_NAME = PLANETOGRAPHIC
  COORDINATE_SYSTEM_TYPE = "BODY-FIXED ROTATING"
  EASTERNMOST_LONGITUDE = 138.752
  FIRST_STANDARD_PARALLEL = "N/A"
  LINE_FIRST_PIXEL = 1
  LINE_LAST_PIXEL = 16973
  LINE_PROJECTION_OFFSET = -47833.875
  MAP_PROJECTION_ROTATION = 0.0
  MAP_PROJECTION_TYPE = SINUSOIDAL
  MAP_RESOLUTION = 1185.42760773333
  MAP_SCALE = 0.05
  MAXIMUM_LATITUDE = -40.3639
  MINIMUM_LATITUDE = -54.6685
  POSITIVE_LONGITUDE_DIRECTION = EAST
  REFERENCE_LATITUDE = "N/A"
  REFERENCE_LONGITUDE = "N/A"
  SAMPLE_FIRST_PIXEL = 1
  SAMPLE_LAST_PIXEL = 2082
  SAMPLE_PROJECTION_OFFSET = 1381.875
  SECOND_STANDARD_PARALLEL = "N/A"
  WESTERNMOST_LONGITUDE = 136.025
END_OBJECT = IMAGE_MAP_PROJECTION
/* The JPEG2000 image data file associated with this label. */
OBJECT = COMPRESSED_FILE
  FILE_NAME = "HI929_0000_BL3.JP2"
  RECORD_TYPE = UNDEFINED
  FILE_RECORDS = UNK
  ENCODING_TYPE = "JP2"
  INTERCHANGE_FORMAT = BINARY
  UNCOMPRESSED_FILE_NAME = "HI929_0000_BL3.IMG"
  REQUIRED_STORAGE_BYTES = "35358606"
  ^DESCRIPTION = "JP2INFO.TXT"
END_OBJECT = COMPRESSED_FILE
END
