PDS_VERSION_ID = PDS3
/* FILE DATA ELEMENTS */
RECORD_TYPE = STREAM
/* POINTERS TO DATA OBJECTS */
^COMPRESSED_FILE = "HI929_0000_P13.JP2"
/* IDENTIFICATION DATA ELEMENTS */
DATA_SET_ID = "MEX-M-HRSC-5-REFDR-MAPPROJECTED-V3.0"
DATA_SET_NAME = "MARS EXPRESS HRSC MAP PROJECTED REFDR V3.0"
DETECTOR_ID = MEX_HRSC_P1
EVENT_TYPE = "MARS-REGIONAL-MAPPING-Im-Fl"
INSTRUMENT_HOST_ID = MEX
INSTRUMENT_HOST_NAME = "MARS EXPRESS"
INSTRUMENT_ID = HRSC
INSTRUMENT_NAME = "HIGH RESOLUTION STEREO CAMERA"
MISSION_NAME = "MARS EXPRESS"
MISSION_PHASE_NAME = ME_Phase_39
PROCESSING_LEVEL_ID = 3
PRODUCT_CREATION_TIME = 2019-02-22T11:38:04.000Z
PRODUCT_ID = "HI929_0000_P13.JP2"
RELEASE_ID = 0143
REVISION_ID = 0000
/* QUALITY DATA ELEMENTS */
DATA_QUALITY_ID = 1
DATA_QUALITY_DESC = "Data calculated based on original SPICE kernels"
/* TIME DATA ELEMENTS */
SPACECRAFT_CLOCK_START_COUNT = "1/0493210055.25726"
SPACECRAFT_CLOCK_STOP_COUNT = "1/0493210340.48488"
START_TIME = 2018-12-18T10:49:03.483Z
STOP_TIME = 2018-12-18T10:52:40.494Z
/* ORBITAL DATA ELEMENTS */
ASCENDING_NODE_LONGITUDE = 219.08
MAXIMUM_RESOLUTION = 26.9
FOOTPRINT_POINT_LATITUDE = (-54.5945,-54.5865,-54.576,-54.5633, -54.5527,-54.5428,-54.2892,-53.9984, -53.7093,-53.4185,-53.1281,-52.8437, -52.5538,-52.2629,-52.1156,-51.8251, -51.5348,-51.2406,-50.9492,-50.6578, -50.3707,-50.0794,-49.7881,-49.6411, -49.3492,-49.0606,-48.7788,-48.3531, -47.9314,-47.5055,-47.0826,-46.8005, -46.519,-46.0973,-45.6759,-45.2552, -44.8375,-44.417,-43.996,-43.7156, -43.4358,-43.0155,-42.5955,-42.177, -41.8979,-41.6191,-41.3402,-40.9215, -40.6433,-40.3419,-40.3461,-40.349, -40.3524,-40.355,-40.3587,-40.6374, -40.916,-41.1949,-41.4742,-41.893, -42.173,-42.4529,-42.8748,-43.295, -43.5755,-43.996,-44.2756,-44.6951, -45.1182,-45.4021,-45.6797,-45.961, -46.3858,-46.6687,-47.0924,-47.5145, -47.7963,-48.082,-48.3642,-48.6508, -49.078,-49.3661,-49.6569,-49.9491, -50.2411,-50.3876,-50.5341,-50.8261, -51.2638,-51.4126,-51.7054,-51.9974, -52.4349,-52.8721,-53.1637,-53.4491, -53.8851,-54.1765,-54.4666,-54.5945)
FOOTPRINT_POINT_LONGITUDE = (137.953,137.631,137.248,136.824, 136.501,136.217,136.081,136.123,136.161 ,136.201,136.239,136.269,136.305,136.34 ,136.36,136.394,136.427,136.46,136.492, 136.524,136.551,136.581,136.61,136.626, 136.655,136.682,136.708,136.746,136.782 ,136.818,136.852,136.875,136.896, 136.927,136.957,136.985,137.01,137.036, 137.062,137.078,137.094,137.118,137.14, 137.161,137.175,137.188,137.2,137.22, 137.231,137.42,137.671,137.876,138.154, 138.418,138.759,138.752,138.744,138.737 ,138.73,138.718,138.711,138.703,138.692 ,138.68,138.672,138.659,138.649,138.635 ,138.622,138.614,138.603,138.594,138.58 ,138.57,138.556,138.539,138.529,138.518 ,138.507,138.497,138.48,138.468,138.455 ,138.442,138.429,138.423,138.417, 138.403,138.383,138.375,138.361,138.347 ,138.324,138.301,138.285,138.266,138.24 ,138.223,138.205,137.953)
ORBIT_NUMBER = 18929
ORBITAL_ECCENTRICITY = 0.578
ORBITAL_INCLINATION = 86.95
ORBITAL_SEMIMAJOR_AXIS = 8806.14
PERIAPSIS_ALTITUDE = 329.96
PERIAPSIS_ARGUMENT_ANGLE = 317.47
PERIAPSIS_TIME = 2018-12-18T10:51:50.000Z
SPACECRAFT_ORIENTATION = (0.0,1.0,0.0)
^MEX_ORIENTATION_DESC = "MEX_ORIENTATION_DESC.TXT"
SPACECRAFT_POINTING_MODE = ACROSSTRACK
^MEX_POINTING_DESC = "MEX_POINTING_DESC.TXT"
RIGHT_ASCENSION = -1e+32
DECLINATION = -1e+32
OFFSET_ANGLE = 0.15
SPACECRAFT_SOLAR_DISTANCE = 2.1512e+08
TARGET_NAME = MARS
/* CAMERA DATA ELEMENTS */
DETECTOR_TEMPERATURE = 18.3705
FOCAL_PLANE_TEMPERATURE = 9.8067
INST_CMPRS_NAME = "DISCRETE COSINE TRANSFORMATION (DCT)"
INST_CMPRS_RATIO = 8.26842
INST_CMPRS_QUALITY = 0
INST_CMPRS_QUANTZ_TBL_ID = 0
INSTRUMENT_TEMPERATURE = 12.2535
LENS_TEMPERATURE = 10.4184
MACROPIXEL_SIZE = 2
MISSING_FRAMES = 3
PIXEL_SUBSAMPLING_FLAG = N
SIGNAL_CHAIN_ID = 3
/* RADIOMETRIC DATA ELEMENTS */
BANDWIDTH = 174.0
CENTER_FILTER_WAVELENGTH = 675.0
RADIANCE_OFFSET = 4.45733
RADIANCE_SCALING_FACTOR = 0.0267871
REFLECTANCE_SCALING_FACTOR = 0.000666765
MEX:REFLECTANCE_OFFSET = 0.110949
/* IMAGE OBJECT DEFINITIONS */
OBJECT = IMAGE
  INTERCHANGE_FORMAT = BINARY
  LINES = 33946
  LINE_SAMPLES = 4164
  SAMPLE_TYPE = UNSIGNED_INTEGER
  SAMPLE_BITS = 8
  BANDS = 1
  BAND_STORAGE_TYPE = BAND_SEQUENTIAL
  MAXIMUM = 255
  MEAN = 142.052
  MINIMUM = 1
  STANDARD_DEVIATION = 46.3033
END_OBJECT = IMAGE
/* MAP OBJECT DEFINITIONS */
OBJECT = IMAGE_MAP_PROJECTION
  ^DATA_SET_MAP_PROJECTION_CATALOG= "DSMAP.CAT"
  A_AXIS_RADIUS = 3396.0
  B_AXIS_RADIUS = 3396.0
  C_AXIS_RADIUS = 3396.0
  CENTER_LATITUDE = 0.0
  CENTER_LONGITUDE = 138.0
  COORDINATE_SYSTEM_NAME = PLANETOGRAPHIC
  COORDINATE_SYSTEM_TYPE = "BODY-FIXED ROTATING"
  EASTERNMOST_LONGITUDE = 138.759
  FIRST_STANDARD_PARALLEL = "N/A"
  LINE_FIRST_PIXEL = 1
  LINE_LAST_PIXEL = 33946
  LINE_PROJECTION_OFFSET = -95667.25
  MAP_PROJECTION_ROTATION = 0.0
  MAP_PROJECTION_TYPE = SINUSOIDAL
  MAP_RESOLUTION = 2370.85521546667
  MAP_SCALE = 0.025
  MAXIMUM_LATITUDE = -40.3419
  MINIMUM_LATITUDE = -54.5945
  POSITIVE_LONGITUDE_DIRECTION = EAST
  REFERENCE_LATITUDE = "N/A"
  REFERENCE_LONGITUDE = "N/A"
  SAMPLE_FIRST_PIXEL = 1
  SAMPLE_LAST_PIXEL = 4164
  SAMPLE_PROJECTION_OFFSET = 2764.25
  SECOND_STANDARD_PARALLEL = "N/A"
  WESTERNMOST_LONGITUDE = 136.081
END_OBJECT = IMAGE_MAP_PROJECTION
/* The JPEG2000 image data file associated with this label. */
OBJECT = COMPRESSED_FILE
  FILE_NAME = "HI929_0000_P13.JP2"
  RECORD_TYPE = UNDEFINED
  FILE_RECORDS = UNK
  ENCODING_TYPE = "JP2"
  INTERCHANGE_FORMAT = BINARY
  UNCOMPRESSED_FILE_NAME = "HI929_0000_P13.IMG"
  REQUIRED_STORAGE_BYTES = "141376128"
  ^DESCRIPTION = "JP2INFO.TXT"
END_OBJECT = COMPRESSED_FILE
END
