PDS_VERSION_ID = PDS3
/* FILE DATA ELEMENTS */
RECORD_TYPE = STREAM
/* POINTERS TO DATA OBJECTS */
^COMPRESSED_FILE = "HI932_0000_GR3.JP2"
/* IDENTIFICATION DATA ELEMENTS */
DATA_SET_ID = "MEX-M-HRSC-5-REFDR-MAPPROJECTED-V3.0"
DATA_SET_NAME = "MARS EXPRESS HRSC MAP PROJECTED REFDR V3.0"
DETECTOR_ID = MEX_HRSC_GREEN
EVENT_TYPE = "MARS-REGIONAL-MAPPING-Te-Im-Fl"
INSTRUMENT_HOST_ID = MEX
INSTRUMENT_HOST_NAME = "MARS EXPRESS"
INSTRUMENT_ID = HRSC
INSTRUMENT_NAME = "HIGH RESOLUTION STEREO CAMERA"
MISSION_NAME = "MARS EXPRESS"
MISSION_PHASE_NAME = ME_Phase_39
PROCESSING_LEVEL_ID = 3
PRODUCT_CREATION_TIME = 2019-02-22T11:38:04.000Z
PRODUCT_ID = "HI932_0000_GR3.JP2"
RELEASE_ID = 0143
REVISION_ID = 0000
/* QUALITY DATA ELEMENTS */
DATA_QUALITY_ID = 1
DATA_QUALITY_DESC = "Data calculated based on original SPICE kernels"
/* TIME DATA ELEMENTS */
SPACECRAFT_CLOCK_START_COUNT = "1/0493285678.23986"
SPACECRAFT_CLOCK_STOP_COUNT = "1/0493285850.13834"
START_TIME = 2018-12-19T07:49:04.738Z
STOP_TIME = 2018-12-19T07:50:53.863Z
/* ORBITAL DATA ELEMENTS */
ASCENDING_NODE_LONGITUDE = 219.02
MAXIMUM_RESOLUTION = 52.4
FOOTPRINT_POINT_LATITUDE = (-42.1903,-42.1841,-42.1799,-42.1753, -42.1706,-41.9612,-41.8204,-41.6795, -41.5387,-41.398,-41.1868,-40.9754, -40.7642,-40.6234,-40.4829,-40.3422, -40.2015,-40.0607,-39.9199,-39.7791, -39.5682,-39.4276,-39.2871,-39.1464, -39.006,-38.7956,-38.585,-38.4445, -38.3041,-38.0936,-37.8832,-37.7433, -37.603,-37.4625,-37.3224,-37.1822, -36.9721,-36.8319,-36.6917,-36.5518, -36.3416,-36.0616,-35.9177,-35.7727, -35.6283,-35.4839,-35.3398,-35.1955, -35.0513,-35.0529,-35.0567,-35.0598, -35.0623,-35.0646,-35.0665,-35.2112, -35.428,-35.5727,-35.7174,-35.8621, -36.0782,-36.2184,-36.3587,-36.4988, -36.7092,-36.8495,-36.99,-37.2005, -37.3409,-37.5515,-37.7624,-37.9029, -38.0435,-38.2544,-38.395,-38.5357, -38.6763,-38.8169,-38.9576,-39.0982, -39.3093,-39.45,-39.591,-39.732, -39.8729,-40.0137,-40.2251,-40.4364, -40.5773,-40.7183,-40.8594,-41.071, -41.2122,-41.3531,-41.4943,-41.7061, -41.8471,-41.9884,-42.2001,-42.1903)
FOOTPRINT_POINT_LONGITUDE = (192.579,192.198,191.973,191.749,191.54 ,191.397,191.402,191.408,191.413, 191.418,191.425,191.433,191.44,191.445, 191.45,191.454,191.459,191.463,191.468, 191.472,191.478,191.482,191.486,191.49, 191.494,191.499,191.505,191.508,191.512 ,191.517,191.522,191.525,191.528, 191.531,191.534,191.537,191.541,191.544 ,191.547,191.55,191.554,191.559,191.562 ,191.565,191.568,191.57,191.572,191.574 ,191.576,191.789,192.11,192.378,192.569 ,192.84,193.022,193.021,193.019,193.018 ,193.016,193.015,193.013,193.012, 193.011,193.009,193.007,193.006,193.004 ,193.002,193.001,192.998,192.996, 192.994,192.993,192.99,192.988,192.986, 192.984,192.982,192.98,192.978,192.975, 192.972,192.971,192.97,192.968,192.965, 192.962,192.959,192.957,192.954,192.953 ,192.949,192.948,192.945,192.943,192.94 ,192.938,192.936,192.932,192.579)
ORBIT_NUMBER = 18932
ORBITAL_ECCENTRICITY = 0.578
ORBITAL_INCLINATION = 86.97
ORBITAL_SEMIMAJOR_AXIS = 8800.72
PERIAPSIS_ALTITUDE = 329.58
PERIAPSIS_ARGUMENT_ANGLE = 316.95
PERIAPSIS_TIME = 2018-12-19T07:48:49.000Z
SPACECRAFT_ORIENTATION = (0.0,1.0,0.0)
^MEX_ORIENTATION_DESC = "MEX_ORIENTATION_DESC.TXT"
SPACECRAFT_POINTING_MODE = ACROSSTRACK
^MEX_POINTING_DESC = "MEX_POINTING_DESC.TXT"
RIGHT_ASCENSION = -1e+32
DECLINATION = -1e+32
OFFSET_ANGLE = -0.269
SPACECRAFT_SOLAR_DISTANCE = 2.15264e+08
TARGET_NAME = MARS
/* CAMERA DATA ELEMENTS */
DETECTOR_TEMPERATURE = 18.5744
FOCAL_PLANE_TEMPERATURE = 10.0106
INST_CMPRS_NAME = "DISCRETE COSINE TRANSFORMATION (DCT)"
INST_CMPRS_RATIO = 7.14122
INST_CMPRS_QUALITY = 0
INST_CMPRS_QUANTZ_TBL_ID = 0
INSTRUMENT_TEMPERATURE = 12.4574
LENS_TEMPERATURE = 10.2145
MACROPIXEL_SIZE = 4
MISSING_FRAMES = 0
PIXEL_SUBSAMPLING_FLAG = N
SIGNAL_CHAIN_ID = 2
/* RADIOMETRIC DATA ELEMENTS */
BANDWIDTH = 88.0
CENTER_FILTER_WAVELENGTH = 538.0
RADIANCE_OFFSET = 1.44513
RADIANCE_SCALING_FACTOR = 0.00595341
REFLECTANCE_SCALING_FACTOR = 0.000237519
MEX:REFLECTANCE_OFFSET = 0.0576554
/* IMAGE OBJECT DEFINITIONS */
OBJECT = IMAGE
  INTERCHANGE_FORMAT = BINARY
  LINES = 8479
  LINE_SAMPLES = 1590
  SAMPLE_TYPE = UNSIGNED_INTEGER
  SAMPLE_BITS = 8
  BANDS = 1
  BAND_STORAGE_TYPE = BAND_SEQUENTIAL
  MAXIMUM = 255
  MEAN = 147.057
  MINIMUM = 1
  STANDARD_DEVIATION = 24.4787
END_OBJECT = IMAGE
/* MAP OBJECT DEFINITIONS */
OBJECT = IMAGE_MAP_PROJECTION
  ^DATA_SET_MAP_PROJECTION_CATALOG= "DSMAP.CAT"
  A_AXIS_RADIUS = 3396.0
  B_AXIS_RADIUS = 3396.0
  C_AXIS_RADIUS = 3396.0
  CENTER_LATITUDE = 0.0
  CENTER_LONGITUDE = 192.0
  COORDINATE_SYSTEM_NAME = PLANETOGRAPHIC
  COORDINATE_SYSTEM_TYPE = "BODY-FIXED ROTATING"
  EASTERNMOST_LONGITUDE = 193.022
  FIRST_STANDARD_PARALLEL = "N/A"
  LINE_FIRST_PIXEL = 1
  LINE_LAST_PIXEL = 8479
  LINE_PROJECTION_OFFSET = -41552.875
  MAP_PROJECTION_ROTATION = 0.0
  MAP_PROJECTION_TYPE = SINUSOIDAL
  MAP_RESOLUTION = 1185.42760773333
  MAP_SCALE = 0.05
  MAXIMUM_LATITUDE = -35.0513
  MINIMUM_LATITUDE = -42.2001
  POSITIVE_LONGITUDE_DIRECTION = EAST
  REFERENCE_LATITUDE = "N/A"
  REFERENCE_LONGITUDE = "N/A"
  SAMPLE_FIRST_PIXEL = 1
  SAMPLE_LAST_PIXEL = 1590
  SAMPLE_PROJECTION_OFFSET = 556.625
  SECOND_STANDARD_PARALLEL = "N/A"
  WESTERNMOST_LONGITUDE = 191.397
END_OBJECT = IMAGE_MAP_PROJECTION
/* The JPEG2000 image data file associated with this label. */
OBJECT = COMPRESSED_FILE
  FILE_NAME = "HI932_0000_GR3.JP2"
  RECORD_TYPE = UNDEFINED
  FILE_RECORDS = UNK
  ENCODING_TYPE = "JP2"
  INTERCHANGE_FORMAT = BINARY
  UNCOMPRESSED_FILE_NAME = "HI932_0000_GR3.IMG"
  REQUIRED_STORAGE_BYTES = "13500690"
  ^DESCRIPTION = "JP2INFO.TXT"
END_OBJECT = COMPRESSED_FILE
END
