PDS_VERSION_ID = PDS3
/* FILE DATA ELEMENTS */
RECORD_TYPE = STREAM
/* POINTERS TO DATA OBJECTS */
^COMPRESSED_FILE = "HI934_0000_ND3.JP2"
/* IDENTIFICATION DATA ELEMENTS */
DATA_SET_ID = "MEX-M-HRSC-5-REFDR-MAPPROJECTED-V3.0"
DATA_SET_NAME = "MARS EXPRESS HRSC MAP PROJECTED REFDR V3.0"
DETECTOR_ID = MEX_HRSC_NADIR
EVENT_TYPE = "MARS-REGIONAL-STEREO-Te-Im-Pf"
INSTRUMENT_HOST_ID = MEX
INSTRUMENT_HOST_NAME = "MARS EXPRESS"
INSTRUMENT_ID = HRSC
INSTRUMENT_NAME = "HIGH RESOLUTION STEREO CAMERA"
MISSION_NAME = "MARS EXPRESS"
MISSION_PHASE_NAME = ME_Phase_39
PROCESSING_LEVEL_ID = 3
PRODUCT_CREATION_TIME = 2019-02-22T11:38:04.000Z
PRODUCT_ID = "HI934_0000_ND3.JP2"
RELEASE_ID = 0143
REVISION_ID = 0000
/* QUALITY DATA ELEMENTS */
DATA_QUALITY_ID = 1
DATA_QUALITY_DESC = "Data calculated based on original SPICE kernels"
/* TIME DATA ELEMENTS */
SPACECRAFT_CLOCK_START_COUNT = "1/0493335902.23968"
SPACECRAFT_CLOCK_STOP_COUNT = "1/0493336053.16292"
START_TIME = 2018-12-19T21:46:04.086Z
STOP_TIME = 2018-12-19T21:47:33.099Z
/* ORBITAL DATA ELEMENTS */
ASCENDING_NODE_LONGITUDE = 218.99
MAXIMUM_RESOLUTION = 13.1
FOOTPRINT_POINT_LATITUDE = (-46.0227,-46.0158,-46.0106,-46.0065, -45.9996,-45.9911,-45.8699,-45.6372, -45.4044,-45.1716,-45.0551,-44.9387, -44.8223,-44.7058,-44.5311,-44.3564, -44.2399,-44.0652,-43.9487,-43.8321, -43.6574,-43.5408,-43.4243,-43.3078, -43.1331,-42.9583,-42.7835,-42.6088, -42.4922,-42.3174,-42.1426,-42.026, -41.9095,-41.793,-41.6765,-41.5599, -41.4434,-41.3269,-41.2104,-41.0938, -40.9773,-40.8608,-40.7443,-40.5696, -40.4531,-40.3366,-40.2201,-40.1636, -40.1682,-40.1728,-40.1774,-40.182, -40.1844,-40.3012,-40.4179,-40.5346, -40.6513,-40.768,-40.8848,-41.0015, -41.1766,-41.2934,-41.4102,-41.5853, -41.7021,-41.8772,-41.994,-42.1692, -42.2859,-42.4027,-42.5195,-42.6363, -42.7531,-42.8699,-42.9867,-43.1034, -43.2203,-43.337,-43.4538,-43.5706, -43.6874,-43.8042,-43.9793,-44.0961, -44.2129,-44.388,-44.5631,-44.7382, -44.855,-44.9717,-45.0884,-45.2052, -45.3219,-45.4386,-45.5553,-45.6719, -45.7886,-45.9053,-46.0219,-46.0227)
FOOTPRINT_POINT_LONGITUDE = (348.027,347.66,347.421,347.246,346.975 ,346.672,346.555,346.57,346.585,346.599 ,346.606,346.613,346.62,346.627,346.638 ,346.648,346.654,346.664,346.67,346.676 ,346.685,346.692,346.698,346.704, 346.714,346.723,346.732,346.741,346.746 ,346.754,346.763,346.767,346.772, 346.779,346.784,346.789,346.794,346.799 ,346.803,346.808,346.813,346.818, 346.822,346.829,346.834,346.838,346.843 ,347.053,347.275,347.527,347.809,348.15 ,348.351,348.348,348.346,348.344, 348.341,348.339,348.336,348.333,348.33, 348.327,348.325,348.321,348.318,348.315 ,348.312,348.308,348.306,348.303,348.3, 348.298,348.295,348.293,348.29,348.287, 348.283,348.28,348.277,348.274,348.271, 348.268,348.264,348.261,348.258,348.253 ,348.249,348.244,348.241,348.238, 348.235,348.231,348.228,348.225,348.222 ,348.219,348.215,348.212,348.208, 348.027)
ORBIT_NUMBER = 18934
ORBITAL_ECCENTRICITY = 0.578
ORBITAL_INCLINATION = 86.97
ORBITAL_SEMIMAJOR_AXIS = 8801.28
PERIAPSIS_ALTITUDE = 329.51
PERIAPSIS_ARGUMENT_ANGLE = 316.6
PERIAPSIS_TIME = 2018-12-19T21:46:46.000Z
SPACECRAFT_ORIENTATION = (0.0,1.0,0.0)
^MEX_ORIENTATION_DESC = "MEX_ORIENTATION_DESC.TXT"
SPACECRAFT_POINTING_MODE = NADIR
^MEX_POINTING_DESC = "MEX_POINTING_DESC.TXT"
RIGHT_ASCENSION = -1e+32
DECLINATION = -1e+32
OFFSET_ANGLE = -1e+32
SPACECRAFT_SOLAR_DISTANCE = 2.15361e+08
TARGET_NAME = MARS
/* CAMERA DATA ELEMENTS */
DETECTOR_TEMPERATURE = 19.1861
FOCAL_PLANE_TEMPERATURE = 9.3989
INST_CMPRS_NAME = "DISCRETE COSINE TRANSFORMATION (DCT)"
INST_CMPRS_RATIO = 5.24274
INST_CMPRS_QUALITY = 0
INST_CMPRS_QUANTZ_TBL_ID = 0
INSTRUMENT_TEMPERATURE = 12.2535
LENS_TEMPERATURE = 10.4184
MACROPIXEL_SIZE = 1
MISSING_FRAMES = 0
PIXEL_SUBSAMPLING_FLAG = N
SIGNAL_CHAIN_ID = 0
/* RADIOMETRIC DATA ELEMENTS */
BANDWIDTH = 177.0
CENTER_FILTER_WAVELENGTH = 677.5
RADIANCE_OFFSET = 4.89634
RADIANCE_SCALING_FACTOR = 0.0164583
REFLECTANCE_SCALING_FACTOR = 0.000405509
MEX:REFLECTANCE_OFFSET = 0.120639
/* IMAGE OBJECT DEFINITIONS */
OBJECT = IMAGE
  INTERCHANGE_FORMAT = BINARY
  LINES = 27807
  LINE_SAMPLES = 6225
  SAMPLE_TYPE = UNSIGNED_INTEGER
  SAMPLE_BITS = 8
  BANDS = 1
  BAND_STORAGE_TYPE = BAND_SEQUENTIAL
  MAXIMUM = 255
  MEAN = 139.675
  MINIMUM = 1
  STANDARD_DEVIATION = 31.0963
END_OBJECT = IMAGE
/* MAP OBJECT DEFINITIONS */
OBJECT = IMAGE_MAP_PROJECTION
  ^DATA_SET_MAP_PROJECTION_CATALOG= "DSMAP.CAT"
  A_AXIS_RADIUS = 3396.0
  B_AXIS_RADIUS = 3396.0
  C_AXIS_RADIUS = 3396.0
  CENTER_LATITUDE = 0.0
  CENTER_LONGITUDE = 348.0
  COORDINATE_SYSTEM_NAME = PLANETOGRAPHIC
  COORDINATE_SYSTEM_TYPE = "BODY-FIXED ROTATING"
  EASTERNMOST_LONGITUDE = 348.351
  FIRST_STANDARD_PARALLEL = "N/A"
  LINE_FIRST_PIXEL = 1
  LINE_LAST_PIXEL = 27807
  LINE_PROJECTION_OFFSET = -190429.0
  MAP_PROJECTION_ROTATION = 0.0
  MAP_PROJECTION_TYPE = SINUSOIDAL
  MAP_RESOLUTION = 4741.71043093333
  MAP_SCALE = 0.0125
  MAXIMUM_LATITUDE = -40.1636
  MINIMUM_LATITUDE = -46.0227
  POSITIVE_LONGITUDE_DIRECTION = EAST
  REFERENCE_LATITUDE = "N/A"
  REFERENCE_LONGITUDE = "N/A"
  SAMPLE_FIRST_PIXEL = 1
  SAMPLE_LAST_PIXEL = 6225
  SAMPLE_PROJECTION_OFFSET = 4849.0
  SECOND_STANDARD_PARALLEL = "N/A"
  WESTERNMOST_LONGITUDE = 346.555
END_OBJECT = IMAGE_MAP_PROJECTION
/* The JPEG2000 image data file associated with this label. */
OBJECT = COMPRESSED_FILE
  FILE_NAME = "HI934_0000_ND3.JP2"
  RECORD_TYPE = UNDEFINED
  FILE_RECORDS = UNK
  ENCODING_TYPE = "JP2"
  INTERCHANGE_FORMAT = BINARY
  UNCOMPRESSED_FILE_NAME = "HI934_0000_ND3.IMG"
  REQUIRED_STORAGE_BYTES = "173129700"
  ^DESCRIPTION = "JP2INFO.TXT"
END_OBJECT = COMPRESSED_FILE
END
