PDS_VERSION_ID = PDS3
/* FILE DATA ELEMENTS */
RECORD_TYPE = STREAM
/* POINTERS TO DATA OBJECTS */
^COMPRESSED_FILE = "HI943_0000_P13.JP2"
/* IDENTIFICATION DATA ELEMENTS */
DATA_SET_ID = "MEX-M-HRSC-5-REFDR-MAPPROJECTED-V3.0"
DATA_SET_NAME = "MARS EXPRESS HRSC MAP PROJECTED REFDR V3.0"
DETECTOR_ID = MEX_HRSC_P1
EVENT_TYPE = "MARS-REGIONAL-MAPPING-Im-Fl-Eo"
INSTRUMENT_HOST_ID = MEX
INSTRUMENT_HOST_NAME = "MARS EXPRESS"
INSTRUMENT_ID = HRSC
INSTRUMENT_NAME = "HIGH RESOLUTION STEREO CAMERA"
MISSION_NAME = "MARS EXPRESS"
MISSION_PHASE_NAME = ME_Phase_39
PROCESSING_LEVEL_ID = 3
PRODUCT_CREATION_TIME = 2019-02-22T11:38:04.000Z
PRODUCT_ID = "HI943_0000_P13.JP2"
RELEASE_ID = 0143
REVISION_ID = 0000
/* QUALITY DATA ELEMENTS */
DATA_QUALITY_ID = 1
DATA_QUALITY_DESC = "Data calculated based on original SPICE kernels"
/* TIME DATA ELEMENTS */
SPACECRAFT_CLOCK_START_COUNT = "1/0493562189.24891"
SPACECRAFT_CLOCK_STOP_COUNT = "1/0493562425.23106"
START_TIME = 2018-12-22T12:37:50.394Z
STOP_TIME = 2018-12-22T12:40:44.116Z
/* ORBITAL DATA ELEMENTS */
ASCENDING_NODE_LONGITUDE = 218.82
MAXIMUM_RESOLUTION = 27
FOOTPRINT_POINT_LATITUDE = (-45.8338,-45.8276,-45.814,-45.8328, -45.4963,-45.2721,-45.0476,-44.8228, -44.4862,-44.2616,-44.0375,-43.8188, -43.5937,-43.3645,-43.1415,-42.8059, -42.5822,-42.2467,-42.0229,-41.7994, -41.4645,-41.2412,-41.0178,-40.7949, -40.4604,-40.1258,-39.9032,-39.6807, -39.4588,-39.1258,-38.9036,-38.6765, -38.4474,-38.1075,-37.8799,-37.6519, -37.4241,-37.1935,-36.9666,-36.6267, -36.3998,-36.1735,-35.947,-35.7209, -35.495,-35.269,-35.0434,-34.818, -34.5926,-34.5945,-34.5986,-34.6041, -34.606,-34.6099,-34.8373,-35.0623, -35.2886,-35.6281,-35.8537,-36.087, -36.3145,-36.5417,-36.8798,-37.1074, -37.4499,-37.6781,-37.9064,-38.1352, -38.3639,-38.5927,-38.9343,-39.1559, -39.4898,-39.7126,-39.9341,-40.1568, -40.3778,-40.6033,-40.8267,-41.0501, -41.2741,-41.4983,-41.722,-41.946, -42.1699,-42.3938,-42.618,-42.842, -43.0662,-43.4029,-43.7396,-43.9641, -44.1888,-44.4133,-44.6372,-44.8619, -45.0856,-45.4208,-45.7578,-45.8338)
FOOTPRINT_POINT_LONGITUDE = (148.986,148.736,148.238,147.755, 147.773,147.785,147.797,147.809,147.825 ,147.836,147.847,147.855,147.865, 147.877,147.886,147.9,147.91,147.923, 147.931,147.94,147.952,147.96,147.967, 147.975,147.986,147.996,148.003,148.009 ,148.016,148.025,148.03,148.036,148.042 ,148.049,148.053,148.058,148.063, 148.068,148.072,148.078,148.082,148.086 ,148.089,148.092,148.095,148.098, 148.101,148.104,148.106,148.337,148.568 ,148.989,149.251,149.607,149.606, 149.602,149.599,149.595,149.591,149.593 ,149.59,149.587,149.58,149.577,149.572, 149.569,149.565,149.562,149.559,149.555 ,149.549,149.546,149.541,149.538, 149.533,149.529,149.524,149.522,149.519 ,149.515,149.512,149.508,149.504,149.5, 149.496,149.492,149.487,149.483,149.478 ,149.471,149.464,149.459,149.454, 149.449,149.443,149.437,149.43,149.42, 149.41,148.986)
ORBIT_NUMBER = 18943
ORBITAL_ECCENTRICITY = 0.578
ORBITAL_INCLINATION = 86.96
ORBITAL_SEMIMAJOR_AXIS = 8800.92
PERIAPSIS_ALTITUDE = 329.93
PERIAPSIS_ARGUMENT_ANGLE = 315.1
PERIAPSIS_TIME = 2018-12-22T12:37:48.000Z
SPACECRAFT_ORIENTATION = (0.0,1.0,0.0)
^MEX_ORIENTATION_DESC = "MEX_ORIENTATION_DESC.TXT"
SPACECRAFT_POINTING_MODE = ACROSSTRACK
^MEX_POINTING_DESC = "MEX_POINTING_DESC.TXT"
RIGHT_ASCENSION = -1e+32
DECLINATION = -1e+32
OFFSET_ANGLE = -0.25
SPACECRAFT_SOLAR_DISTANCE = 2.15799e+08
TARGET_NAME = MARS
/* CAMERA DATA ELEMENTS */
DETECTOR_TEMPERATURE = 17.351
FOCAL_PLANE_TEMPERATURE = 9.8067
INST_CMPRS_NAME = "DISCRETE COSINE TRANSFORMATION (DCT)"
INST_CMPRS_RATIO = 8.01898
INST_CMPRS_QUALITY = 0
INST_CMPRS_QUANTZ_TBL_ID = 0
INSTRUMENT_TEMPERATURE = 11.8457
LENS_TEMPERATURE = 10.0106
MACROPIXEL_SIZE = 2
MISSING_FRAMES = 0
PIXEL_SUBSAMPLING_FLAG = N
SIGNAL_CHAIN_ID = 3
/* RADIOMETRIC DATA ELEMENTS */
BANDWIDTH = 174.0
CENTER_FILTER_WAVELENGTH = 675.0
RADIANCE_OFFSET = 4.68888
RADIANCE_SCALING_FACTOR = 0.024517
REFLECTANCE_SCALING_FACTOR = 0.000614118
MEX:REFLECTANCE_OFFSET = 0.11745
/* IMAGE OBJECT DEFINITIONS */
OBJECT = IMAGE
  INTERCHANGE_FORMAT = BINARY
  LINES = 26721
  LINE_SAMPLES = 3320
  SAMPLE_TYPE = UNSIGNED_INTEGER
  SAMPLE_BITS = 8
  BANDS = 1
  BAND_STORAGE_TYPE = BAND_SEQUENTIAL
  MAXIMUM = 255
  MEAN = 156.166
  MINIMUM = 1
  STANDARD_DEVIATION = 40.8896
END_OBJECT = IMAGE
/* MAP OBJECT DEFINITIONS */
OBJECT = IMAGE_MAP_PROJECTION
  ^DATA_SET_MAP_PROJECTION_CATALOG= "DSMAP.CAT"
  A_AXIS_RADIUS = 3396.0
  B_AXIS_RADIUS = 3396.0
  C_AXIS_RADIUS = 3396.0
  CENTER_LATITUDE = 0.0
  CENTER_LONGITUDE = 149.0
  COORDINATE_SYSTEM_NAME = PLANETOGRAPHIC
  COORDINATE_SYSTEM_TYPE = "BODY-FIXED ROTATING"
  EASTERNMOST_LONGITUDE = 149.607
  FIRST_STANDARD_PARALLEL = "N/A"
  LINE_FIRST_PIXEL = 1
  LINE_LAST_PIXEL = 26721
  LINE_PROJECTION_OFFSET = -82064.75
  MAP_PROJECTION_ROTATION = 0.0
  MAP_PROJECTION_TYPE = SINUSOIDAL
  MAP_RESOLUTION = 2370.85521546667
  MAP_SCALE = 0.025
  MAXIMUM_LATITUDE = -34.5926
  MINIMUM_LATITUDE = -45.8338
  POSITIVE_LONGITUDE_DIRECTION = EAST
  REFERENCE_LATITUDE = "N/A"
  REFERENCE_LONGITUDE = "N/A"
  SAMPLE_FIRST_PIXEL = 1
  SAMPLE_LAST_PIXEL = 3320
  SAMPLE_PROJECTION_OFFSET = 2073.75
  SECOND_STANDARD_PARALLEL = "N/A"
  WESTERNMOST_LONGITUDE = 147.755
END_OBJECT = IMAGE_MAP_PROJECTION
/* The JPEG2000 image data file associated with this label. */
OBJECT = COMPRESSED_FILE
  FILE_NAME = "HI943_0000_P13.JP2"
  RECORD_TYPE = UNDEFINED
  FILE_RECORDS = UNK
  ENCODING_TYPE = "JP2"
  INTERCHANGE_FORMAT = BINARY
  UNCOMPRESSED_FILE_NAME = "HI943_0000_P13.IMG"
  REQUIRED_STORAGE_BYTES = "88736960"
  ^DESCRIPTION = "JP2INFO.TXT"
END_OBJECT = COMPRESSED_FILE
END
