PDS_VERSION_ID = PDS3
/* FILE DATA ELEMENTS */
RECORD_TYPE = STREAM
/* POINTERS TO DATA OBJECTS */
^COMPRESSED_FILE = "HI943_0000_P23.JP2"
/* IDENTIFICATION DATA ELEMENTS */
DATA_SET_ID = "MEX-M-HRSC-5-REFDR-MAPPROJECTED-V3.0"
DATA_SET_NAME = "MARS EXPRESS HRSC MAP PROJECTED REFDR V3.0"
DETECTOR_ID = MEX_HRSC_P2
EVENT_TYPE = "MARS-REGIONAL-MAPPING-Im-Fl-Eo"
INSTRUMENT_HOST_ID = MEX
INSTRUMENT_HOST_NAME = "MARS EXPRESS"
INSTRUMENT_ID = HRSC
INSTRUMENT_NAME = "HIGH RESOLUTION STEREO CAMERA"
MISSION_NAME = "MARS EXPRESS"
MISSION_PHASE_NAME = ME_Phase_39
PROCESSING_LEVEL_ID = 3
PRODUCT_CREATION_TIME = 2019-02-22T11:38:04.000Z
PRODUCT_ID = "HI943_0000_P23.JP2"
RELEASE_ID = 0143
REVISION_ID = 0000
/* QUALITY DATA ELEMENTS */
DATA_QUALITY_ID = 1
DATA_QUALITY_DESC = "Data calculated based on original SPICE kernels"
/* TIME DATA ELEMENTS */
SPACECRAFT_CLOCK_START_COUNT = "1/0493562189.24891"
SPACECRAFT_CLOCK_STOP_COUNT = "1/0493562425.23106"
START_TIME = 2018-12-22T12:37:11.531Z
STOP_TIME = 2018-12-22T12:40:02.635Z
/* ORBITAL DATA ELEMENTS */
ASCENDING_NODE_LONGITUDE = 218.82
MAXIMUM_RESOLUTION = 27.1
FOOTPRINT_POINT_LATITUDE = (-45.9194,-45.9173,-45.9145,-45.9068, -45.8638,-45.6402,-45.4186,-45.1962, -44.9738,-44.7516,-44.5291,-44.307, -43.97,-43.7441,-43.5248,-43.3047, -43.0811,-42.858,-42.635,-42.3004, -41.966,-41.7425,-41.5191,-41.1845, -40.9613,-40.7378,-40.5147,-40.1801, -39.845,-39.6211,-39.3974,-39.0617, -38.8382,-38.6139,-38.3907,-38.1635, -37.9384,-37.7141,-37.49,-37.268, -36.9316,-36.7063,-36.4821,-36.2563, -36.0244,-35.7922,-35.444,-35.0961, -34.8641,-34.6323,-34.6312,-34.6322, -34.6329,-34.6345,-34.634,-34.8647, -35.0975,-35.3294,-35.5618,-35.7957, -36.1366,-36.3658,-36.7053,-36.9315, -37.1557,-37.3803,-37.6046,-37.8294, -38.0539,-38.2783,-38.503,-38.7277, -38.9525,-39.2897,-39.5131,-39.7374, -39.9636,-40.188,-40.5221,-40.7457, -40.9696,-41.3046,-41.5282,-41.8635, -42.0871,-42.3109,-42.6463,-42.8699, -43.0934,-43.4284,-43.6518,-43.8751, -44.2099,-44.4333,-44.657,-44.8806, -45.2162,-45.5525,-45.8864,-45.9194)
FOOTPRINT_POINT_LONGITUDE = (149.094,148.842,148.59,148.089,147.746 ,147.759,147.771,147.784,147.796, 147.808,147.819,147.831,147.846,147.856 ,147.868,147.879,147.889,147.899, 147.909,147.923,147.936,147.945,147.954 ,147.966,147.975,147.982,147.99,148.002 ,148.013,148.019,148.026,148.036, 148.042,148.048,148.054,148.059,148.064 ,148.07,148.075,148.081,148.088,148.092 ,148.096,148.1,148.105,148.109,148.114, 148.119,148.123,148.126,148.35,148.575, 148.814,149.139,149.583,149.582,149.579 ,149.577,149.574,149.57,149.573,149.57, 149.564,149.561,149.558,149.556,149.553 ,149.55,149.548,149.545,149.542,149.539 ,149.536,149.53,149.528,149.525,149.52, 149.517,149.514,149.511,149.508,149.503 ,149.5,149.495,149.491,149.488,149.482, 149.478,149.474,149.468,149.463,149.459 ,149.452,149.448,149.442,149.437, 149.429,149.419,149.411,149.094)
ORBIT_NUMBER = 18943
ORBITAL_ECCENTRICITY = 0.578
ORBITAL_INCLINATION = 86.96
ORBITAL_SEMIMAJOR_AXIS = 8800.92
PERIAPSIS_ALTITUDE = 329.93
PERIAPSIS_ARGUMENT_ANGLE = 315.1
PERIAPSIS_TIME = 2018-12-22T12:37:48.000Z
SPACECRAFT_ORIENTATION = (0.0,1.0,0.0)
^MEX_ORIENTATION_DESC = "MEX_ORIENTATION_DESC.TXT"
SPACECRAFT_POINTING_MODE = ACROSSTRACK
^MEX_POINTING_DESC = "MEX_POINTING_DESC.TXT"
RIGHT_ASCENSION = -1e+32
DECLINATION = -1e+32
OFFSET_ANGLE = -0.25
SPACECRAFT_SOLAR_DISTANCE = 2.15799e+08
TARGET_NAME = MARS
/* CAMERA DATA ELEMENTS */
DETECTOR_TEMPERATURE = 19.1861
FOCAL_PLANE_TEMPERATURE = 9.8067
INST_CMPRS_NAME = "DISCRETE COSINE TRANSFORMATION (DCT)"
INST_CMPRS_RATIO = 6.05073
INST_CMPRS_QUALITY = 0
INST_CMPRS_QUANTZ_TBL_ID = 0
INSTRUMENT_TEMPERATURE = 11.8457
LENS_TEMPERATURE = 10.0106
MACROPIXEL_SIZE = 2
MISSING_FRAMES = 0
PIXEL_SUBSAMPLING_FLAG = N
SIGNAL_CHAIN_ID = 3
/* RADIOMETRIC DATA ELEMENTS */
BANDWIDTH = 177.0
CENTER_FILTER_WAVELENGTH = 676.5
RADIANCE_OFFSET = 4.48647
RADIANCE_SCALING_FACTOR = 0.024498
REFLECTANCE_SCALING_FACTOR = 0.000604905
MEX:REFLECTANCE_OFFSET = 0.11078
/* IMAGE OBJECT DEFINITIONS */
OBJECT = IMAGE
  INTERCHANGE_FORMAT = BINARY
  LINES = 26721
  LINE_SAMPLES = 3320
  SAMPLE_TYPE = UNSIGNED_INTEGER
  SAMPLE_BITS = 8
  BANDS = 1
  BAND_STORAGE_TYPE = BAND_SEQUENTIAL
  MAXIMUM = 255
  MEAN = 151.816
  MINIMUM = 1
  STANDARD_DEVIATION = 40.4047
END_OBJECT = IMAGE
/* MAP OBJECT DEFINITIONS */
OBJECT = IMAGE_MAP_PROJECTION
  ^DATA_SET_MAP_PROJECTION_CATALOG= "DSMAP.CAT"
  A_AXIS_RADIUS = 3396.0
  B_AXIS_RADIUS = 3396.0
  C_AXIS_RADIUS = 3396.0
  CENTER_LATITUDE = 0.0
  CENTER_LONGITUDE = 149.0
  COORDINATE_SYSTEM_NAME = PLANETOGRAPHIC
  COORDINATE_SYSTEM_TYPE = "BODY-FIXED ROTATING"
  EASTERNMOST_LONGITUDE = 149.583
  FIRST_STANDARD_PARALLEL = "N/A"
  LINE_FIRST_PIXEL = 1
  LINE_LAST_PIXEL = 26721
  LINE_PROJECTION_OFFSET = -82064.75
  MAP_PROJECTION_ROTATION = 0.0
  MAP_PROJECTION_TYPE = SINUSOIDAL
  MAP_RESOLUTION = 2370.85521546667
  MAP_SCALE = 0.025
  MAXIMUM_LATITUDE = -34.6312
  MINIMUM_LATITUDE = -45.9194
  POSITIVE_LONGITUDE_DIRECTION = EAST
  REFERENCE_LATITUDE = "N/A"
  REFERENCE_LONGITUDE = "N/A"
  SAMPLE_FIRST_PIXEL = 1
  SAMPLE_LAST_PIXEL = 3320
  SAMPLE_PROJECTION_OFFSET = 2073.75
  SECOND_STANDARD_PARALLEL = "N/A"
  WESTERNMOST_LONGITUDE = 147.746
END_OBJECT = IMAGE_MAP_PROJECTION
/* The JPEG2000 image data file associated with this label. */
OBJECT = COMPRESSED_FILE
  FILE_NAME = "HI943_0000_P23.JP2"
  RECORD_TYPE = UNDEFINED
  FILE_RECORDS = UNK
  ENCODING_TYPE = "JP2"
  INTERCHANGE_FORMAT = BINARY
  UNCOMPRESSED_FILE_NAME = "HI943_0000_P23.IMG"
  REQUIRED_STORAGE_BYTES = "88736960"
  ^DESCRIPTION = "JP2INFO.TXT"
END_OBJECT = COMPRESSED_FILE
END
