PDS_VERSION_ID = PDS3
/* FILE DATA ELEMENTS */
RECORD_TYPE = STREAM
/* POINTERS TO DATA OBJECTS */
^COMPRESSED_FILE = "HI959_0000_GR3.JP2"
/* IDENTIFICATION DATA ELEMENTS */
DATA_SET_ID = "MEX-M-HRSC-5-REFDR-MAPPROJECTED-V3.0"
DATA_SET_NAME = "MARS EXPRESS HRSC MAP PROJECTED REFDR V3.0"
DETECTOR_ID = MEX_HRSC_GREEN
EVENT_TYPE = "MARS-REGIONAL-MAPPING-Vo-Ot"
INSTRUMENT_HOST_ID = MEX
INSTRUMENT_HOST_NAME = "MARS EXPRESS"
INSTRUMENT_ID = HRSC
INSTRUMENT_NAME = "HIGH RESOLUTION STEREO CAMERA"
MISSION_NAME = "MARS EXPRESS"
MISSION_PHASE_NAME = ME_Phase_39
PROCESSING_LEVEL_ID = 3
PRODUCT_CREATION_TIME = 2019-02-22T11:38:04.000Z
PRODUCT_ID = "HI959_0000_GR3.JP2"
RELEASE_ID = 0143
REVISION_ID = 0000
/* QUALITY DATA ELEMENTS */
DATA_QUALITY_ID = 1
DATA_QUALITY_DESC = "Data calculated based on original SPICE kernels"
/* TIME DATA ELEMENTS */
SPACECRAFT_CLOCK_START_COUNT = "1/0493964426.23969"
SPACECRAFT_CLOCK_STOP_COUNT = "1/0493964610.31687"
START_TIME = 2018-12-27T04:21:32.785Z
STOP_TIME = 2018-12-27T04:23:34.031Z
/* ORBITAL DATA ELEMENTS */
ASCENDING_NODE_LONGITUDE = 218.53
MAXIMUM_RESOLUTION = 53
FOOTPRINT_POINT_LATITUDE = (-47.4543,-47.4481,-47.4415,-47.4342, -47.4265,-47.4181,-47.2674,-47.1101, -46.9528,-46.7953,-46.6382,-46.4809, -46.3235,-46.0871,-45.8513,-45.694, -45.458,-45.2221,-45.0647,-44.8289, -44.6713,-44.5147,-44.3573,-44.2005, -44.0428,-43.8853,-43.7284,-43.5714, -43.3359,-43.1004,-42.9431,-42.7082, -42.4727,-42.3157,-42.1592,-42.0025, -41.845,-41.6097,-41.4537,-41.297, -41.0629,-40.9052,-40.6676,-40.5063, -40.3449,-40.1834,-40.0216,-39.8602, -39.6998,-39.5387,-39.528,-39.5335, -39.5379,-39.5436,-39.6301,-39.8726, -40.0342,-40.196,-40.3577,-40.5196, -40.6814,-40.8412,-40.9983,-41.2339, -41.4693,-41.6263,-41.7833,-41.9413, -42.1763,-42.3335,-42.4906,-42.7262, -42.8835,-43.0409,-43.2769,-43.4342, -43.5916,-43.7491,-43.9067,-44.0642, -44.3002,-44.458,-44.6164,-44.7742, -44.932,-45.09,-45.2477,-45.4055, -45.5629,-45.7199,-45.8776,-46.0357, -46.1938,-46.4304,-46.5882,-46.8248, -46.9825,-47.1404,-47.3771,-47.4543)
FOOTPRINT_POINT_LONGITUDE = (313.839,313.594,313.348,313.101, 312.852,312.6,312.472,312.485,312.498, 312.512,312.524,312.536,312.549,312.571 ,312.588,312.601,312.619,312.637, 312.649,312.666,312.68,312.687,312.699, 312.708,312.722,312.735,312.745,312.755 ,312.769,312.784,312.796,312.808, 312.823,312.833,312.84,312.849,312.862, 312.877,312.881,312.891,312.899,312.914 ,312.923,312.929,312.936,312.943, 312.954,312.961,312.962,312.969,313.355 ,313.602,313.818,314.165,314.524, 314.515,314.51,314.504,314.499,314.493, 314.487,314.481,314.475,314.467,314.458 ,314.452,314.446,314.44,314.431,314.425 ,314.419,314.409,314.403,314.396, 314.386,314.38,314.373,314.366,314.36, 314.353,314.342,314.335,314.328,314.321 ,314.314,314.307,314.299,314.292, 314.284,314.277,314.269,314.261,314.254 ,314.242,314.234,314.222,314.214, 314.205,314.193,313.839)
ORBIT_NUMBER = 18959
ORBITAL_ECCENTRICITY = 0.578
ORBITAL_INCLINATION = 86.98
ORBITAL_SEMIMAJOR_AXIS = 8793.02
PERIAPSIS_ALTITUDE = 329.21
PERIAPSIS_ARGUMENT_ANGLE = 312.37
PERIAPSIS_TIME = 2018-12-27T04:21:28.000Z
SPACECRAFT_ORIENTATION = (0.0,1.0,0.0)
^MEX_ORIENTATION_DESC = "MEX_ORIENTATION_DESC.TXT"
SPACECRAFT_POINTING_MODE = ACROSSTRACK
^MEX_POINTING_DESC = "MEX_POINTING_DESC.TXT"
RIGHT_ASCENSION = -1e+32
DECLINATION = -1e+32
OFFSET_ANGLE = 0.539
SPACECRAFT_SOLAR_DISTANCE = 2.16596e+08
TARGET_NAME = MARS
/* CAMERA DATA ELEMENTS */
DETECTOR_TEMPERATURE = 18.5744
FOCAL_PLANE_TEMPERATURE = 10.2145
INST_CMPRS_NAME = "DISCRETE COSINE TRANSFORMATION (DCT)"
INST_CMPRS_RATIO = 10.3272
INST_CMPRS_QUALITY = 0
INST_CMPRS_QUANTZ_TBL_ID = 0
INSTRUMENT_TEMPERATURE = 12.2535
LENS_TEMPERATURE = 10.6223
MACROPIXEL_SIZE = 4
MISSING_FRAMES = 0
PIXEL_SUBSAMPLING_FLAG = N
SIGNAL_CHAIN_ID = 2
/* RADIOMETRIC DATA ELEMENTS */
BANDWIDTH = 88.0
CENTER_FILTER_WAVELENGTH = 538.0
RADIANCE_OFFSET = 1.73708
RADIANCE_SCALING_FACTOR = 0.00492301
REFLECTANCE_SCALING_FACTOR = 0.000198848
MEX:REFLECTANCE_OFFSET = 0.0701631
/* IMAGE OBJECT DEFINITIONS */
OBJECT = IMAGE
  INTERCHANGE_FORMAT = BINARY
  LINES = 9437
  LINE_SAMPLES = 1737
  SAMPLE_TYPE = UNSIGNED_INTEGER
  SAMPLE_BITS = 8
  BANDS = 1
  BAND_STORAGE_TYPE = BAND_SEQUENTIAL
  MAXIMUM = 255
  MEAN = 128.539
  MINIMUM = 1
  STANDARD_DEVIATION = 41.201
END_OBJECT = IMAGE
/* MAP OBJECT DEFINITIONS */
OBJECT = IMAGE_MAP_PROJECTION
  ^DATA_SET_MAP_PROJECTION_CATALOG= "DSMAP.CAT"
  A_AXIS_RADIUS = 3396.0
  B_AXIS_RADIUS = 3396.0
  C_AXIS_RADIUS = 3396.0
  CENTER_LATITUDE = 0.0
  CENTER_LONGITUDE = 314.0
  COORDINATE_SYSTEM_NAME = PLANETOGRAPHIC
  COORDINATE_SYSTEM_TYPE = "BODY-FIXED ROTATING"
  EASTERNMOST_LONGITUDE = 314.524
  FIRST_STANDARD_PARALLEL = "N/A"
  LINE_FIRST_PIXEL = 1
  LINE_LAST_PIXEL = 9437
  LINE_PROJECTION_OFFSET = -46836.375
  MAP_PROJECTION_ROTATION = 0.0
  MAP_PROJECTION_TYPE = SINUSOIDAL
  MAP_RESOLUTION = 1185.42760773333
  MAP_SCALE = 0.05
  MAXIMUM_LATITUDE = -39.528
  MINIMUM_LATITUDE = -47.4543
  POSITIVE_LONGITUDE_DIRECTION = EAST
  REFERENCE_LATITUDE = "N/A"
  REFERENCE_LONGITUDE = "N/A"
  SAMPLE_FIRST_PIXEL = 1
  SAMPLE_LAST_PIXEL = 1737
  SAMPLE_PROJECTION_OFFSET = 1258.125
  SECOND_STANDARD_PARALLEL = "N/A"
  WESTERNMOST_LONGITUDE = 312.472
END_OBJECT = IMAGE_MAP_PROJECTION
/* The JPEG2000 image data file associated with this label. */
OBJECT = COMPRESSED_FILE
  FILE_NAME = "HI959_0000_GR3.JP2"
  RECORD_TYPE = UNDEFINED
  FILE_RECORDS = UNK
  ENCODING_TYPE = "JP2"
  INTERCHANGE_FORMAT = BINARY
  UNCOMPRESSED_FILE_NAME = "HI959_0000_GR3.IMG"
  REQUIRED_STORAGE_BYTES = "16412913"
  ^DESCRIPTION = "JP2INFO.TXT"
END_OBJECT = COMPRESSED_FILE
END
