PDS_VERSION_ID = PDS3
/* FILE DATA ELEMENTS */
RECORD_TYPE = STREAM
/* POINTERS TO DATA OBJECTS */
^COMPRESSED_FILE = "HI961_0000_IR3.JP2"
/* IDENTIFICATION DATA ELEMENTS */
DATA_SET_ID = "MEX-M-HRSC-5-REFDR-MAPPROJECTED-V3.0"
DATA_SET_NAME = "MARS EXPRESS HRSC MAP PROJECTED REFDR V3.0"
DETECTOR_ID = MEX_HRSC_IR
EVENT_TYPE = "MARS-REGIONAL-MAPPING-Im-Eo-Mw"
INSTRUMENT_HOST_ID = MEX
INSTRUMENT_HOST_NAME = "MARS EXPRESS"
INSTRUMENT_ID = HRSC
INSTRUMENT_NAME = "HIGH RESOLUTION STEREO CAMERA"
MISSION_NAME = "MARS EXPRESS"
MISSION_PHASE_NAME = ME_Phase_39
PROCESSING_LEVEL_ID = 3
PRODUCT_CREATION_TIME = 2019-02-22T11:38:04.000Z
PRODUCT_ID = "HI961_0000_IR3.JP2"
RELEASE_ID = 0143
REVISION_ID = 0000
/* QUALITY DATA ELEMENTS */
DATA_QUALITY_ID = 1
DATA_QUALITY_DESC = "Data calculated based on original SPICE kernels"
/* TIME DATA ELEMENTS */
SPACECRAFT_CLOCK_START_COUNT = "1/0494014618.23923"
SPACECRAFT_CLOCK_STOP_COUNT = "1/0494014829.06206"
START_TIME = 2018-12-27T18:18:25.954Z
STOP_TIME = 2018-12-27T18:20:53.816Z
/* ORBITAL DATA ELEMENTS */
ASCENDING_NODE_LONGITUDE = 218.49
MAXIMUM_RESOLUTION = 54.4
FOOTPRINT_POINT_LATITUDE = (-53.11,-53.0972,-53.0876,-53.079, -53.0078,-52.8146,-52.6177,-52.4252, -52.23,-52.0353,-51.8401,-51.6471, -51.4516,-51.2604,-50.9752,-50.7819, -50.5888,-50.3963,-50.2026,-50.01, -49.8168,-49.527,-49.3339,-49.1417, -48.8529,-48.6595,-48.37,-48.1804, -47.8921,-47.6998,-47.5047,-47.2185, -47.0264,-46.8287,-46.5429,-46.3508, -46.1561,-45.9681,-45.7751,-45.5812, -45.3943,-45.108,-44.9169,-44.7255, -44.5344,-44.3422,-44.0524,-43.8553, -43.6738,-43.4837,-43.4499,-43.4618, -43.4679,-43.4755,-43.7618,-43.9526, -44.1434,-44.3333,-44.5239,-44.7168, -45.0046,-45.1945,-45.3855,-45.5771, -45.7674,-46.058,-46.2516,-46.4451, -46.6379,-46.9268,-47.1195,-47.3119, -47.5047,-47.7942,-47.9857,-48.173, -48.4626,-48.6572,-48.8507,-49.0427, -49.2362,-49.4295,-49.7192,-49.9123, -50.1066,-50.2997,-50.4939,-50.785, -50.9799,-51.1768,-51.472,-51.6682, -51.8672,-52.0622,-52.2568,-52.4514, -52.646,-52.8399,-53.0296,-53.11)
FOOTPRINT_POINT_LONGITUDE = (110.245,109.759,109.429,109.152, 108.588,108.609,108.633,108.652,108.674 ,108.694,108.715,108.734,108.754, 108.771,108.795,108.813,108.831,108.848 ,108.865,108.881,108.898,108.922, 108.938,108.953,108.975,108.991,109.013 ,109.025,109.045,109.059,109.074, 109.092,109.105,109.121,109.138,109.15, 109.164,109.173,109.185,109.198,109.206 ,109.221,109.232,109.242,109.252, 109.263,109.279,109.292,109.296,109.305 ,109.695,110.127,110.471,110.909, 110.901,110.895,110.888,110.882,110.875 ,110.87,110.86,110.853,110.846,110.839, 110.832,110.823,110.816,110.81,110.803, 110.792,110.785,110.777,110.77,110.759, 110.75,110.739,110.727,110.72,110.711, 110.702,110.694,110.685,110.671,110.662 ,110.654,110.644,110.635,110.621, 110.612,110.604,110.591,110.582,110.574 ,110.564,110.554,110.544,110.533, 110.522,110.508,110.245)
ORBIT_NUMBER = 18961
ORBITAL_ECCENTRICITY = 0.578
ORBITAL_INCLINATION = 86.97
ORBITAL_SEMIMAJOR_AXIS = 8797.67
PERIAPSIS_ALTITUDE = 328.5
PERIAPSIS_ARGUMENT_ANGLE = 312.0
PERIAPSIS_TIME = 2018-12-27T18:19:22.000Z
SPACECRAFT_ORIENTATION = (0.0,1.0,0.0)
^MEX_ORIENTATION_DESC = "MEX_ORIENTATION_DESC.TXT"
SPACECRAFT_POINTING_MODE = NADIR
^MEX_POINTING_DESC = "MEX_POINTING_DESC.TXT"
RIGHT_ASCENSION = -1e+32
DECLINATION = -1e+32
OFFSET_ANGLE = -1e+32
SPACECRAFT_SOLAR_DISTANCE = 2.16697e+08
TARGET_NAME = MARS
/* CAMERA DATA ELEMENTS */
DETECTOR_TEMPERATURE = 17.7588
FOCAL_PLANE_TEMPERATURE = 8.9911
INST_CMPRS_NAME = "DISCRETE COSINE TRANSFORMATION (DCT)"
INST_CMPRS_RATIO = 11.8088
INST_CMPRS_QUALITY = 0
INST_CMPRS_QUANTZ_TBL_ID = 0
INSTRUMENT_TEMPERATURE = 11.8457
LENS_TEMPERATURE = 9.3989
MACROPIXEL_SIZE = 4
MISSING_FRAMES = 0
PIXEL_SUBSAMPLING_FLAG = N
SIGNAL_CHAIN_ID = 2
/* RADIOMETRIC DATA ELEMENTS */
BANDWIDTH = 81.0
CENTER_FILTER_WAVELENGTH = 955.5
RADIANCE_OFFSET = 1.44783
RADIANCE_SCALING_FACTOR = 0.00783389
REFLECTANCE_SCALING_FACTOR = 0.000793618
MEX:REFLECTANCE_OFFSET = 0.146674
/* IMAGE OBJECT DEFINITIONS */
OBJECT = IMAGE
  INTERCHANGE_FORMAT = BINARY
  LINES = 11552
  LINE_SAMPLES = 1839
  SAMPLE_TYPE = UNSIGNED_INTEGER
  SAMPLE_BITS = 8
  BANDS = 1
  BAND_STORAGE_TYPE = BAND_SEQUENTIAL
  MAXIMUM = 255
  MEAN = 116.304
  MINIMUM = 1
  STANDARD_DEVIATION = 23.0382
END_OBJECT = IMAGE
/* MAP OBJECT DEFINITIONS */
OBJECT = IMAGE_MAP_PROJECTION
  ^DATA_SET_MAP_PROJECTION_CATALOG= "DSMAP.CAT"
  A_AXIS_RADIUS = 3396.0
  B_AXIS_RADIUS = 3396.0
  C_AXIS_RADIUS = 3396.0
  CENTER_LATITUDE = 0.0
  CENTER_LONGITUDE = 110.0
  COORDINATE_SYSTEM_NAME = PLANETOGRAPHIC
  COORDINATE_SYSTEM_TYPE = "BODY-FIXED ROTATING"
  EASTERNMOST_LONGITUDE = 110.909
  FIRST_STANDARD_PARALLEL = "N/A"
  LINE_FIRST_PIXEL = 1
  LINE_LAST_PIXEL = 11552
  LINE_PROJECTION_OFFSET = -51517.125
  MAP_PROJECTION_ROTATION = 0.0
  MAP_PROJECTION_TYPE = SINUSOIDAL
  MAP_RESOLUTION = 1185.42760773333
  MAP_SCALE = 0.05
  MAXIMUM_LATITUDE = -43.4499
  MINIMUM_LATITUDE = -53.11
  POSITIVE_LONGITUDE_DIRECTION = EAST
  REFERENCE_LATITUDE = "N/A"
  REFERENCE_LONGITUDE = "N/A"
  SAMPLE_FIRST_PIXEL = 1
  SAMPLE_LAST_PIXEL = 1839
  SAMPLE_PROJECTION_OFFSET = 1040.875
  SECOND_STANDARD_PARALLEL = "N/A"
  WESTERNMOST_LONGITUDE = 108.588
END_OBJECT = IMAGE_MAP_PROJECTION
/* The JPEG2000 image data file associated with this label. */
OBJECT = COMPRESSED_FILE
  FILE_NAME = "HI961_0000_IR3.JP2"
  RECORD_TYPE = UNDEFINED
  FILE_RECORDS = UNK
  ENCODING_TYPE = "JP2"
  INTERCHANGE_FORMAT = BINARY
  UNCOMPRESSED_FILE_NAME = "HI961_0000_IR3.IMG"
  REQUIRED_STORAGE_BYTES = "21264357"
  ^DESCRIPTION = "JP2INFO.TXT"
END_OBJECT = COMPRESSED_FILE
END
