PDS_VERSION_ID = PDS3
/* FILE DATA ELEMENTS */
RECORD_TYPE = STREAM
/* POINTERS TO DATA OBJECTS */
^COMPRESSED_FILE = "HI966_0000_IR3.JP2"
/* IDENTIFICATION DATA ELEMENTS */
DATA_SET_ID = "MEX-M-HRSC-5-REFDR-MAPPROJECTED-V3.0"
DATA_SET_NAME = "MARS EXPRESS HRSC MAP PROJECTED REFDR V3.0"
DETECTOR_ID = MEX_HRSC_IR
EVENT_TYPE = "MARS-REGIONAL-MAPPING-Im-Gl-Pf"
INSTRUMENT_HOST_ID = MEX
INSTRUMENT_HOST_NAME = "MARS EXPRESS"
INSTRUMENT_ID = HRSC
INSTRUMENT_NAME = "HIGH RESOLUTION STEREO CAMERA"
MISSION_NAME = "MARS EXPRESS"
MISSION_PHASE_NAME = ME_Phase_39
PROCESSING_LEVEL_ID = 3
PRODUCT_CREATION_TIME = 2019-02-22T11:38:04.000Z
PRODUCT_ID = "HI966_0000_IR3.JP2"
RELEASE_ID = 0143
REVISION_ID = 0000
/* QUALITY DATA ELEMENTS */
DATA_QUALITY_ID = 1
DATA_QUALITY_DESC = "Data calculated based on original SPICE kernels"
/* TIME DATA ELEMENTS */
SPACECRAFT_CLOCK_START_COUNT = "1/0494140362.23971"
SPACECRAFT_CLOCK_STOP_COUNT = "1/0494140592.64535"
START_TIME = 2018-12-29T05:14:03.340Z
STOP_TIME = 2018-12-29T05:16:58.394Z
/* ORBITAL DATA ELEMENTS */
ASCENDING_NODE_LONGITUDE = 218.4
MAXIMUM_RESOLUTION = 55.6
FOOTPRINT_POINT_LATITUDE = (-51.294,-51.2701,-51.2384,-51.2978, -51.046,-50.793,-50.5407,-50.2891, -50.0371,-49.7852,-49.5341,-49.2832, -49.0327,-48.7811,-48.407,-48.1564, -47.9063,-47.6564,-47.4068,-47.0321, -46.7824,-46.534,-46.2847,-46.0362, -45.7883,-45.5395,-45.2909,-45.0425, -44.7943,-44.5461,-44.298,-44.0491, -43.7984,-43.5515,-43.3039,-43.0552, -42.8073,-42.5576,-42.3073,-42.0525, -41.6689,-41.2876,-41.0326,-40.7782, -40.3966,-40.0154,-39.7611,-39.5074, -39.2525,-38.9981,-38.7438,-38.7219, -38.7408,-38.7645,-38.7887,-39.0425, -39.2953,-39.5465,-39.8027,-40.0536, -40.3099,-40.6918,-41.0756,-41.3331, -41.5885,-41.8431,-42.2248,-42.4798, -42.7287,-43.1039,-43.3516,-43.5998, -43.8487,-44.2221,-44.5951,-44.8438, -45.0921,-45.3412,-45.5901,-45.8393, -46.0885,-46.3379,-46.7112,-46.9609, -47.2104,-47.4613,-47.7111,-47.9613, -48.2117,-48.4628,-48.8392,-49.2154, -49.4673,-49.7201,-49.9721,-50.3492, -50.6011,-50.8536,-51.1069,-51.294)
FOOTPRINT_POINT_LONGITUDE = (319.659,319.186,318.594,318.008, 318.035,318.062,318.088,318.113,318.138 ,318.162,318.186,318.209,318.231, 318.254,318.285,318.307,318.327,318.347 ,318.367,318.396,318.415,318.432,318.45 ,318.467,318.484,318.5,318.517,318.533, 318.548,318.563,318.578,318.594,318.61, 318.623,318.637,318.651,318.665,318.68, 318.691,318.704,318.723,318.739,318.751 ,318.762,318.778,318.793,318.803, 318.812,318.822,318.832,318.841,319.11, 319.437,319.864,320.367,320.36,320.353, 320.345,320.339,320.33,320.325,320.315, 320.305,320.3,320.293,320.285,320.273, 320.265,320.258,320.248,320.24,320.233, 320.225,320.213,320.201,320.193,320.184 ,320.175,320.166,320.157,320.148, 320.138,320.124,320.114,320.104,320.094 ,320.083,320.073,320.062,320.052, 320.035,320.018,320.007,319.996,319.984 ,319.965,319.953,319.94,319.927, 319.659)
ORBIT_NUMBER = 18966
ORBITAL_ECCENTRICITY = 0.578
ORBITAL_INCLINATION = 86.98
ORBITAL_SEMIMAJOR_AXIS = 8790.66
PERIAPSIS_ALTITUDE = 329.04
PERIAPSIS_ARGUMENT_ANGLE = 311.17
PERIAPSIS_TIME = 2018-12-29T05:14:12.000Z
SPACECRAFT_ORIENTATION = (0.0,1.0,0.0)
^MEX_ORIENTATION_DESC = "MEX_ORIENTATION_DESC.TXT"
SPACECRAFT_POINTING_MODE = INERT
^MEX_POINTING_DESC = "MEX_POINTING_DESC.TXT"
RIGHT_ASCENSION = 37.537
DECLINATION = 54.292
OFFSET_ANGLE = -1e+32
SPACECRAFT_SOLAR_DISTANCE = 2.16951e+08
TARGET_NAME = MARS
/* CAMERA DATA ELEMENTS */
DETECTOR_TEMPERATURE = 17.7588
FOCAL_PLANE_TEMPERATURE = 9.3989
INST_CMPRS_NAME = "DISCRETE COSINE TRANSFORMATION (DCT)"
INST_CMPRS_RATIO = 8.0086
INST_CMPRS_QUALITY = 0
INST_CMPRS_QUANTZ_TBL_ID = 0
INSTRUMENT_TEMPERATURE = 12.4574
LENS_TEMPERATURE = 9.8067
MACROPIXEL_SIZE = 4
MISSING_FRAMES = 0
PIXEL_SUBSAMPLING_FLAG = N
SIGNAL_CHAIN_ID = 2
/* RADIOMETRIC DATA ELEMENTS */
BANDWIDTH = 81.0
CENTER_FILTER_WAVELENGTH = 955.5
RADIANCE_OFFSET = 1.09743
RADIANCE_SCALING_FACTOR = 0.00606423
REFLECTANCE_SCALING_FACTOR = 0.000615784
MEX:REFLECTANCE_OFFSET = 0.111437
/* IMAGE OBJECT DEFINITIONS */
OBJECT = IMAGE
  INTERCHANGE_FORMAT = BINARY
  LINES = 14995
  LINE_SAMPLES = 2030
  SAMPLE_TYPE = UNSIGNED_INTEGER
  SAMPLE_BITS = 8
  BANDS = 1
  BAND_STORAGE_TYPE = BAND_SEQUENTIAL
  MAXIMUM = 255
  MEAN = 170.833
  MINIMUM = 1
  STANDARD_DEVIATION = 45.2735
END_OBJECT = IMAGE
/* MAP OBJECT DEFINITIONS */
OBJECT = IMAGE_MAP_PROJECTION
  ^DATA_SET_MAP_PROJECTION_CATALOG= "DSMAP.CAT"
  A_AXIS_RADIUS = 3396.0
  B_AXIS_RADIUS = 3396.0
  C_AXIS_RADIUS = 3396.0
  CENTER_LATITUDE = 0.0
  CENTER_LONGITUDE = 319.0
  COORDINATE_SYSTEM_NAME = PLANETOGRAPHIC
  COORDINATE_SYSTEM_TYPE = "BODY-FIXED ROTATING"
  EASTERNMOST_LONGITUDE = 320.367
  FIRST_STANDARD_PARALLEL = "N/A"
  LINE_FIRST_PIXEL = 1
  LINE_LAST_PIXEL = 14995
  LINE_PROJECTION_OFFSET = -45908.125
  MAP_PROJECTION_ROTATION = 0.0
  MAP_PROJECTION_TYPE = SINUSOIDAL
  MAP_RESOLUTION = 1185.42760773333
  MAP_SCALE = 0.05
  MAXIMUM_LATITUDE = -38.7219
  MINIMUM_LATITUDE = -51.2978
  POSITIVE_LONGITUDE_DIRECTION = EAST
  REFERENCE_LATITUDE = "N/A"
  REFERENCE_LONGITUDE = "N/A"
  SAMPLE_FIRST_PIXEL = 1
  SAMPLE_LAST_PIXEL = 2030
  SAMPLE_PROJECTION_OFFSET = 652.875
  SECOND_STANDARD_PARALLEL = "N/A"
  WESTERNMOST_LONGITUDE = 318.008
END_OBJECT = IMAGE_MAP_PROJECTION
/* The JPEG2000 image data file associated with this label. */
OBJECT = COMPRESSED_FILE
  FILE_NAME = "HI966_0000_IR3.JP2"
  RECORD_TYPE = UNDEFINED
  FILE_RECORDS = UNK
  ENCODING_TYPE = "JP2"
  INTERCHANGE_FORMAT = BINARY
  UNCOMPRESSED_FILE_NAME = "HI966_0000_IR3.IMG"
  REQUIRED_STORAGE_BYTES = "30460150"
  ^DESCRIPTION = "JP2INFO.TXT"
END_OBJECT = COMPRESSED_FILE
END
