PDS_VERSION_ID = PDS3
/* FILE DATA ELEMENTS */
RECORD_TYPE = STREAM
/* POINTERS TO DATA OBJECTS */
^COMPRESSED_FILE = "HI968_0000_BL3.JP2"
/* IDENTIFICATION DATA ELEMENTS */
DATA_SET_ID = "MEX-M-HRSC-5-REFDR-MAPPROJECTED-V3.0"
DATA_SET_NAME = "MARS EXPRESS HRSC MAP PROJECTED REFDR V3.0"
DETECTOR_ID = MEX_HRSC_BLUE
EVENT_TYPE = "MARS-REGIONAL-MAPPING-Vo-Im-Eo"
INSTRUMENT_HOST_ID = MEX
INSTRUMENT_HOST_NAME = "MARS EXPRESS"
INSTRUMENT_ID = HRSC
INSTRUMENT_NAME = "HIGH RESOLUTION STEREO CAMERA"
MISSION_NAME = "MARS EXPRESS"
MISSION_PHASE_NAME = ME_Phase_39
PROCESSING_LEVEL_ID = 3
PRODUCT_CREATION_TIME = 2019-02-22T11:38:04.000Z
PRODUCT_ID = "HI968_0000_BL3.JP2"
RELEASE_ID = 0143
REVISION_ID = 0000
/* QUALITY DATA ELEMENTS */
DATA_QUALITY_ID = 1
DATA_QUALITY_DESC = "Data calculated based on original SPICE kernels"
/* TIME DATA ELEMENTS */
SPACECRAFT_CLOCK_START_COUNT = "1/0494190581.24947"
SPACECRAFT_CLOCK_STOP_COUNT = "1/0494190806.56251"
START_TIME = 2018-12-29T19:10:35.740Z
STOP_TIME = 2018-12-29T19:13:25.704Z
/* ORBITAL DATA ELEMENTS */
ASCENDING_NODE_LONGITUDE = 218.36
MAXIMUM_RESOLUTION = 52.1
FOOTPRINT_POINT_LATITUDE = (-55.3109,-55.2794,-55.2449,-55.2061, -54.956,-54.7057,-54.4591,-54.2171, -53.975,-53.7329,-53.4908,-53.2487, -52.8855,-52.6433,-52.4011,-52.1588, -51.9166,-51.6743,-51.4317,-51.1893, -50.9469,-50.5834,-50.3411,-50.0988, -49.7353,-49.4926,-49.25,-49.0075, -48.7645,-48.5212,-48.2793,-48.0354, -47.7919,-47.5492,-47.3068,-47.0639, -46.8218,-46.5786,-46.3356,-46.0903, -45.8466,-45.6032,-45.3591,-45.1162, -44.873,-44.6298,-44.3858,-44.1398, -43.8955,-43.6528,-43.4083,-43.0418, -43.0306,-43.045,-43.0705,-43.2093, -43.4558,-43.701,-43.945,-44.3114, -44.6753,-45.041,-45.2847,-45.5284, -45.772,-46.0157,-46.2594,-46.5032, -46.7468,-46.9903,-47.3554,-47.5992, -47.8421,-48.0865,-48.4528,-48.6948, -49.0592,-49.3028,-49.5456,-49.7885, -50.1529,-50.3959,-50.639,-50.882, -51.1251,-51.4896,-51.7326,-52.097, -52.34,-52.583,-52.8259,-53.0689, -53.4332,-53.6762,-53.9191,-54.1621, -54.4051,-54.6482,-54.8982,-55.3109)
FOOTPRINT_POINT_LONGITUDE = (114.905,114.32,113.732,113.033,113.071 ,113.114,113.149,113.18,113.215,113.247 ,113.281,113.313,113.361,113.391, 113.421,113.45,113.479,113.507,113.533, 113.56,113.587,113.626,113.652,113.677, 113.714,113.737,113.76,113.783,113.804, 113.825,113.848,113.866,113.885,113.906 ,113.926,113.946,113.966,113.984, 114.003,114.017,114.033,114.05,114.066, 114.083,114.099,114.115,114.13,114.141, 114.155,114.171,114.184,114.204,114.787 ,115.053,115.481,115.79,115.779,115.769 ,115.759,115.743,115.73,115.714,115.703 ,115.692,115.681,115.67,115.659,115.647 ,115.635,115.623,115.605,115.592,115.58 ,115.566,115.544,115.533,115.513, 115.498,115.485,115.471,115.449,115.434 ,115.419,115.404,115.388,115.364, 115.347,115.323,115.306,115.288,115.27, 115.253,115.224,115.206,115.187,115.168 ,115.148,115.128,115.107,114.905)
ORBIT_NUMBER = 18968
ORBITAL_ECCENTRICITY = 0.578
ORBITAL_INCLINATION = 86.97
ORBITAL_SEMIMAJOR_AXIS = 8795.52
PERIAPSIS_ALTITUDE = 328.51
PERIAPSIS_ARGUMENT_ANGLE = 310.8
PERIAPSIS_TIME = 2018-12-29T19:12:07.000Z
SPACECRAFT_ORIENTATION = (0.0,1.0,0.0)
^MEX_ORIENTATION_DESC = "MEX_ORIENTATION_DESC.TXT"
SPACECRAFT_POINTING_MODE = INERT
^MEX_POINTING_DESC = "MEX_POINTING_DESC.TXT"
RIGHT_ASCENSION = 32.659
DECLINATION = 58.32
OFFSET_ANGLE = -1e+32
SPACECRAFT_SOLAR_DISTANCE = 2.17053e+08
TARGET_NAME = MARS
/* CAMERA DATA ELEMENTS */
DETECTOR_TEMPERATURE = 18.5744
FOCAL_PLANE_TEMPERATURE = 9.3989
INST_CMPRS_NAME = "DISCRETE COSINE TRANSFORMATION (DCT)"
INST_CMPRS_RATIO = 8.43714
INST_CMPRS_QUALITY = 0
INST_CMPRS_QUANTZ_TBL_ID = 0
INSTRUMENT_TEMPERATURE = 11.4379
LENS_TEMPERATURE = 10.0106
MACROPIXEL_SIZE = 4
MISSING_FRAMES = 0
PIXEL_SUBSAMPLING_FLAG = N
SIGNAL_CHAIN_ID = 2
/* RADIOMETRIC DATA ELEMENTS */
BANDWIDTH = 76.0
CENTER_FILTER_WAVELENGTH = 444.0
RADIANCE_OFFSET = 0.677945
RADIANCE_SCALING_FACTOR = 0.00188318
REFLECTANCE_SCALING_FACTOR = 9.11544e-05
MEX:REFLECTANCE_OFFSET = 0.0328156
/* IMAGE OBJECT DEFINITIONS */
OBJECT = IMAGE
  INTERCHANGE_FORMAT = BINARY
  LINES = 14619
  LINE_SAMPLES = 2039
  SAMPLE_TYPE = UNSIGNED_INTEGER
  SAMPLE_BITS = 8
  BANDS = 1
  BAND_STORAGE_TYPE = BAND_SEQUENTIAL
  MAXIMUM = 255
  MEAN = 119.618
  MINIMUM = 1
  STANDARD_DEVIATION = 25.1078
END_OBJECT = IMAGE
/* MAP OBJECT DEFINITIONS */
OBJECT = IMAGE_MAP_PROJECTION
  ^DATA_SET_MAP_PROJECTION_CATALOG= "DSMAP.CAT"
  A_AXIS_RADIUS = 3396.0
  B_AXIS_RADIUS = 3396.0
  C_AXIS_RADIUS = 3396.0
  CENTER_LATITUDE = 0.0
  CENTER_LONGITUDE = 115.0
  COORDINATE_SYSTEM_NAME = PLANETOGRAPHIC
  COORDINATE_SYSTEM_TYPE = "BODY-FIXED ROTATING"
  EASTERNMOST_LONGITUDE = 115.79
  FIRST_STANDARD_PARALLEL = "N/A"
  LINE_FIRST_PIXEL = 1
  LINE_LAST_PIXEL = 14619
  LINE_PROJECTION_OFFSET = -50958.875
  MAP_PROJECTION_ROTATION = 0.0
  MAP_PROJECTION_TYPE = SINUSOIDAL
  MAP_RESOLUTION = 1185.42760773333
  MAP_SCALE = 0.05
  MAXIMUM_LATITUDE = -43.0306
  MINIMUM_LATITUDE = -55.3109
  POSITIVE_LONGITUDE_DIRECTION = EAST
  REFERENCE_LATITUDE = "N/A"
  REFERENCE_LONGITUDE = "N/A"
  SAMPLE_FIRST_PIXEL = 1
  SAMPLE_LAST_PIXEL = 2039
  SAMPLE_PROJECTION_OFFSET = 1369.875
  SECOND_STANDARD_PARALLEL = "N/A"
  WESTERNMOST_LONGITUDE = 113.033
END_OBJECT = IMAGE_MAP_PROJECTION
/* The JPEG2000 image data file associated with this label. */
OBJECT = COMPRESSED_FILE
  FILE_NAME = "HI968_0000_BL3.JP2"
  RECORD_TYPE = UNDEFINED
  FILE_RECORDS = UNK
  ENCODING_TYPE = "JP2"
  INTERCHANGE_FORMAT = BINARY
  UNCOMPRESSED_FILE_NAME = "HI968_0000_BL3.IMG"
  REQUIRED_STORAGE_BYTES = "29828531"
  ^DESCRIPTION = "JP2INFO.TXT"
END_OBJECT = COMPRESSED_FILE
END
