PDS_VERSION_ID = PDS3
/* FILE DATA ELEMENTS */
RECORD_TYPE = STREAM
/* POINTERS TO DATA OBJECTS */
^COMPRESSED_FILE = "HI968_0000_IR3.JP2"
/* IDENTIFICATION DATA ELEMENTS */
DATA_SET_ID = "MEX-M-HRSC-5-REFDR-MAPPROJECTED-V3.0"
DATA_SET_NAME = "MARS EXPRESS HRSC MAP PROJECTED REFDR V3.0"
DETECTOR_ID = MEX_HRSC_IR
EVENT_TYPE = "MARS-REGIONAL-MAPPING-Vo-Im-Eo"
INSTRUMENT_HOST_ID = MEX
INSTRUMENT_HOST_NAME = "MARS EXPRESS"
INSTRUMENT_ID = HRSC
INSTRUMENT_NAME = "HIGH RESOLUTION STEREO CAMERA"
MISSION_NAME = "MARS EXPRESS"
MISSION_PHASE_NAME = ME_Phase_39
PROCESSING_LEVEL_ID = 3
PRODUCT_CREATION_TIME = 2019-02-22T11:38:04.000Z
PRODUCT_ID = "HI968_0000_IR3.JP2"
RELEASE_ID = 0143
REVISION_ID = 0000
/* QUALITY DATA ELEMENTS */
DATA_QUALITY_ID = 1
DATA_QUALITY_DESC = "Data calculated based on original SPICE kernels"
/* TIME DATA ELEMENTS */
SPACECRAFT_CLOCK_START_COUNT = "1/0494190581.24947"
SPACECRAFT_CLOCK_STOP_COUNT = "1/0494190806.56251"
START_TIME = 2018-12-29T19:11:03.475Z
STOP_TIME = 2018-12-29T19:13:52.271Z
/* ORBITAL DATA ELEMENTS */
ASCENDING_NODE_LONGITUDE = 218.36
MAXIMUM_RESOLUTION = 53.7
FOOTPRINT_POINT_LATITUDE = (-55.2009,-55.1723,-55.1413,-55.1884, -54.9432,-54.6956,-54.4488,-54.2063, -53.9607,-53.5942,-53.2262,-52.98, -52.7377,-52.4945,-52.2506,-52.0066, -51.763,-51.5213,-51.2786,-51.0354, -50.67,-50.4269,-50.1828,-49.8181, -49.4552,-49.213,-48.8499,-48.4879, -48.2449,-48.0062,-47.7645,-47.5236, -47.2802,-46.9167,-46.5553,-46.3143, -46.0759,-45.8363,-45.5955,-45.3555, -45.1144,-44.8734,-44.5126,-44.2731, -44.0349,-43.7949,-43.4342,-43.1945, -43.0033,-43.0245,-43.0404,-43.0516, -43.1928,-43.4305,-43.79,-44.0313, -44.2714,-44.5132,-44.7545,-45.1154, -45.3565,-45.5976,-45.8387,-46.0799, -46.3212,-46.562,-46.8036,-47.0452, -47.2869,-47.5282,-47.7711,-48.0112, -48.2475,-48.4888,-48.7356,-48.9797, -49.2202,-49.4639,-49.7071,-49.9519, -50.1959,-50.4395,-50.8049,-51.0486, -51.2921,-51.5358,-51.9029,-52.2698, -52.5147,-52.7571,-53.0026,-53.3672, -53.6147,-53.9834,-54.2305,-54.4768, -54.7239,-54.9699,-55.2159,-55.2009)
FOOTPRINT_POINT_LONGITUDE = (114.421,113.823,113.223,112.893, 112.931,112.972,113.011,113.046,113.083 ,113.135,113.187,113.222,113.253, 113.284,113.315,113.346,113.376,113.404 ,113.432,113.46,113.502,113.529,113.557 ,113.596,113.632,113.656,113.691, 113.724,113.747,113.766,113.787,113.807 ,113.83,113.861,113.89,113.908,113.924, 113.94,113.958,113.974,113.991,114.008, 114.033,114.047,114.059,114.074,114.097 ,114.11,114.252,114.675,115.008,115.283 ,115.671,115.661,115.647,115.638, 115.629,115.619,115.61,115.595,115.585, 115.574,115.564,115.553,115.542,115.531 ,115.519,115.508,115.496,115.484, 115.472,115.459,115.445,115.432,115.42, 115.408,115.394,115.38,115.366,115.353, 115.338,115.324,115.301,115.286,115.27, 115.254,115.23,115.205,115.188,115.17, 115.153,115.125,115.107,115.078,115.059 ,115.039,115.019,114.999,114.978, 114.421)
ORBIT_NUMBER = 18968
ORBITAL_ECCENTRICITY = 0.578
ORBITAL_INCLINATION = 86.97
ORBITAL_SEMIMAJOR_AXIS = 8795.52
PERIAPSIS_ALTITUDE = 328.51
PERIAPSIS_ARGUMENT_ANGLE = 310.8
PERIAPSIS_TIME = 2018-12-29T19:12:07.000Z
SPACECRAFT_ORIENTATION = (0.0,1.0,0.0)
^MEX_ORIENTATION_DESC = "MEX_ORIENTATION_DESC.TXT"
SPACECRAFT_POINTING_MODE = INERT
^MEX_POINTING_DESC = "MEX_POINTING_DESC.TXT"
RIGHT_ASCENSION = 32.659
DECLINATION = 58.32
OFFSET_ANGLE = -1e+32
SPACECRAFT_SOLAR_DISTANCE = 2.17053e+08
TARGET_NAME = MARS
/* CAMERA DATA ELEMENTS */
DETECTOR_TEMPERATURE = 17.351
FOCAL_PLANE_TEMPERATURE = 9.3989
INST_CMPRS_NAME = "DISCRETE COSINE TRANSFORMATION (DCT)"
INST_CMPRS_RATIO = 10.4555
INST_CMPRS_QUALITY = 0
INST_CMPRS_QUANTZ_TBL_ID = 0
INSTRUMENT_TEMPERATURE = 11.4379
LENS_TEMPERATURE = 10.0106
MACROPIXEL_SIZE = 4
MISSING_FRAMES = 0
PIXEL_SUBSAMPLING_FLAG = N
SIGNAL_CHAIN_ID = 2
/* RADIOMETRIC DATA ELEMENTS */
BANDWIDTH = 81.0
CENTER_FILTER_WAVELENGTH = 955.5
RADIANCE_OFFSET = 1.45434
RADIANCE_SCALING_FACTOR = 0.00772033
REFLECTANCE_SCALING_FACTOR = 0.000784683
MEX:REFLECTANCE_OFFSET = 0.147817
/* IMAGE OBJECT DEFINITIONS */
OBJECT = IMAGE
  INTERCHANGE_FORMAT = BINARY
  LINES = 14619
  LINE_SAMPLES = 2039
  SAMPLE_TYPE = UNSIGNED_INTEGER
  SAMPLE_BITS = 8
  BANDS = 1
  BAND_STORAGE_TYPE = BAND_SEQUENTIAL
  MAXIMUM = 255
  MEAN = 96.4227
  MINIMUM = 1
  STANDARD_DEVIATION = 34.2106
END_OBJECT = IMAGE
/* MAP OBJECT DEFINITIONS */
OBJECT = IMAGE_MAP_PROJECTION
  ^DATA_SET_MAP_PROJECTION_CATALOG= "DSMAP.CAT"
  A_AXIS_RADIUS = 3396.0
  B_AXIS_RADIUS = 3396.0
  C_AXIS_RADIUS = 3396.0
  CENTER_LATITUDE = 0.0
  CENTER_LONGITUDE = 115.0
  COORDINATE_SYSTEM_NAME = PLANETOGRAPHIC
  COORDINATE_SYSTEM_TYPE = "BODY-FIXED ROTATING"
  EASTERNMOST_LONGITUDE = 115.671
  FIRST_STANDARD_PARALLEL = "N/A"
  LINE_FIRST_PIXEL = 1
  LINE_LAST_PIXEL = 14619
  LINE_PROJECTION_OFFSET = -50958.875
  MAP_PROJECTION_ROTATION = 0.0
  MAP_PROJECTION_TYPE = SINUSOIDAL
  MAP_RESOLUTION = 1185.42760773333
  MAP_SCALE = 0.05
  MAXIMUM_LATITUDE = -43.0033
  MINIMUM_LATITUDE = -55.2159
  POSITIVE_LONGITUDE_DIRECTION = EAST
  REFERENCE_LATITUDE = "N/A"
  REFERENCE_LONGITUDE = "N/A"
  SAMPLE_FIRST_PIXEL = 1
  SAMPLE_LAST_PIXEL = 2039
  SAMPLE_PROJECTION_OFFSET = 1369.875
  SECOND_STANDARD_PARALLEL = "N/A"
  WESTERNMOST_LONGITUDE = 112.893
END_OBJECT = IMAGE_MAP_PROJECTION
/* The JPEG2000 image data file associated with this label. */
OBJECT = COMPRESSED_FILE
  FILE_NAME = "HI968_0000_IR3.JP2"
  RECORD_TYPE = UNDEFINED
  FILE_RECORDS = UNK
  ENCODING_TYPE = "JP2"
  INTERCHANGE_FORMAT = BINARY
  UNCOMPRESSED_FILE_NAME = "HI968_0000_IR3.IMG"
  REQUIRED_STORAGE_BYTES = "29828531"
  ^DESCRIPTION = "JP2INFO.TXT"
END_OBJECT = COMPRESSED_FILE
END
