PDS_VERSION_ID = PDS3
/* FILE DATA ELEMENTS */
RECORD_TYPE = STREAM
/* POINTERS TO DATA OBJECTS */
^COMPRESSED_FILE = "HI972_0000_P13.JP2"
/* IDENTIFICATION DATA ELEMENTS */
DATA_SET_ID = "MEX-M-HRSC-5-REFDR-MAPPROJECTED-V3.0"
DATA_SET_NAME = "MARS EXPRESS HRSC MAP PROJECTED REFDR V3.0"
DETECTOR_ID = MEX_HRSC_P1
EVENT_TYPE = "MARS-REGIONAL-STEREO-Gl-Pf-Eo"
INSTRUMENT_HOST_ID = MEX
INSTRUMENT_HOST_NAME = "MARS EXPRESS"
INSTRUMENT_ID = HRSC
INSTRUMENT_NAME = "HIGH RESOLUTION STEREO CAMERA"
MISSION_NAME = "MARS EXPRESS"
MISSION_PHASE_NAME = ME_Phase_39
PROCESSING_LEVEL_ID = 3
PRODUCT_CREATION_TIME = 2019-02-22T11:38:04.000Z
PRODUCT_ID = "HI972_0000_P13.JP2"
RELEASE_ID = 0143
REVISION_ID = 0000
/* QUALITY DATA ELEMENTS */
DATA_QUALITY_ID = 1
DATA_QUALITY_DESC = "Data calculated based on original SPICE kernels"
/* TIME DATA ELEMENTS */
SPACECRAFT_CLOCK_START_COUNT = "1/0494291147.25672"
SPACECRAFT_CLOCK_STOP_COUNT = "1/0494291350.35147"
START_TIME = 2018-12-30T23:07:04.332Z
STOP_TIME = 2018-12-30T23:09:31.842Z
/* ORBITAL DATA ELEMENTS */
ASCENDING_NODE_LONGITUDE = 218.28
MAXIMUM_RESOLUTION = 27.2
FOOTPRINT_POINT_LATITUDE = (-55.0144,-54.9972,-54.9795,-54.9426, -54.9909,-54.78,-54.4579,-54.2426, -54.0296,-53.8159,-53.6019,-53.2826, -53.0693,-52.8555,-52.6423,-52.4285, -52.108,-51.7869,-51.5729,-51.2539, -51.0388,-50.7199,-50.5075,-50.2942, -50.0805,-49.8678,-49.5491,-49.3365, -49.1233,-48.9096,-48.6957,-48.3777, -48.1655,-47.8479,-47.6356,-47.4231, -47.2111,-46.9987,-46.7877,-46.5751, -46.3636,-46.1526,-45.9408,-45.7293, -45.5172,-45.3045,-45.0929,-44.7763, -44.5646,-44.3467,-44.3742,-44.4083, -44.5386,-44.8569,-45.069,-45.2803, -45.4923,-45.7036,-46.0211,-46.2328, -46.4444,-46.6574,-46.8693,-47.0797, -47.2926,-47.5065,-47.7177,-47.9296, -48.1423,-48.3557,-48.5686,-48.7819, -49.1018,-49.3157,-49.6366,-49.8499, -50.0632,-50.2758,-50.4904,-50.7041, -50.9173,-51.1309,-51.3448,-51.5583, -51.772,-51.9865,-52.201,-52.5225, -52.7372,-52.9508,-53.1654,-53.3794, -53.5929,-53.9143,-54.1294,-54.3436, -54.665,-54.8792,-55.0947,-55.0144)
FOOTPRINT_POINT_LONGITUDE = (67.489,67.1772,66.8675,66.2553,65.7738 ,65.7963,65.831,65.8538,65.8756,65.8973 ,65.9187,65.9498,65.9702,65.9903, 66.0101,66.0296,66.0584,66.0866,66.105, 66.1315,66.1496,66.1751,66.1917,66.2083 ,66.2248,66.2407,66.264,66.2793,66.2946 ,66.3097,66.3247,66.3459,66.3598, 66.3802,66.3936,66.4069,66.4198,66.4327 ,66.4449,66.4575,66.4695,66.4811, 66.4929,66.5043,66.5158,66.5273,66.5383 ,66.5542,66.5647,66.7942,67.2348, 67.7937,68.2176,68.2107,68.2057,68.1991 ,68.1936,68.1866,68.1772,68.1707, 68.1639,68.1593,68.1528,68.1437,68.1385 ,68.1348,68.1266,68.1195,68.1134, 68.1081,68.1019,68.0961,68.0869,68.0815 ,68.0731,68.0665,68.0596,68.0518, 68.0463,68.0394,68.0318,68.0245,68.0174 ,68.0097,68.002,67.995,67.9879,67.9767, 67.9693,67.9605,67.9527,67.944,67.9345, 67.9213,67.9132,67.9039,67.8896,67.88, 67.8713,67.489)
ORBIT_NUMBER = 18972
ORBITAL_ECCENTRICITY = 0.578
ORBITAL_INCLINATION = 86.98
ORBITAL_SEMIMAJOR_AXIS = 8792.83
PERIAPSIS_ALTITUDE = 328.22
PERIAPSIS_ARGUMENT_ANGLE = 310.13
PERIAPSIS_TIME = 2018-12-30T23:08:00.000Z
SPACECRAFT_ORIENTATION = (0.0,1.0,0.0)
^MEX_ORIENTATION_DESC = "MEX_ORIENTATION_DESC.TXT"
SPACECRAFT_POINTING_MODE = INERT
^MEX_POINTING_DESC = "MEX_POINTING_DESC.TXT"
RIGHT_ASCENSION = 27.154
DECLINATION = 51.641
OFFSET_ANGLE = -1e+32
SPACECRAFT_SOLAR_DISTANCE = 2.17258e+08
TARGET_NAME = MARS
/* CAMERA DATA ELEMENTS */
DETECTOR_TEMPERATURE = 17.5549
FOCAL_PLANE_TEMPERATURE = 9.6028
INST_CMPRS_NAME = "DISCRETE COSINE TRANSFORMATION (DCT)"
INST_CMPRS_RATIO = 11.602
INST_CMPRS_QUALITY = 0
INST_CMPRS_QUANTZ_TBL_ID = 0
INSTRUMENT_TEMPERATURE = 12.0496
LENS_TEMPERATURE = 10.0106
MACROPIXEL_SIZE = 2
MISSING_FRAMES = 0
PIXEL_SUBSAMPLING_FLAG = N
SIGNAL_CHAIN_ID = 3
/* RADIOMETRIC DATA ELEMENTS */
BANDWIDTH = 174.0
CENTER_FILTER_WAVELENGTH = 675.0
RADIANCE_OFFSET = 5.62278
RADIANCE_SCALING_FACTOR = 0.0234576
REFLECTANCE_SCALING_FACTOR = 0.000595549
MEX:REFLECTANCE_OFFSET = 0.142753
/* IMAGE OBJECT DEFINITIONS */
OBJECT = IMAGE
  INTERCHANGE_FORMAT = BINARY
  LINES = 25400
  LINE_SAMPLES = 3826
  SAMPLE_TYPE = UNSIGNED_INTEGER
  SAMPLE_BITS = 8
  BANDS = 1
  BAND_STORAGE_TYPE = BAND_SEQUENTIAL
  MAXIMUM = 255
  MEAN = 195.07
  MINIMUM = 1
  STANDARD_DEVIATION = 32.4111
END_OBJECT = IMAGE
/* MAP OBJECT DEFINITIONS */
OBJECT = IMAGE_MAP_PROJECTION
  ^DATA_SET_MAP_PROJECTION_CATALOG= "DSMAP.CAT"
  A_AXIS_RADIUS = 3396.0
  B_AXIS_RADIUS = 3396.0
  C_AXIS_RADIUS = 3396.0
  CENTER_LATITUDE = 0.0
  CENTER_LONGITUDE = 67.0
  COORDINATE_SYSTEM_NAME = PLANETOGRAPHIC
  COORDINATE_SYSTEM_TYPE = "BODY-FIXED ROTATING"
  EASTERNMOST_LONGITUDE = 68.2176
  FIRST_STANDARD_PARALLEL = "N/A"
  LINE_FIRST_PIXEL = 1
  LINE_LAST_PIXEL = 25400
  LINE_PROJECTION_OFFSET = -105191.25
  MAP_PROJECTION_ROTATION = 0.0
  MAP_PROJECTION_TYPE = SINUSOIDAL
  MAP_RESOLUTION = 2370.85521546667
  MAP_SCALE = 0.025
  MAXIMUM_LATITUDE = -44.3467
  MINIMUM_LATITUDE = -55.0947
  POSITIVE_LONGITUDE_DIRECTION = EAST
  REFERENCE_LATITUDE = "N/A"
  REFERENCE_LONGITUDE = "N/A"
  SAMPLE_FIRST_PIXEL = 1
  SAMPLE_LAST_PIXEL = 3826
  SAMPLE_PROJECTION_OFFSET = 1575.25
  SECOND_STANDARD_PARALLEL = "N/A"
  WESTERNMOST_LONGITUDE = 65.77379999999999
END_OBJECT = IMAGE_MAP_PROJECTION
/* The JPEG2000 image data file associated with this label. */
OBJECT = COMPRESSED_FILE
  FILE_NAME = "HI972_0000_P13.JP2"
  RECORD_TYPE = UNDEFINED
  FILE_RECORDS = UNK
  ENCODING_TYPE = "JP2"
  INTERCHANGE_FORMAT = BINARY
  UNCOMPRESSED_FILE_NAME = "HI972_0000_P13.IMG"
  REQUIRED_STORAGE_BYTES = "97203356"
  ^DESCRIPTION = "JP2INFO.TXT"
END_OBJECT = COMPRESSED_FILE
END
