PDS_VERSION_ID = PDS3
/* FILE DATA ELEMENTS */
RECORD_TYPE = STREAM
/* POINTERS TO DATA OBJECTS */
^COMPRESSED_FILE = "HI973_0000_S23.JP2"
/* IDENTIFICATION DATA ELEMENTS */
DATA_SET_ID = "MEX-M-HRSC-5-REFDR-MAPPROJECTED-V3.0"
DATA_SET_NAME = "MARS EXPRESS HRSC MAP PROJECTED REFDR V3.0"
DETECTOR_ID = MEX_HRSC_S2
EVENT_TYPE = "MARS-REGIONAL-MAPPING-Im-Gl-Pf"
INSTRUMENT_HOST_ID = MEX
INSTRUMENT_HOST_NAME = "MARS EXPRESS"
INSTRUMENT_ID = HRSC
INSTRUMENT_NAME = "HIGH RESOLUTION STEREO CAMERA"
MISSION_NAME = "MARS EXPRESS"
MISSION_PHASE_NAME = ME_Phase_39
PROCESSING_LEVEL_ID = 3
PRODUCT_CREATION_TIME = 2019-02-22T11:38:04.000Z
PRODUCT_ID = "HI973_0000_S23.JP2"
RELEASE_ID = 0143
REVISION_ID = 0000
/* QUALITY DATA ELEMENTS */
DATA_QUALITY_ID = 1
DATA_QUALITY_DESC = "Data calculated based on original SPICE kernels"
/* TIME DATA ELEMENTS */
SPACECRAFT_CLOCK_START_COUNT = "1/0494316307.25683"
SPACECRAFT_CLOCK_STOP_COUNT = "1/0494316498.24179"
START_TIME = 2018-12-31T06:05:39.188Z
STOP_TIME = 2018-12-31T06:07:54.204Z
/* ORBITAL DATA ELEMENTS */
ASCENDING_NODE_LONGITUDE = 218.27
MAXIMUM_RESOLUTION = 27.6
FOOTPRINT_POINT_LATITUDE = (-53.7107,-53.6882,-53.6616,-53.628, -53.3657,-53.1732,-52.885,-52.6917, -52.4994,-52.3071,-52.1145,-51.9208, -51.6305,-51.4377,-51.2478,-51.0528, -50.8566,-50.5654,-50.371,-50.1786, -49.9839,-49.7897,-49.5957,-49.4044, -49.2087,-49.0116,-48.8174,-48.6218, -48.3289,-48.1337,-47.9387,-47.743, -47.5471,-47.351,-47.057,-46.861, -46.6651,-46.469,-46.2726,-45.9781, -45.7812,-45.5843,-45.3876,-45.1914, -44.9984,-44.7983,-44.6003,-44.4027, -44.2093,-43.9175,-43.7851,-43.799, -43.8299,-43.845,-43.9619,-44.1607, -44.4558,-44.6528,-44.8581,-45.0684, -45.3479,-45.5379,-45.7324,-45.9291, -46.1263,-46.3238,-46.5235,-46.7239, -46.9142,-47.2067,-47.4022,-47.6954, -47.8913,-48.0866,-48.2823,-48.576, -48.7725,-48.9698,-49.1663,-49.3603, -49.5554,-49.8479,-50.1423,-50.3354, -50.5305,-50.7217,-50.9147,-51.2038, -51.4944,-51.6897,-51.8833,-52.078, -52.3669,-52.56,-52.849,-53.0417, -53.2357,-53.4292,-53.6219,-53.7107)
FOOTPRINT_POINT_LONGITUDE = (324.832,324.367,323.868,323.298, 323.209,323.232,323.265,323.286,323.307 ,323.328,323.349,323.369,323.398, 323.418,323.439,323.457,323.474,323.501 ,323.519,323.537,323.554,323.571, 323.588,323.605,323.621,323.636,323.652 ,323.667,323.69,323.705,323.72,323.734, 323.748,323.762,323.782,323.796,323.809 ,323.822,323.835,323.854,323.866, 323.878,323.89,323.902,323.914,323.925, 323.936,323.946,323.958,323.975,324.189 ,324.555,325.017,325.304,325.623, 325.615,325.603,325.595,325.583,325.568 ,325.563,325.558,325.551,325.542, 325.533,325.524,325.513,325.502,325.496 ,325.483,325.474,325.46,325.45,325.441, 325.431,325.415,325.405,325.393,325.382 ,325.372,325.362,325.345,325.328, 325.318,325.306,325.297,325.286,325.271 ,325.254,325.241,325.229,325.216, 325.199,325.187,325.169,325.156,325.143 ,325.129,325.117,324.832)
ORBIT_NUMBER = 18973
ORBITAL_ECCENTRICITY = 0.577
ORBITAL_INCLINATION = 86.98
ORBITAL_SEMIMAJOR_AXIS = 8788.47
PERIAPSIS_ALTITUDE = 328.81
PERIAPSIS_ARGUMENT_ANGLE = 309.96
PERIAPSIS_TIME = 2018-12-31T06:06:56.000Z
SPACECRAFT_ORIENTATION = (0.0,1.0,0.0)
^MEX_ORIENTATION_DESC = "MEX_ORIENTATION_DESC.TXT"
SPACECRAFT_POINTING_MODE = INERT
^MEX_POINTING_DESC = "MEX_POINTING_DESC.TXT"
RIGHT_ASCENSION = 31.754
DECLINATION = 55.811
OFFSET_ANGLE = -1e+32
SPACECRAFT_SOLAR_DISTANCE = 2.17309e+08
TARGET_NAME = MARS
/* CAMERA DATA ELEMENTS */
DETECTOR_TEMPERATURE = 18.5744
FOCAL_PLANE_TEMPERATURE = 8.5833
INST_CMPRS_NAME = "DISCRETE COSINE TRANSFORMATION (DCT)"
INST_CMPRS_RATIO = 11.0267
INST_CMPRS_QUALITY = 0
INST_CMPRS_QUANTZ_TBL_ID = 0
INSTRUMENT_TEMPERATURE = 11.234
LENS_TEMPERATURE = 8.7872
MACROPIXEL_SIZE = 2
MISSING_FRAMES = 0
PIXEL_SUBSAMPLING_FLAG = N
SIGNAL_CHAIN_ID = 1
/* RADIOMETRIC DATA ELEMENTS */
BANDWIDTH = 178.0
CENTER_FILTER_WAVELENGTH = 679.0
RADIANCE_OFFSET = 5.71968
RADIANCE_SCALING_FACTOR = 0.0163307
REFLECTANCE_SCALING_FACTOR = 0.000408402
MEX:REFLECTANCE_OFFSET = 0.143039
/* IMAGE OBJECT DEFINITIONS */
OBJECT = IMAGE
  INTERCHANGE_FORMAT = BINARY
  LINES = 23357
  LINE_SAMPLES = 3953
  SAMPLE_TYPE = UNSIGNED_INTEGER
  SAMPLE_BITS = 8
  BANDS = 1
  BAND_STORAGE_TYPE = BAND_SEQUENTIAL
  MAXIMUM = 255
  MEAN = 128.324
  MINIMUM = 1
  STANDARD_DEVIATION = 40.3818
END_OBJECT = IMAGE
/* MAP OBJECT DEFINITIONS */
OBJECT = IMAGE_MAP_PROJECTION
  ^DATA_SET_MAP_PROJECTION_CATALOG= "DSMAP.CAT"
  A_AXIS_RADIUS = 3396.0
  B_AXIS_RADIUS = 3396.0
  C_AXIS_RADIUS = 3396.0
  CENTER_LATITUDE = 0.0
  CENTER_LONGITUDE = 324.0
  COORDINATE_SYSTEM_NAME = PLANETOGRAPHIC
  COORDINATE_SYSTEM_TYPE = "BODY-FIXED ROTATING"
  EASTERNMOST_LONGITUDE = 325.623
  FIRST_STANDARD_PARALLEL = "N/A"
  LINE_FIRST_PIXEL = 1
  LINE_LAST_PIXEL = 23357
  LINE_PROJECTION_OFFSET = -103812.75
  MAP_PROJECTION_ROTATION = 0.0
  MAP_PROJECTION_TYPE = SINUSOIDAL
  MAP_RESOLUTION = 2370.85521546667
  MAP_SCALE = 0.025
  MAXIMUM_LATITUDE = -43.7851
  MINIMUM_LATITUDE = -53.7107
  POSITIVE_LONGITUDE_DIRECTION = EAST
  REFERENCE_LATITUDE = "N/A"
  REFERENCE_LONGITUDE = "N/A"
  SAMPLE_FIRST_PIXEL = 1
  SAMPLE_LAST_PIXEL = 3953
  SAMPLE_PROJECTION_OFFSET = 1344.25
  SECOND_STANDARD_PARALLEL = "N/A"
  WESTERNMOST_LONGITUDE = 323.209
END_OBJECT = IMAGE_MAP_PROJECTION
/* The JPEG2000 image data file associated with this label. */
OBJECT = COMPRESSED_FILE
  FILE_NAME = "HI973_0000_S23.JP2"
  RECORD_TYPE = UNDEFINED
  FILE_RECORDS = UNK
  ENCODING_TYPE = "JP2"
  INTERCHANGE_FORMAT = BINARY
  UNCOMPRESSED_FILE_NAME = "HI973_0000_S23.IMG"
  REQUIRED_STORAGE_BYTES = "92353939"
  ^DESCRIPTION = "JP2INFO.TXT"
END_OBJECT = COMPRESSED_FILE
END
