PDS_VERSION_ID = PDS3
/* FILE DATA ELEMENTS */
RECORD_TYPE = STREAM
/* POINTERS TO DATA OBJECTS */
^COMPRESSED_FILE = "HI974_0000_GR3.JP2"
/* IDENTIFICATION DATA ELEMENTS */
DATA_SET_ID = "MEX-M-HRSC-5-REFDR-MAPPROJECTED-V3.0"
DATA_SET_NAME = "MARS EXPRESS HRSC MAP PROJECTED REFDR V3.0"
DETECTOR_ID = MEX_HRSC_GREEN
EVENT_TYPE = "MARS-REGIONAL-MAPPING-Te-Gl-Pf"
INSTRUMENT_HOST_ID = MEX
INSTRUMENT_HOST_NAME = "MARS EXPRESS"
INSTRUMENT_ID = HRSC
INSTRUMENT_NAME = "HIGH RESOLUTION STEREO CAMERA"
MISSION_NAME = "MARS EXPRESS"
MISSION_PHASE_NAME = ME_Phase_39
PROCESSING_LEVEL_ID = 3
PRODUCT_CREATION_TIME = 2019-02-22T11:38:04.000Z
PRODUCT_ID = "HI974_0000_GR3.JP2"
RELEASE_ID = 0143
REVISION_ID = 0000
/* QUALITY DATA ELEMENTS */
DATA_QUALITY_ID = 1
DATA_QUALITY_DESC = "Data calculated based on original SPICE kernels"
/* TIME DATA ELEMENTS */
SPACECRAFT_CLOCK_START_COUNT = "1/0494341335.25679"
SPACECRAFT_CLOCK_STOP_COUNT = "1/0494341569.56341"
START_TIME = 2018-12-31T13:03:20.736Z
STOP_TIME = 2018-12-31T13:06:18.323Z
/* ORBITAL DATA ELEMENTS */
ASCENDING_NODE_LONGITUDE = 218.25
MAXIMUM_RESOLUTION = 51.9
FOOTPRINT_POINT_LATITUDE = (-60.7139,-60.6978,-60.675,-60.6571, -60.6333,-60.6276,-60.3665,-60.1054, -59.8442,-59.5832,-59.1919,-58.9309, -58.6702,-58.409,-58.1484,-57.8876, -57.6271,-57.3664,-57.1072,-56.8466, -56.5892,-56.3365,-55.9591,-55.7066, -55.3276,-55.0758,-54.698,-54.3202, -53.9426,-53.5648,-53.3129,-53.061, -52.8092,-52.5573,-52.3055,-52.0536, -51.8018,-51.5499,-51.2981,-50.9202, -50.4165,-50.1646,-49.9127,-49.6607, -49.2828,-49.0308,-48.7788,-48.4008, -48.1485,-47.8968,-47.8967,-47.9154, -47.9293,-47.9426,-48.0826,-48.3348, -48.5872,-48.8397,-49.2184,-49.4708, -49.7233,-49.9758,-50.2283,-50.6069, -50.8594,-51.238,-51.4904,-51.7429, -51.9954,-52.2478,-52.5003,-52.879, -53.2578,-53.5104,-53.763,-54.0155, -54.268,-54.5206,-54.7729,-55.0255, -55.2783,-55.5314,-55.9106,-56.1635, -56.4164,-56.7966,-57.1893,-57.4515, -57.8446,-58.1065,-58.3687,-58.6307, -58.8928,-59.155,-59.5482,-59.9421, -60.2042,-60.4667,-60.7296,-60.7139)
FOOTPRINT_POINT_LONGITUDE = (222.012,221.676,221.228,220.894,220.47 ,219.829,219.886,219.941,219.996, 220.049,220.126,220.177,220.226,220.275 ,220.322,220.368,220.412,220.457, 220.496,220.538,220.579,220.62,220.674, 220.713,220.771,220.805,220.856,220.905 ,220.953,220.999,221.029,221.059, 221.088,221.117,221.145,221.172,221.199 ,221.225,221.251,221.288,221.336,221.36 ,221.383,221.405,221.438,221.459,221.48 ,221.511,221.53,221.55,222.084,222.428, 222.695,222.961,223.228,223.217,223.205 ,223.193,223.174,223.162,223.149, 223.136,223.122,223.102,223.088,223.067 ,223.053,223.038,223.024,223.009, 222.993,222.969,222.946,222.93,222.913, 222.896,222.879,222.861,222.843,222.824 ,222.806,222.788,222.76,222.74,222.721, 222.692,222.66,222.639,222.606,222.583, 222.56,222.536,222.512,222.487,222.449, 222.41,222.382,222.355,222.327,222.012)
ORBIT_NUMBER = 18974
ORBITAL_ECCENTRICITY = 0.578
ORBITAL_INCLINATION = 86.99
ORBITAL_SEMIMAJOR_AXIS = 8789.53
PERIAPSIS_ALTITUDE = 328.06
PERIAPSIS_ARGUMENT_ANGLE = 309.77
PERIAPSIS_TIME = 2018-12-31T13:05:50.000Z
SPACECRAFT_ORIENTATION = (0.0,1.0,0.0)
^MEX_ORIENTATION_DESC = "MEX_ORIENTATION_DESC.TXT"
SPACECRAFT_POINTING_MODE = INERT
^MEX_POINTING_DESC = "MEX_POINTING_DESC.TXT"
RIGHT_ASCENSION = 21.829
DECLINATION = 57.728
OFFSET_ANGLE = -1e+32
SPACECRAFT_SOLAR_DISTANCE = 2.17361e+08
TARGET_NAME = MARS
/* CAMERA DATA ELEMENTS */
DETECTOR_TEMPERATURE = 18.9822
FOCAL_PLANE_TEMPERATURE = 10.4184
INST_CMPRS_NAME = "DISCRETE COSINE TRANSFORMATION (DCT)"
INST_CMPRS_RATIO = 8.17737
INST_CMPRS_QUALITY = 0
INST_CMPRS_QUANTZ_TBL_ID = 0
INSTRUMENT_TEMPERATURE = 12.4574
LENS_TEMPERATURE = 11.0301
MACROPIXEL_SIZE = 4
MISSING_FRAMES = 0
PIXEL_SUBSAMPLING_FLAG = N
SIGNAL_CHAIN_ID = 2
/* RADIOMETRIC DATA ELEMENTS */
BANDWIDTH = 88.0
CENTER_FILTER_WAVELENGTH = 538.0
RADIANCE_OFFSET = 1.16778
RADIANCE_SCALING_FACTOR = 0.0055527
REFLECTANCE_SCALING_FACTOR = 0.000225867
MEX:REFLECTANCE_OFFSET = 0.0475019
/* IMAGE OBJECT DEFINITIONS */
OBJECT = IMAGE
  INTERCHANGE_FORMAT = BINARY
  LINES = 15243
  LINE_SAMPLES = 2289
  SAMPLE_TYPE = UNSIGNED_INTEGER
  SAMPLE_BITS = 8
  BANDS = 1
  BAND_STORAGE_TYPE = BAND_SEQUENTIAL
  MAXIMUM = 255
  MEAN = 144.012
  MINIMUM = 1
  STANDARD_DEVIATION = 32.3623
END_OBJECT = IMAGE
/* MAP OBJECT DEFINITIONS */
OBJECT = IMAGE_MAP_PROJECTION
  ^DATA_SET_MAP_PROJECTION_CATALOG= "DSMAP.CAT"
  A_AXIS_RADIUS = 3396.0
  B_AXIS_RADIUS = 3396.0
  C_AXIS_RADIUS = 3396.0
  CENTER_LATITUDE = 0.0
  CENTER_LONGITUDE = 222.0
  COORDINATE_SYSTEM_NAME = PLANETOGRAPHIC
  COORDINATE_SYSTEM_TYPE = "BODY-FIXED ROTATING"
  EASTERNMOST_LONGITUDE = 223.228
  FIRST_STANDARD_PARALLEL = "N/A"
  LINE_FIRST_PIXEL = 1
  LINE_LAST_PIXEL = 15243
  LINE_PROJECTION_OFFSET = -56775.875
  MAP_PROJECTION_ROTATION = 0.0
  MAP_PROJECTION_TYPE = SINUSOIDAL
  MAP_RESOLUTION = 1185.42760773333
  MAP_SCALE = 0.05
  MAXIMUM_LATITUDE = -47.8967
  MINIMUM_LATITUDE = -60.7296
  POSITIVE_LONGITUDE_DIRECTION = EAST
  REFERENCE_LATITUDE = "N/A"
  REFERENCE_LONGITUDE = "N/A"
  SAMPLE_FIRST_PIXEL = 1
  SAMPLE_LAST_PIXEL = 2289
  SAMPLE_PROJECTION_OFFSET = 1262.875
  SECOND_STANDARD_PARALLEL = "N/A"
  WESTERNMOST_LONGITUDE = 219.829
END_OBJECT = IMAGE_MAP_PROJECTION
/* The JPEG2000 image data file associated with this label. */
OBJECT = COMPRESSED_FILE
  FILE_NAME = "HI974_0000_GR3.JP2"
  RECORD_TYPE = UNDEFINED
  FILE_RECORDS = UNK
  ENCODING_TYPE = "JP2"
  INTERCHANGE_FORMAT = BINARY
  UNCOMPRESSED_FILE_NAME = "HI974_0000_GR3.IMG"
  REQUIRED_STORAGE_BYTES = "34914117"
  ^DESCRIPTION = "JP2INFO.TXT"
END_OBJECT = COMPRESSED_FILE
END
