PDS_VERSION_ID = PDS3
/* FILE DATA ELEMENTS */
RECORD_TYPE = STREAM
/* POINTERS TO DATA OBJECTS */
^COMPRESSED_FILE = "HI977_0000_ND3.JP2"
/* IDENTIFICATION DATA ELEMENTS */
DATA_SET_ID = "MEX-M-HRSC-5-REFDR-MAPPROJECTED-V3.0"
DATA_SET_NAME = "MARS EXPRESS HRSC MAP PROJECTED REFDR V3.0"
DETECTOR_ID = MEX_HRSC_NADIR
EVENT_TYPE = "MARS-REGIONAL-MAPPING-Im-Eo-Mw"
INSTRUMENT_HOST_ID = MEX
INSTRUMENT_HOST_NAME = "MARS EXPRESS"
INSTRUMENT_ID = HRSC
INSTRUMENT_NAME = "HIGH RESOLUTION STEREO CAMERA"
MISSION_NAME = "MARS EXPRESS"
MISSION_PHASE_NAME = ME_Phase_40
PROCESSING_LEVEL_ID = 3
PRODUCT_CREATION_TIME = 2019-09-09T10:24:51.000Z
PRODUCT_ID = "HI977_0000_ND3.JP2"
RELEASE_ID = 0144
REVISION_ID = 0000
/* QUALITY DATA ELEMENTS */
DATA_QUALITY_ID = 1
DATA_QUALITY_DESC = "Data calculated based on original SPICE kernels"
/* TIME DATA ELEMENTS */
SPACECRAFT_CLOCK_START_COUNT = "1/0494416839.25695"
SPACECRAFT_CLOCK_STOP_COUNT = "1/0494417027.25067"
START_TIME = 2019-01-01T10:01:37.953Z
STOP_TIME = 2019-01-01T10:03:50.950Z
/* ORBITAL DATA ELEMENTS */
ASCENDING_NODE_LONGITUDE = 218.19
MAXIMUM_RESOLUTION = 13
FOOTPRINT_POINT_LATITUDE = (-55.899,-55.8848,-55.8707,-55.8551, -55.8388,-55.8173,-55.7203,-55.5294, -55.3387,-55.0525,-54.8618,-54.6708, -54.48,-54.2891,-54.0027,-53.8117, -53.5254,-53.3344,-53.1435,-52.8571, -52.6661,-52.3799,-52.189,-51.9982, -51.8073,-51.521,-51.3302,-51.1393, -50.853,-50.6621,-50.3758,-50.1849, -49.8986,-49.7076,-49.4213,-49.2304, -49.0395,-48.8485,-48.6579,-48.3712, -48.1803,-47.9893,-47.7028,-47.5117, -47.3207,-47.0341,-46.843,-46.5564, -46.3658,-46.2693,-46.2917,-46.3051, -46.3272,-46.3407,-46.5316,-46.7229, -47.0099,-47.2012,-47.3925,-47.6795, -47.8705,-48.0617,-48.253,-48.4442, -48.6355,-48.8268,-49.018,-49.2093, -49.4006,-49.5918,-49.7831,-49.9743, -50.2612,-50.4524,-50.6437,-50.9307, -51.1221,-51.3136,-51.505,-51.7921, -51.9837,-52.1751,-52.3666,-52.558, -52.7491,-52.9405,-53.1317,-53.3224, -53.6094,-53.8008,-53.9923,-54.2793, -54.4712,-54.6626,-54.8542,-55.0456, -55.2374,-55.5249,-55.7166,-55.899)
FOOTPRINT_POINT_LONGITUDE = (276.551,276.232,275.935,275.619, 275.304,274.911,274.656,274.681,274.705 ,274.741,274.765,274.788,274.811, 274.834,274.868,274.89,274.922,274.943, 274.964,274.995,275.016,275.045,275.065 ,275.083,275.102,275.13,275.148,275.166 ,275.191,275.208,275.233,275.249, 275.274,275.289,275.313,275.328,275.343 ,275.358,275.373,275.394,275.408, 275.422,275.442,275.455,275.468,275.487 ,275.5,275.518,275.531,275.749,276.171, 276.432,276.891,277.196,277.19,277.182, 277.171,277.163,277.155,277.143,277.137 ,277.129,277.121,277.113,277.105, 277.096,277.088,277.08,277.07,277.062, 277.052,277.043,277.031,277.021,277.014 ,277.004,276.997,276.988,276.979, 276.965,276.956,276.946,276.936,276.926 ,276.913,276.902,276.891,276.876, 276.859,276.848,276.837,276.82,276.81, 276.798,276.787,276.774,276.763,276.745 ,276.733,276.551)
ORBIT_NUMBER = 18977
ORBITAL_ECCENTRICITY = 0.578
ORBITAL_INCLINATION = 86.97
ORBITAL_SEMIMAJOR_AXIS = 8790.94
PERIAPSIS_ALTITUDE = 328.52
PERIAPSIS_ARGUMENT_ANGLE = 309.27
PERIAPSIS_TIME = 2019-01-01T10:02:51.000Z
SPACECRAFT_ORIENTATION = (0.0,1.0,0.0)
^MEX_ORIENTATION_DESC = "MEX_ORIENTATION_DESC.TXT"
SPACECRAFT_POINTING_MODE = INERT
^MEX_POINTING_DESC = "MEX_POINTING_DESC.TXT"
RIGHT_ASCENSION = 27.172
DECLINATION = 54.487
OFFSET_ANGLE = -1e+32
SPACECRAFT_SOLAR_DISTANCE = 2.17516e+08
TARGET_NAME = MARS
/* CAMERA DATA ELEMENTS */
DETECTOR_TEMPERATURE = 18.3705
FOCAL_PLANE_TEMPERATURE = 8.3794
INST_CMPRS_NAME = "DISCRETE COSINE TRANSFORMATION (DCT)"
INST_CMPRS_RATIO = 5.28366
INST_CMPRS_QUALITY = 0
INST_CMPRS_QUANTZ_TBL_ID = 0
INSTRUMENT_TEMPERATURE = 10.8262
LENS_TEMPERATURE = 8.7872
MACROPIXEL_SIZE = 1
MISSING_FRAMES = 0
PIXEL_SUBSAMPLING_FLAG = N
SIGNAL_CHAIN_ID = 0
/* RADIOMETRIC DATA ELEMENTS */
BANDWIDTH = 177.0
CENTER_FILTER_WAVELENGTH = 677.5
RADIANCE_OFFSET = 3.19762
RADIANCE_SCALING_FACTOR = 0.0162624
REFLECTANCE_SCALING_FACTOR = 0.000408741
MEX:REFLECTANCE_OFFSET = 0.0803693
/* IMAGE OBJECT DEFINITIONS */
OBJECT = IMAGE
  INTERCHANGE_FORMAT = BINARY
  LINES = 45696
  LINE_SAMPLES = 7654
  SAMPLE_TYPE = UNSIGNED_INTEGER
  SAMPLE_BITS = 8
  BANDS = 1
  BAND_STORAGE_TYPE = BAND_SEQUENTIAL
  MAXIMUM = 255
  MEAN = 150.05
  MINIMUM = 1
  STANDARD_DEVIATION = 39.4602
END_OBJECT = IMAGE
/* MAP OBJECT DEFINITIONS */
OBJECT = IMAGE_MAP_PROJECTION
  ^DATA_SET_MAP_PROJECTION_CATALOG= "DSMAP.CAT"
  A_AXIS_RADIUS = 3396.0
  B_AXIS_RADIUS = 3396.0
  C_AXIS_RADIUS = 3396.0
  CENTER_LATITUDE = 0.0
  CENTER_LONGITUDE = 276.0
  COORDINATE_SYSTEM_NAME = PLANETOGRAPHIC
  COORDINATE_SYSTEM_TYPE = "BODY-FIXED ROTATING"
  EASTERNMOST_LONGITUDE = 277.196
  FIRST_STANDARD_PARALLEL = "N/A"
  LINE_FIRST_PIXEL = 1
  LINE_LAST_PIXEL = 45696
  LINE_PROJECTION_OFFSET = -219387.0
  MAP_PROJECTION_ROTATION = 0.0
  MAP_PROJECTION_TYPE = SINUSOIDAL
  MAP_RESOLUTION = 4741.71043093333
  MAP_SCALE = 0.0125
  MAXIMUM_LATITUDE = -46.2693
  MINIMUM_LATITUDE = -55.899
  POSITIVE_LONGITUDE_DIRECTION = EAST
  REFERENCE_LATITUDE = "N/A"
  REFERENCE_LONGITUDE = "N/A"
  SAMPLE_FIRST_PIXEL = 1
  SAMPLE_LAST_PIXEL = 7654
  SAMPLE_PROJECTION_OFFSET = 3591.0
  SECOND_STANDARD_PARALLEL = "N/A"
  WESTERNMOST_LONGITUDE = 274.656
END_OBJECT = IMAGE_MAP_PROJECTION
/* The JPEG2000 image data file associated with this label. */
OBJECT = COMPRESSED_FILE
  FILE_NAME = "HI977_0000_ND3.JP2"
  RECORD_TYPE = UNDEFINED
  FILE_RECORDS = UNK
  ENCODING_TYPE = "JP2"
  INTERCHANGE_FORMAT = BINARY
  UNCOMPRESSED_FILE_NAME = "HI977_0000_ND3.IMG"
  REQUIRED_STORAGE_BYTES = "349787800"
  ^DESCRIPTION = "JP2INFO.TXT"
END_OBJECT = COMPRESSED_FILE
END
