PDS_VERSION_ID = PDS3
/* FILE DATA ELEMENTS */
RECORD_TYPE = STREAM
/* POINTERS TO DATA OBJECTS */
^COMPRESSED_FILE = "HI978_0000_BL3.JP2"
/* IDENTIFICATION DATA ELEMENTS */
DATA_SET_ID = "MEX-M-HRSC-5-REFDR-MAPPROJECTED-V3.0"
DATA_SET_NAME = "MARS EXPRESS HRSC MAP PROJECTED REFDR V3.0"
DETECTOR_ID = MEX_HRSC_BLUE
EVENT_TYPE = "MARS-REGIONAL-MAPPING-Vo-Im-Fl"
INSTRUMENT_HOST_ID = MEX
INSTRUMENT_HOST_NAME = "MARS EXPRESS"
INSTRUMENT_ID = HRSC
INSTRUMENT_NAME = "HIGH RESOLUTION STEREO CAMERA"
MISSION_NAME = "MARS EXPRESS"
MISSION_PHASE_NAME = ME_Phase_40
PROCESSING_LEVEL_ID = 3
PRODUCT_CREATION_TIME = 2019-09-09T10:24:51.000Z
PRODUCT_ID = "HI978_0000_BL3.JP2"
RELEASE_ID = 0144
REVISION_ID = 0000
/* QUALITY DATA ELEMENTS */
DATA_QUALITY_ID = 1
DATA_QUALITY_DESC = "Data calculated based on original SPICE kernels"
/* TIME DATA ELEMENTS */
SPACECRAFT_CLOCK_START_COUNT = "1/0494442005.24922"
SPACECRAFT_CLOCK_STOP_COUNT = "1/0494442221.50290"
START_TIME = 2019-01-01T17:00:59.336Z
STOP_TIME = 2019-01-01T17:03:39.210Z
/* ORBITAL DATA ELEMENTS */
ASCENDING_NODE_LONGITUDE = 218.17
MAXIMUM_RESOLUTION = 52.3
FOOTPRINT_POINT_LATITUDE = (-54.1957,-54.1811,-54.1616,-54.14, -54.0171,-53.7829,-53.5546,-53.328, -52.9881,-52.7615,-52.5348,-52.3082, -52.0816,-51.855,-51.6285,-51.4019, -51.1753,-50.8355,-50.6089,-50.3823, -50.1558,-49.9292,-49.7026,-49.4761, -49.2495,-49.0229,-48.683,-48.4563, -48.2296,-48.0026,-47.6624,-47.3221, -46.9817,-46.7547,-46.4145,-46.1876, -45.9604,-45.6197,-45.279,-45.0509, -44.8173,-44.5822,-44.2293,-43.9921, -43.757,-43.407,-43.1714,-42.9357, -42.7003,-42.632,-42.6426,-42.6504, -42.6569,-42.6671,-42.9032,-43.1389, -43.3746,-43.61,-43.8457,-44.0812, -44.316,-44.552,-44.905,-45.1383, -45.3657,-45.7067,-45.9341,-46.1615, -46.3888,-46.7296,-46.9569,-47.1841, -47.4113,-47.7521,-48.0928,-48.3199, -48.5469,-48.8872,-49.1142,-49.4546, -49.6816,-49.9084,-50.2487,-50.4757, -50.7026,-50.9296,-51.1566,-51.3835, -51.6105,-51.8375,-52.0645,-52.2916, -52.5185,-52.7456,-53.0862,-53.3133, -53.5405,-53.7677,-54.0012,-54.1957)
FOOTPRINT_POINT_LONGITUDE = (176.025,175.516,174.927,174.354,174.1, 174.118,174.135,174.152,174.176,174.192 ,174.208,174.224,174.239,174.254, 174.269,174.283,174.298,174.319,174.332 ,174.346,174.359,174.372,174.385, 174.398,174.41,174.423,174.441,174.454, 174.465,174.478,174.495,174.512,174.529 ,174.54,174.556,174.566,174.577,174.593 ,174.608,174.618,174.628,174.638, 174.653,174.665,174.674,174.686,174.695 ,174.705,174.714,175.197,175.504, 175.769,176.007,176.382,176.375,176.368 ,176.361,176.355,176.347,176.341, 176.336,176.327,176.317,176.312,176.306 ,176.298,176.292,176.286,176.28,176.272 ,176.267,176.261,176.255,176.246, 176.238,176.232,176.227,176.22,176.216, 176.209,176.204,176.2,176.195,176.192, 176.187,176.183,176.179,176.174,176.169 ,176.164,176.161,176.16,176.153,176.148 ,176.142,176.139,176.137,176.133, 176.127,176.025)
ORBIT_NUMBER = 18978
ORBITAL_ECCENTRICITY = 0.577
ORBITAL_INCLINATION = 86.98
ORBITAL_SEMIMAJOR_AXIS = 8788.37
PERIAPSIS_ALTITUDE = 329.12
PERIAPSIS_ARGUMENT_ANGLE = 309.11
PERIAPSIS_TIME = 2019-01-01T17:01:48.000Z
SPACECRAFT_ORIENTATION = (0.0,1.0,0.0)
^MEX_ORIENTATION_DESC = "MEX_ORIENTATION_DESC.TXT"
SPACECRAFT_POINTING_MODE = INERT
^MEX_POINTING_DESC = "MEX_POINTING_DESC.TXT"
RIGHT_ASCENSION = 26.228
DECLINATION = 46.288
OFFSET_ANGLE = -1e+32
SPACECRAFT_SOLAR_DISTANCE = 2.17567e+08
TARGET_NAME = MARS
/* CAMERA DATA ELEMENTS */
DETECTOR_TEMPERATURE = 19.1861
FOCAL_PLANE_TEMPERATURE = 11.0301
INST_CMPRS_NAME = "DISCRETE COSINE TRANSFORMATION (DCT)"
INST_CMPRS_RATIO = 8.61229
INST_CMPRS_QUALITY = 0
INST_CMPRS_QUANTZ_TBL_ID = 0
INSTRUMENT_TEMPERATURE = 12.8652
LENS_TEMPERATURE = 11.234
MACROPIXEL_SIZE = 4
MISSING_FRAMES = 0
PIXEL_SUBSAMPLING_FLAG = N
SIGNAL_CHAIN_ID = 2
/* RADIOMETRIC DATA ELEMENTS */
BANDWIDTH = 76.0
CENTER_FILTER_WAVELENGTH = 444.0
RADIANCE_OFFSET = 0.696776
RADIANCE_SCALING_FACTOR = 0.00169855
REFLECTANCE_SCALING_FACTOR = 8.26079e-05
MEX:REFLECTANCE_OFFSET = 0.0338872
/* IMAGE OBJECT DEFINITIONS */
OBJECT = IMAGE
  INTERCHANGE_FORMAT = BINARY
  LINES = 13717
  LINE_SAMPLES = 1919
  SAMPLE_TYPE = UNSIGNED_INTEGER
  SAMPLE_BITS = 8
  BANDS = 1
  BAND_STORAGE_TYPE = BAND_SEQUENTIAL
  MAXIMUM = 255
  MEAN = 137.998
  MINIMUM = 1
  STANDARD_DEVIATION = 31.6537
END_OBJECT = IMAGE
/* MAP OBJECT DEFINITIONS */
OBJECT = IMAGE_MAP_PROJECTION
  ^DATA_SET_MAP_PROJECTION_CATALOG= "DSMAP.CAT"
  A_AXIS_RADIUS = 3396.0
  B_AXIS_RADIUS = 3396.0
  C_AXIS_RADIUS = 3396.0
  CENTER_LATITUDE = 0.0
  CENTER_LONGITUDE = 175.0
  COORDINATE_SYSTEM_NAME = PLANETOGRAPHIC
  COORDINATE_SYSTEM_TYPE = "BODY-FIXED ROTATING"
  EASTERNMOST_LONGITUDE = 176.382
  FIRST_STANDARD_PARALLEL = "N/A"
  LINE_FIRST_PIXEL = 1
  LINE_LAST_PIXEL = 13717
  LINE_PROJECTION_OFFSET = -50512.375
  MAP_PROJECTION_ROTATION = 0.0
  MAP_PROJECTION_TYPE = SINUSOIDAL
  MAP_RESOLUTION = 1185.42760773333
  MAP_SCALE = 0.05
  MAXIMUM_LATITUDE = -42.632
  MINIMUM_LATITUDE = -54.1957
  POSITIVE_LONGITUDE_DIRECTION = EAST
  REFERENCE_LATITUDE = "N/A"
  REFERENCE_LONGITUDE = "N/A"
  SAMPLE_FIRST_PIXEL = 1
  SAMPLE_LAST_PIXEL = 1919
  SAMPLE_PROJECTION_OFFSET = 665.625
  SECOND_STANDARD_PARALLEL = "N/A"
  WESTERNMOST_LONGITUDE = 174.1
END_OBJECT = IMAGE_MAP_PROJECTION
/* The JPEG2000 image data file associated with this label. */
OBJECT = COMPRESSED_FILE
  FILE_NAME = "HI978_0000_BL3.JP2"
  RECORD_TYPE = UNDEFINED
  FILE_RECORDS = UNK
  ENCODING_TYPE = "JP2"
  INTERCHANGE_FORMAT = BINARY
  UNCOMPRESSED_FILE_NAME = "HI978_0000_BL3.IMG"
  REQUIRED_STORAGE_BYTES = "26342113"
  ^DESCRIPTION = "JP2INFO.TXT"
END_OBJECT = COMPRESSED_FILE
END
