PDS_VERSION_ID = PDS3
/* FILE DATA ELEMENTS */
RECORD_TYPE = STREAM
/* POINTERS TO DATA OBJECTS */
^COMPRESSED_FILE = "HI981_0000_S13.JP2"
/* IDENTIFICATION DATA ELEMENTS */
DATA_SET_ID = "MEX-M-HRSC-5-REFDR-MAPPROJECTED-V3.0"
DATA_SET_NAME = "MARS EXPRESS HRSC MAP PROJECTED REFDR V3.0"
DETECTOR_ID = MEX_HRSC_S1
EVENT_TYPE = "MARS-REGIONAL-MAPPING-Im-Gl-Pf"
INSTRUMENT_HOST_ID = MEX
INSTRUMENT_HOST_NAME = "MARS EXPRESS"
INSTRUMENT_ID = HRSC
INSTRUMENT_NAME = "HIGH RESOLUTION STEREO CAMERA"
MISSION_NAME = "MARS EXPRESS"
MISSION_PHASE_NAME = ME_Phase_40
PROCESSING_LEVEL_ID = 3
PRODUCT_CREATION_TIME = 2019-09-09T10:24:51.000Z
PRODUCT_ID = "HI981_0000_S13.JP2"
RELEASE_ID = 0144
REVISION_ID = 0000
/* QUALITY DATA ELEMENTS */
DATA_QUALITY_ID = 1
DATA_QUALITY_DESC = "Data calculated based on original SPICE kernels"
/* TIME DATA ELEMENTS */
SPACECRAFT_CLOCK_START_COUNT = "1/0494517343.25673"
SPACECRAFT_CLOCK_STOP_COUNT = "1/0494517572.33182"
START_TIME = 2019-01-02T13:57:11.238Z
STOP_TIME = 2019-01-02T14:00:02.345Z
/* ORBITAL DATA ELEMENTS */
ASCENDING_NODE_LONGITUDE = 218.12
MAXIMUM_RESOLUTION = 26.9
FOOTPRINT_POINT_LATITUDE = (-58.9831,-58.9715,-58.9591,-58.9458, -58.9316,-58.9015,-58.5971,-58.3415, -58.0906,-57.8403,-57.5893,-57.3382, -57.088,-56.8373,-56.5872,-56.3392, -56.09,-55.8391,-55.5888,-55.3405, -55.0927,-54.8457,-54.5995,-54.3504, -54.1033,-53.8558,-53.4841,-53.1131, -52.8646,-52.4957,-52.2524,-51.8821, -51.6357,-51.389,-51.1443,-50.8988, -50.6531,-50.4058,-50.0381,-49.7892, -49.547,-49.3028,-49.0597,-48.6948, -48.4491,-48.0837,-47.7185,-47.4749, -47.2312,-46.9869,-46.7453,-46.5936, -46.6053,-46.6149,-46.6252,-46.7578, -47.0023,-47.2463,-47.4899,-47.8548, -48.0993,-48.3421,-48.5891,-48.954, -49.3218,-49.6878,-49.934,-50.1846, -50.4305,-50.6761,-50.9181,-51.2886, -51.5356,-51.7825,-52.153,-52.5264, -52.7757,-53.0234,-53.2709,-53.5185, -53.7626,-54.1331,-54.3811,-54.6391, -54.8892,-55.2631,-55.5124,-55.7601, -55.9977,-56.2494,-56.5001,-56.8785, -57.1303,-57.381,-57.6327,-57.8841, -58.1359,-58.3871,-58.6421,-58.9831)
FOOTPRINT_POINT_LONGITUDE = (225.863,225.515,225.163,224.809, 224.451,223.746,223.707,223.772,223.836 ,223.897,223.958,224.018,224.075, 224.133,224.189,224.24,224.292,224.346, 224.399,224.447,224.494,224.539,224.581 ,224.628,224.671,224.713,224.776, 224.837,224.879,224.934,224.965,225.02, 225.056,225.091,225.122,225.154,225.186 ,225.221,225.266,225.302,225.326, 225.352,225.377,225.413,225.441,225.477 ,225.512,225.534,225.557,225.58,225.598 ,226.041,226.38,226.651,226.983,227.264 ,227.249,227.234,227.219,227.196, 227.179,227.164,227.146,227.121,227.094 ,227.067,227.048,227.027,227.007, 226.988,226.969,226.937,226.915,226.893 ,226.859,226.824,226.799,226.775,226.75 ,226.725,226.7,226.661,226.634,226.603, 226.575,226.531,226.501,226.471,226.444 ,226.412,226.379,226.328,226.294, 226.259,226.223,226.187,226.149,226.111 ,226.072,225.863)
ORBIT_NUMBER = 18981
ORBITAL_ECCENTRICITY = 0.578
ORBITAL_INCLINATION = 86.98
ORBITAL_SEMIMAJOR_AXIS = 8787.95
PERIAPSIS_ALTITUDE = 327.87
PERIAPSIS_ARGUMENT_ANGLE = 308.57
PERIAPSIS_TIME = 2019-01-02T13:58:35.000Z
SPACECRAFT_ORIENTATION = (0.0,1.0,0.0)
^MEX_ORIENTATION_DESC = "MEX_ORIENTATION_DESC.TXT"
SPACECRAFT_POINTING_MODE = INERT
^MEX_POINTING_DESC = "MEX_POINTING_DESC.TXT"
RIGHT_ASCENSION = 29.959
DECLINATION = 64.485
OFFSET_ANGLE = -1e+32
SPACECRAFT_SOLAR_DISTANCE = 2.17723e+08
TARGET_NAME = MARS
/* CAMERA DATA ELEMENTS */
DETECTOR_TEMPERATURE = 17.351
FOCAL_PLANE_TEMPERATURE = 9.6028
INST_CMPRS_NAME = "DISCRETE COSINE TRANSFORMATION (DCT)"
INST_CMPRS_RATIO = 9.83508
INST_CMPRS_QUALITY = 0
INST_CMPRS_QUANTZ_TBL_ID = 0
INSTRUMENT_TEMPERATURE = 12.0496
LENS_TEMPERATURE = 10.2145
MACROPIXEL_SIZE = 2
MISSING_FRAMES = 0
PIXEL_SUBSAMPLING_FLAG = N
SIGNAL_CHAIN_ID = 1
/* RADIOMETRIC DATA ELEMENTS */
BANDWIDTH = 180.0
CENTER_FILTER_WAVELENGTH = 677.0
RADIANCE_OFFSET = 3.40231
RADIANCE_SCALING_FACTOR = 0.0279928
REFLECTANCE_SCALING_FACTOR = 0.000692302
MEX:REFLECTANCE_OFFSET = 0.0841439
/* IMAGE OBJECT DEFINITIONS */
OBJECT = IMAGE
  INTERCHANGE_FORMAT = BINARY
  LINES = 29676
  LINE_SAMPLES = 4983
  SAMPLE_TYPE = UNSIGNED_INTEGER
  SAMPLE_BITS = 8
  BANDS = 1
  BAND_STORAGE_TYPE = BAND_SEQUENTIAL
  MAXIMUM = 255
  MEAN = 130.396
  MINIMUM = 1
  STANDARD_DEVIATION = 51.1977
END_OBJECT = IMAGE
/* MAP OBJECT DEFINITIONS */
OBJECT = IMAGE_MAP_PROJECTION
  ^DATA_SET_MAP_PROJECTION_CATALOG= "DSMAP.CAT"
  A_AXIS_RADIUS = 3396.0
  B_AXIS_RADIUS = 3396.0
  C_AXIS_RADIUS = 3396.0
  CENTER_LATITUDE = 0.0
  CENTER_LONGITUDE = 226.0
  COORDINATE_SYSTEM_NAME = PLANETOGRAPHIC
  COORDINATE_SYSTEM_TYPE = "BODY-FIXED ROTATING"
  EASTERNMOST_LONGITUDE = 227.264
  FIRST_STANDARD_PARALLEL = "N/A"
  LINE_FIRST_PIXEL = 1
  LINE_LAST_PIXEL = 29676
  LINE_PROJECTION_OFFSET = -110479.25
  MAP_PROJECTION_ROTATION = 0.0
  MAP_PROJECTION_TYPE = SINUSOIDAL
  MAP_RESOLUTION = 2370.85521546667
  MAP_SCALE = 0.025
  MAXIMUM_LATITUDE = -46.5936
  MINIMUM_LATITUDE = -58.9831
  POSITIVE_LONGITUDE_DIRECTION = EAST
  REFERENCE_LATITUDE = "N/A"
  REFERENCE_LONGITUDE = "N/A"
  SAMPLE_FIRST_PIXEL = 1
  SAMPLE_LAST_PIXEL = 4983
  SAMPLE_PROJECTION_OFFSET = 2746.25
  SECOND_STANDARD_PARALLEL = "N/A"
  WESTERNMOST_LONGITUDE = 223.707
END_OBJECT = IMAGE_MAP_PROJECTION
/* The JPEG2000 image data file associated with this label. */
OBJECT = COMPRESSED_FILE
  FILE_NAME = "HI981_0000_S13.JP2"
  RECORD_TYPE = UNDEFINED
  FILE_RECORDS = UNK
  ENCODING_TYPE = "JP2"
  INTERCHANGE_FORMAT = BINARY
  UNCOMPRESSED_FILE_NAME = "HI981_0000_S13.IMG"
  REQUIRED_STORAGE_BYTES = "147900423"
  ^DESCRIPTION = "JP2INFO.TXT"
END_OBJECT = COMPRESSED_FILE
END
