PDS_VERSION_ID = PDS3
/* FILE DATA ELEMENTS */
RECORD_TYPE = STREAM
/* POINTERS TO DATA OBJECTS */
^COMPRESSED_FILE = "HI982_0000_IR3.JP2"
/* IDENTIFICATION DATA ELEMENTS */
DATA_SET_ID = "MEX-M-HRSC-5-REFDR-MAPPROJECTED-V3.0"
DATA_SET_NAME = "MARS EXPRESS HRSC MAP PROJECTED REFDR V3.0"
DETECTOR_ID = MEX_HRSC_IR
EVENT_TYPE = "MARS-REGIONAL-MAPPING-Im-Fl-Eo"
INSTRUMENT_HOST_ID = MEX
INSTRUMENT_HOST_NAME = "MARS EXPRESS"
INSTRUMENT_ID = HRSC
INSTRUMENT_NAME = "HIGH RESOLUTION STEREO CAMERA"
MISSION_NAME = "MARS EXPRESS"
MISSION_PHASE_NAME = ME_Phase_40
PROCESSING_LEVEL_ID = 3
PRODUCT_CREATION_TIME = 2019-09-09T10:24:51.000Z
PRODUCT_ID = "HI982_0000_IR3.JP2"
RELEASE_ID = 0144
REVISION_ID = 0000
/* QUALITY DATA ELEMENTS */
DATA_QUALITY_ID = 1
DATA_QUALITY_DESC = "Data calculated based on original SPICE kernels"
/* TIME DATA ELEMENTS */
SPACECRAFT_CLOCK_START_COUNT = "1/0494542506.23967"
SPACECRAFT_CLOCK_STOP_COUNT = "1/0494542731.14346"
START_TIME = 2019-01-02T20:56:28.943Z
STOP_TIME = 2019-01-02T20:59:16.870Z
/* ORBITAL DATA ELEMENTS */
ASCENDING_NODE_LONGITUDE = 218.1
MAXIMUM_RESOLUTION = 53.5
FOOTPRINT_POINT_LATITUDE = (-57.9434,-57.9008,-57.8566,-57.6715, -57.428,-57.1836,-56.8171,-56.573, -56.3292,-55.9642,-55.7279,-55.4903, -55.248,-55.0028,-54.7505,-54.5105, -54.2683,-54.0244,-53.6599,-53.4189, -53.0571,-52.8157,-52.573,-52.2085, -51.8469,-51.608,-51.3677,-51.1271, -50.7668,-50.5262,-50.2859,-49.9257, -49.5654,-49.2056,-48.9657,-48.7256, -48.4841,-48.244,-48.0084,-47.7696, -47.5307,-47.292,-47.053,-46.8115, -46.4484,-46.2036,-45.958,-45.7721, -45.8023,-45.8211,-45.8426,-45.8605, -46.1183,-46.3651,-46.6118,-46.9741, -47.2132,-47.4521,-47.6913,-47.9307, -48.1703,-48.5294,-48.7691,-49.0086, -49.2485,-49.4885,-49.7278,-49.9681, -50.2093,-50.4514,-50.6907,-50.9322, -51.1733,-51.4115,-51.6542,-51.8919, -52.1356,-52.5013,-52.8667,-53.1097, -53.3524,-53.5949,-53.8376,-54.0807, -54.3232,-54.6875,-54.9311,-55.1741, -55.4173,-55.661,-55.9038,-56.1472, -56.3921,-56.6349,-56.8791,-57.1237, -57.3691,-57.6161,-57.8621,-57.9434)
FOOTPRINT_POINT_LONGITUDE = (126.195,125.54,124.899,124.765,124.794 ,124.821,124.862,124.888,124.914, 124.952,124.977,125.002,125.026,125.049 ,125.071,125.094,125.116,125.138, 125.169,125.19,125.22,125.24,125.259, 125.287,125.315,125.333,125.351,125.368 ,125.394,125.41,125.426,125.45,125.473, 125.496,125.511,125.525,125.539,125.553 ,125.567,125.581,125.594,125.607,125.62 ,125.632,125.651,125.664,125.676, 125.924,126.333,126.594,126.905,127.172 ,127.329,127.324,127.317,127.309, 127.303,127.297,127.291,127.285,127.279 ,127.27,127.264,127.257,127.251,127.245 ,127.238,127.232,127.227,127.223, 127.215,127.21,127.204,127.194,127.19, 127.178,127.175,127.17,127.164,127.159, 127.153,127.146,127.14,127.134,127.127, 127.116,127.11,127.103,127.096,127.089, 127.08,127.073,127.066,127.058,127.05, 127.043,127.036,127.031,127.024, 126.195)
ORBIT_NUMBER = 18982
ORBITAL_ECCENTRICITY = 0.578
ORBITAL_INCLINATION = 86.97
ORBITAL_SEMIMAJOR_AXIS = 8791.22
PERIAPSIS_ALTITUDE = 328.55
PERIAPSIS_ARGUMENT_ANGLE = 308.41
PERIAPSIS_TIME = 2019-01-02T20:57:37.000Z
SPACECRAFT_ORIENTATION = (0.0,1.0,0.0)
^MEX_ORIENTATION_DESC = "MEX_ORIENTATION_DESC.TXT"
SPACECRAFT_POINTING_MODE = INERT
^MEX_POINTING_DESC = "MEX_POINTING_DESC.TXT"
RIGHT_ASCENSION = 22.268
DECLINATION = 49.521
OFFSET_ANGLE = -1e+32
SPACECRAFT_SOLAR_DISTANCE = 2.17775e+08
TARGET_NAME = MARS
/* CAMERA DATA ELEMENTS */
DETECTOR_TEMPERATURE = 17.7588
FOCAL_PLANE_TEMPERATURE = 10.8262
INST_CMPRS_NAME = "DISCRETE COSINE TRANSFORMATION (DCT)"
INST_CMPRS_RATIO = 12.1959
INST_CMPRS_QUALITY = 0
INST_CMPRS_QUANTZ_TBL_ID = 0
INSTRUMENT_TEMPERATURE = 12.4574
LENS_TEMPERATURE = 12.0496
MACROPIXEL_SIZE = 4
MISSING_FRAMES = 0
PIXEL_SUBSAMPLING_FLAG = N
SIGNAL_CHAIN_ID = 2
/* RADIOMETRIC DATA ELEMENTS */
BANDWIDTH = 81.0
CENTER_FILTER_WAVELENGTH = 955.5
RADIANCE_OFFSET = 1.01095
RADIANCE_SCALING_FACTOR = 0.00792899
REFLECTANCE_SCALING_FACTOR = 0.000811264
MEX:REFLECTANCE_OFFSET = 0.103436
/* IMAGE OBJECT DEFINITIONS */
OBJECT = IMAGE
  INTERCHANGE_FORMAT = BINARY
  LINES = 14502
  LINE_SAMPLES = 2029
  SAMPLE_TYPE = UNSIGNED_INTEGER
  SAMPLE_BITS = 8
  BANDS = 1
  BAND_STORAGE_TYPE = BAND_SEQUENTIAL
  MAXIMUM = 255
  MEAN = 117.389
  MINIMUM = 1
  STANDARD_DEVIATION = 49.8871
END_OBJECT = IMAGE
/* MAP OBJECT DEFINITIONS */
OBJECT = IMAGE_MAP_PROJECTION
  ^DATA_SET_MAP_PROJECTION_CATALOG= "DSMAP.CAT"
  A_AXIS_RADIUS = 3396.0
  B_AXIS_RADIUS = 3396.0
  C_AXIS_RADIUS = 3396.0
  CENTER_LATITUDE = 0.0
  CENTER_LONGITUDE = 126.0
  COORDINATE_SYSTEM_NAME = PLANETOGRAPHIC
  COORDINATE_SYSTEM_TYPE = "BODY-FIXED ROTATING"
  EASTERNMOST_LONGITUDE = 127.329
  FIRST_STANDARD_PARALLEL = "N/A"
  LINE_FIRST_PIXEL = 1
  LINE_LAST_PIXEL = 14502
  LINE_PROJECTION_OFFSET = -54312.375
  MAP_PROJECTION_ROTATION = 0.0
  MAP_PROJECTION_TYPE = SINUSOIDAL
  MAP_RESOLUTION = 1185.42760773333
  MAP_SCALE = 0.05
  MAXIMUM_LATITUDE = -45.7721
  MINIMUM_LATITUDE = -57.9434
  POSITIVE_LONGITUDE_DIRECTION = EAST
  REFERENCE_LATITUDE = "N/A"
  REFERENCE_LONGITUDE = "N/A"
  SAMPLE_FIRST_PIXEL = 1
  SAMPLE_LAST_PIXEL = 2029
  SAMPLE_PROJECTION_OFFSET = 754.625
  SECOND_STANDARD_PARALLEL = "N/A"
  WESTERNMOST_LONGITUDE = 124.765
END_OBJECT = IMAGE_MAP_PROJECTION
/* The JPEG2000 image data file associated with this label. */
OBJECT = COMPRESSED_FILE
  FILE_NAME = "HI982_0000_IR3.JP2"
  RECORD_TYPE = UNDEFINED
  FILE_RECORDS = UNK
  ENCODING_TYPE = "JP2"
  INTERCHANGE_FORMAT = BINARY
  UNCOMPRESSED_FILE_NAME = "HI982_0000_IR3.IMG"
  REQUIRED_STORAGE_BYTES = "29444848"
  ^DESCRIPTION = "JP2INFO.TXT"
END_OBJECT = COMPRESSED_FILE
END
