PDS_VERSION_ID = PDS3
/* FILE DATA ELEMENTS */
RECORD_TYPE = STREAM
/* POINTERS TO DATA OBJECTS */
^COMPRESSED_FILE = "HI983_0000_S23.JP2"
/* IDENTIFICATION DATA ELEMENTS */
DATA_SET_ID = "MEX-M-HRSC-5-REFDR-MAPPROJECTED-V3.0"
DATA_SET_NAME = "MARS EXPRESS HRSC MAP PROJECTED REFDR V3.0"
DETECTOR_ID = MEX_HRSC_S2
EVENT_TYPE = "MARS-REGIONAL-MAPPING-Te-Im-Pf"
INSTRUMENT_HOST_ID = MEX
INSTRUMENT_HOST_NAME = "MARS EXPRESS"
INSTRUMENT_ID = HRSC
INSTRUMENT_NAME = "HIGH RESOLUTION STEREO CAMERA"
MISSION_NAME = "MARS EXPRESS"
MISSION_PHASE_NAME = ME_Phase_40
PROCESSING_LEVEL_ID = 3
PRODUCT_CREATION_TIME = 2019-09-09T10:24:51.000Z
PRODUCT_ID = "HI983_0000_S23.JP2"
RELEASE_ID = 0144
REVISION_ID = 0000
/* QUALITY DATA ELEMENTS */
DATA_QUALITY_ID = 1
DATA_QUALITY_DESC = "Data calculated based on original SPICE kernels"
/* TIME DATA ELEMENTS */
SPACECRAFT_CLOCK_START_COUNT = "1/0494567635.25716"
SPACECRAFT_CLOCK_STOP_COUNT = "1/0494567837.42983"
START_TIME = 2019-01-03T03:54:27.245Z
STOP_TIME = 2019-01-03T03:56:54.092Z
/* ORBITAL DATA ELEMENTS */
ASCENDING_NODE_LONGITUDE = 218.09
MAXIMUM_RESOLUTION = 27.8
FOOTPRINT_POINT_LATITUDE = (-58.7328,-58.7065,-58.6752,-58.6559, -58.5808,-58.2619,-58.0485,-57.8366, -57.6238,-57.4084,-57.195,-56.9832, -56.6627,-56.4487,-56.2339,-56.0193, -55.805,-55.5919,-55.3841,-55.1762, -54.9688,-54.7609,-54.5528,-54.3444, -54.0319,-53.8235,-53.5109,-53.1976, -52.8835,-52.6741,-52.3599,-52.1487, -51.9398,-51.6263,-51.4218,-51.2126, -50.8974,-50.6868,-50.4759,-50.1602, -49.9484,-49.7357,-49.5229,-49.3109, -48.9941,-48.7827,-48.5701,-48.3567, -48.1439,-48.0392,-48.0623,-48.0775, -48.0985,-48.1085,-48.3278,-48.5409, -48.7543,-49.0726,-49.2853,-49.4924, -49.7024,-49.9133,-50.13,-50.4501, -50.6589,-50.87,-51.1859,-51.3979, -51.6079,-51.8185,-52.0282,-52.2384, -52.4471,-52.6568,-52.8663,-53.0758, -53.39,-53.5999,-53.9139,-54.1235, -54.3324,-54.5415,-54.75,-55.0621, -55.2716,-55.4799,-55.6883,-55.9012, -56.1157,-56.4375,-56.652,-56.8665, -57.0807,-57.2941,-57.6148,-57.8293, -58.1478,-58.4679,-58.6815,-58.7328)
FOOTPRINT_POINT_LONGITUDE = (23.1733,22.6306,22.0474,21.7147, 21.2634,21.3195,21.3557,21.3922,21.4276 ,21.4611,21.4951,21.5294,21.5785, 21.6104,21.6415,21.6722,21.7025,21.7321 ,21.7604,21.7883,21.8159,21.843,21.8696 ,21.8957,21.9341,21.9593,21.9963, 22.0323,22.0672,22.0901,22.1237,22.1452 ,22.1671,22.1993,22.2217,22.2424, 22.2725,22.292,22.3111,22.3396,22.3578, 22.3755,22.393,22.4104,22.4364,22.4533, 22.4698,22.4857,22.5016,22.7812,23.1874 ,23.4754,23.8996,24.1203,24.251,24.2394 ,24.2274,24.2099,24.1977,24.1883, 24.1772,24.1654,24.1502,24.1297,24.1183 ,24.1055,24.0861,24.0722,24.0591, 24.0455,24.0321,24.0183,24.0051,23.9911 ,23.9769,23.9625,23.9405,23.9252, 23.9022,23.8864,23.8708,23.8548,23.8389 ,23.815,23.7977,23.7809,23.7638,23.7463 ,23.7286,23.7013,23.6828,23.6639, 23.6449,23.6263,23.5973,23.5766,23.5483 ,23.5175,23.4963,23.1733)
ORBIT_NUMBER = 18983
ORBITAL_ECCENTRICITY = 0.578
ORBITAL_INCLINATION = 86.97
ORBITAL_SEMIMAJOR_AXIS = 8789.79
PERIAPSIS_ALTITUDE = 328.83
PERIAPSIS_ARGUMENT_ANGLE = 308.24
PERIAPSIS_TIME = 2019-01-03T03:56:35.000Z
SPACECRAFT_ORIENTATION = (0.0,1.0,0.0)
^MEX_ORIENTATION_DESC = "MEX_ORIENTATION_DESC.TXT"
SPACECRAFT_POINTING_MODE = INERT
^MEX_POINTING_DESC = "MEX_POINTING_DESC.TXT"
RIGHT_ASCENSION = 23.461
DECLINATION = 57.362
OFFSET_ANGLE = -1e+32
SPACECRAFT_SOLAR_DISTANCE = 2.17827e+08
TARGET_NAME = MARS
/* CAMERA DATA ELEMENTS */
DETECTOR_TEMPERATURE = 19.39
FOCAL_PLANE_TEMPERATURE = 9.8067
INST_CMPRS_NAME = "DISCRETE COSINE TRANSFORMATION (DCT)"
INST_CMPRS_RATIO = 8.65329
INST_CMPRS_QUALITY = 0
INST_CMPRS_QUANTZ_TBL_ID = 0
INSTRUMENT_TEMPERATURE = 12.2535
LENS_TEMPERATURE = 10.4184
MACROPIXEL_SIZE = 2
MISSING_FRAMES = 0
PIXEL_SUBSAMPLING_FLAG = N
SIGNAL_CHAIN_ID = 1
/* RADIOMETRIC DATA ELEMENTS */
BANDWIDTH = 178.0
CENTER_FILTER_WAVELENGTH = 679.0
RADIANCE_OFFSET = 3.3988
RADIANCE_SCALING_FACTOR = 0.0213258
REFLECTANCE_SCALING_FACTOR = 0.000535869
MEX:REFLECTANCE_OFFSET = 0.0854042
/* IMAGE OBJECT DEFINITIONS */
OBJECT = IMAGE
  INTERCHANGE_FORMAT = BINARY
  LINES = 25300
  LINE_SAMPLES = 4137
  SAMPLE_TYPE = UNSIGNED_INTEGER
  SAMPLE_BITS = 8
  BANDS = 1
  BAND_STORAGE_TYPE = BAND_SEQUENTIAL
  MAXIMUM = 255
  MEAN = 161.782
  MINIMUM = 1
  STANDARD_DEVIATION = 38.6189
END_OBJECT = IMAGE
/* MAP OBJECT DEFINITIONS */
OBJECT = IMAGE_MAP_PROJECTION
  ^DATA_SET_MAP_PROJECTION_CATALOG= "DSMAP.CAT"
  A_AXIS_RADIUS = 3396.0
  B_AXIS_RADIUS = 3396.0
  C_AXIS_RADIUS = 3396.0
  CENTER_LATITUDE = 0.0
  CENTER_LONGITUDE = 23.0
  COORDINATE_SYSTEM_NAME = PLANETOGRAPHIC
  COORDINATE_SYSTEM_TYPE = "BODY-FIXED ROTATING"
  EASTERNMOST_LONGITUDE = 24.251
  FIRST_STANDARD_PARALLEL = "N/A"
  LINE_FIRST_PIXEL = 1
  LINE_LAST_PIXEL = 25300
  LINE_PROJECTION_OFFSET = -113771.75
  MAP_PROJECTION_ROTATION = 0.0
  MAP_PROJECTION_TYPE = SINUSOIDAL
  MAP_RESOLUTION = 2370.85521546667
  MAP_SCALE = 0.025
  MAXIMUM_LATITUDE = -48.0392
  MINIMUM_LATITUDE = -58.7328
  POSITIVE_LONGITUDE_DIRECTION = EAST
  REFERENCE_LATITUDE = "N/A"
  REFERENCE_LONGITUDE = "N/A"
  SAMPLE_FIRST_PIXEL = 1
  SAMPLE_LAST_PIXEL = 4137
  SAMPLE_PROJECTION_OFFSET = 2328.75
  SECOND_STANDARD_PARALLEL = "N/A"
  WESTERNMOST_LONGITUDE = 21.2634
END_OBJECT = IMAGE_MAP_PROJECTION
/* The JPEG2000 image data file associated with this label. */
OBJECT = COMPRESSED_FILE
  FILE_NAME = "HI983_0000_S23.JP2"
  RECORD_TYPE = UNDEFINED
  FILE_RECORDS = UNK
  ENCODING_TYPE = "JP2"
  INTERCHANGE_FORMAT = BINARY
  UNCOMPRESSED_FILE_NAME = "HI983_0000_S23.IMG"
  REQUIRED_STORAGE_BYTES = "104690922"
  ^DESCRIPTION = "JP2INFO.TXT"
END_OBJECT = COMPRESSED_FILE
END
