PDS_VERSION_ID = PDS3
/* FILE DATA ELEMENTS */
RECORD_TYPE = STREAM
/* POINTERS TO DATA OBJECTS */
^COMPRESSED_FILE = "HI986_0000_S13.JP2"
/* IDENTIFICATION DATA ELEMENTS */
DATA_SET_ID = "MEX-M-HRSC-5-REFDR-MAPPROJECTED-V3.0"
DATA_SET_NAME = "MARS EXPRESS HRSC MAP PROJECTED REFDR V3.0"
DETECTOR_ID = MEX_HRSC_S1
EVENT_TYPE = "MARS-REGIONAL-MAPPING-Fl-Gl-Pf"
INSTRUMENT_HOST_ID = MEX
INSTRUMENT_HOST_NAME = "MARS EXPRESS"
INSTRUMENT_ID = HRSC
INSTRUMENT_NAME = "HIGH RESOLUTION STEREO CAMERA"
MISSION_NAME = "MARS EXPRESS"
MISSION_PHASE_NAME = ME_Phase_40
PROCESSING_LEVEL_ID = 3
PRODUCT_CREATION_TIME = 2019-09-09T10:24:51.000Z
PRODUCT_ID = "HI986_0000_S13.JP2"
RELEASE_ID = 0144
REVISION_ID = 0000
/* QUALITY DATA ELEMENTS */
DATA_QUALITY_ID = 1
DATA_QUALITY_DESC = "Data calculated based on original SPICE kernels"
/* TIME DATA ELEMENTS */
SPACECRAFT_CLOCK_START_COUNT = "1/0494643133.24886"
SPACECRAFT_CLOCK_STOP_COUNT = "1/0494643279.00767"
START_TIME = 2019-01-04T00:53:38.466Z
STOP_TIME = 2019-01-04T00:55:08.838Z
/* ORBITAL DATA ELEMENTS */
ASCENDING_NODE_LONGITUDE = 218.03
MAXIMUM_RESOLUTION = 14
FOOTPRINT_POINT_LATITUDE = (-53.5982,-53.5861,-53.5733,-53.56, -53.5461,-53.5316,-53.5116,-53.3569, -53.2297,-52.9758,-52.849,-52.7217, -52.5308,-52.4035,-52.2731,-52.1416, -52.0104,-51.8788,-51.7475,-51.6158, -51.4186,-51.2872,-51.0906,-50.8936, -50.6965,-50.5649,-50.3678,-50.2362, -50.1053,-49.9749,-49.8436,-49.7127, -49.5816,-49.4506,-49.2542,-49.123, -48.9921,-48.8608,-48.7298,-48.5992, -48.4681,-48.2721,-48.1421,-48.0117, -47.8809,-47.7504,-47.6188,-47.423, -47.2922,-47.1617,-47.1021,-47.1137, -47.1258,-47.1421,-47.1557,-47.1646, -47.301,-47.4315,-47.6273,-47.7581, -47.8892,-48.0854,-48.2165,-48.3473, -48.478,-48.6085,-48.7396,-48.8712, -49.0017,-49.1328,-49.2642,-49.4612, -49.592,-49.7903,-49.987,-50.1836, -50.3149,-50.4467,-50.6443,-50.7761, -50.9078,-51.1048,-51.2361,-51.3682, -51.5,-51.6315,-51.763,-51.8939, -52.0258,-52.158,-52.2904,-52.4225, -52.5511,-52.6782,-52.8058,-52.9971, -53.1248,-53.3162,-53.4436,-53.5982)
FOOTPRINT_POINT_LONGITUDE = (76.9239,76.6302,76.3357,76.0403, 75.7444,75.4475,75.0562,74.9886,75.0051 ,75.0371,75.0528,75.0688,75.0924, 75.1081,75.1238,75.1395,75.1548,75.1703 ,75.1854,75.2007,75.2231,75.2378, 75.2592,75.2807,75.3019,75.3161,75.3369 ,75.3508,75.3639,75.3764,75.3897, 75.4025,75.4153,75.428,75.4467,75.4592, 75.4715,75.4839,75.496,75.5075,75.5195, 75.5367,75.5472,75.5583,75.5695,75.5803 ,75.5922,75.6082,75.619,75.6295,75.8387 ,76.0589,76.3129,76.6674,76.9872, 77.2053,77.3411,77.3346,77.3247,77.3181 ,77.3114,77.3013,77.2945,77.2875, 77.2805,77.2733,77.2662,77.2591,77.2517 ,77.2444,77.2371,77.2259,77.2182, 77.2069,77.1952,77.1832,77.1752,77.1672 ,77.155,77.1467,77.1384,77.1256,77.117, 77.1084,77.0996,77.0908,77.0818,77.0726 ,77.0636,77.0544,77.0452,77.0359, 77.0266,77.0173,77.0079,76.9937,76.9842 ,76.9696,76.9597,76.9239)
ORBIT_NUMBER = 18986
ORBITAL_ECCENTRICITY = 0.578
ORBITAL_INCLINATION = 86.98
ORBITAL_SEMIMAJOR_AXIS = 8789.13
PERIAPSIS_ALTITUDE = 327.75
PERIAPSIS_ARGUMENT_ANGLE = 307.73
PERIAPSIS_TIME = 2019-01-04T00:53:31.000Z
SPACECRAFT_ORIENTATION = (0.0,1.0,0.0)
^MEX_ORIENTATION_DESC = "MEX_ORIENTATION_DESC.TXT"
SPACECRAFT_POINTING_MODE = INERT
^MEX_POINTING_DESC = "MEX_POINTING_DESC.TXT"
RIGHT_ASCENSION = 30.397
DECLINATION = 58.627
OFFSET_ANGLE = -1e+32
SPACECRAFT_SOLAR_DISTANCE = 2.17984e+08
TARGET_NAME = MARS
/* CAMERA DATA ELEMENTS */
DETECTOR_TEMPERATURE = 17.5549
FOCAL_PLANE_TEMPERATURE = 9.6028
INST_CMPRS_NAME = "DISCRETE COSINE TRANSFORMATION (DCT)"
INST_CMPRS_RATIO = 8.74776
INST_CMPRS_QUALITY = 0
INST_CMPRS_QUANTZ_TBL_ID = 0
INSTRUMENT_TEMPERATURE = 12.0496
LENS_TEMPERATURE = 10.4184
MACROPIXEL_SIZE = 1
MISSING_FRAMES = 0
PIXEL_SUBSAMPLING_FLAG = N
SIGNAL_CHAIN_ID = 2
/* RADIOMETRIC DATA ELEMENTS */
BANDWIDTH = 180.0
CENTER_FILTER_WAVELENGTH = 677.0
RADIANCE_OFFSET = 7.84435
RADIANCE_SCALING_FACTOR = 0.0156374
REFLECTANCE_SCALING_FACTOR = 0.000387663
MEX:REFLECTANCE_OFFSET = 0.194467
/* IMAGE OBJECT DEFINITIONS */
OBJECT = IMAGE
  INTERCHANGE_FORMAT = BINARY
  LINES = 31411
  LINE_SAMPLES = 7250
  SAMPLE_TYPE = UNSIGNED_INTEGER
  SAMPLE_BITS = 8
  BANDS = 1
  BAND_STORAGE_TYPE = BAND_SEQUENTIAL
  MAXIMUM = 254
  MEAN = 185.723
  MINIMUM = 1
  STANDARD_DEVIATION = 21.7033
END_OBJECT = IMAGE
/* MAP OBJECT DEFINITIONS */
OBJECT = IMAGE_MAP_PROJECTION
  ^DATA_SET_MAP_PROJECTION_CATALOG= "DSMAP.CAT"
  A_AXIS_RADIUS = 3396.0
  B_AXIS_RADIUS = 3396.0
  C_AXIS_RADIUS = 3396.0
  CENTER_LATITUDE = 0.0
  CENTER_LONGITUDE = 76.0
  COORDINATE_SYSTEM_NAME = PLANETOGRAPHIC
  COORDINATE_SYSTEM_TYPE = "BODY-FIXED ROTATING"
  EASTERNMOST_LONGITUDE = 77.3411
  FIRST_STANDARD_PARALLEL = "N/A"
  LINE_FIRST_PIXEL = 1
  LINE_LAST_PIXEL = 31411
  LINE_PROJECTION_OFFSET = -223225.0
  MAP_PROJECTION_ROTATION = 0.0
  MAP_PROJECTION_TYPE = SINUSOIDAL
  MAP_RESOLUTION = 4741.71043093333
  MAP_SCALE = 0.0125
  MAXIMUM_LATITUDE = -47.1021
  MINIMUM_LATITUDE = -53.5982
  POSITIVE_LONGITUDE_DIRECTION = EAST
  REFERENCE_LATITUDE = "N/A"
  REFERENCE_LONGITUDE = "N/A"
  SAMPLE_FIRST_PIXEL = 1
  SAMPLE_LAST_PIXEL = 7250
  SAMPLE_PROJECTION_OFFSET = 2604.0
  SECOND_STANDARD_PARALLEL = "N/A"
  WESTERNMOST_LONGITUDE = 74.98860000000001
END_OBJECT = IMAGE_MAP_PROJECTION
/* The JPEG2000 image data file associated with this label. */
OBJECT = COMPRESSED_FILE
  FILE_NAME = "HI986_0000_S13.JP2"
  RECORD_TYPE = UNDEFINED
  FILE_RECORDS = UNK
  ENCODING_TYPE = "JP2"
  INTERCHANGE_FORMAT = BINARY
  UNCOMPRESSED_FILE_NAME = "HI986_0000_S13.IMG"
  REQUIRED_STORAGE_BYTES = "227758750"
  ^DESCRIPTION = "JP2INFO.TXT"
END_OBJECT = COMPRESSED_FILE
END
