PDS_VERSION_ID = PDS3
/* FILE DATA ELEMENTS */
RECORD_TYPE = STREAM
/* POINTERS TO DATA OBJECTS */
^COMPRESSED_FILE = "HI990_0000_GR3.JP2"
/* IDENTIFICATION DATA ELEMENTS */
DATA_SET_ID = "MEX-M-HRSC-5-REFDR-MAPPROJECTED-V3.0"
DATA_SET_NAME = "MARS EXPRESS HRSC MAP PROJECTED REFDR V3.0"
DETECTOR_ID = MEX_HRSC_GREEN
EVENT_TYPE = "MARS-REGIONAL-MAPPING-Im-Gl-Pf"
INSTRUMENT_HOST_ID = MEX
INSTRUMENT_HOST_NAME = "MARS EXPRESS"
INSTRUMENT_ID = HRSC
INSTRUMENT_NAME = "HIGH RESOLUTION STEREO CAMERA"
MISSION_NAME = "MARS EXPRESS"
MISSION_PHASE_NAME = ME_Phase_40
PROCESSING_LEVEL_ID = 3
PRODUCT_CREATION_TIME = 2019-09-09T10:24:51.000Z
PRODUCT_ID = "HI990_0000_GR3.JP2"
RELEASE_ID = 0144
REVISION_ID = 0000
/* QUALITY DATA ELEMENTS */
DATA_QUALITY_ID = 1
DATA_QUALITY_DESC = "Data calculated based on original SPICE kernels"
/* TIME DATA ELEMENTS */
SPACECRAFT_CLOCK_START_COUNT = "1/0494743702.23972"
SPACECRAFT_CLOCK_STOP_COUNT = "1/0494743958.06544"
START_TIME = 2019-01-05T04:49:24.752Z
STOP_TIME = 2019-01-05T04:52:44.090Z
/* ORBITAL DATA ELEMENTS */
ASCENDING_NODE_LONGITUDE = 217.96
MAXIMUM_RESOLUTION = 52.5
FOOTPRINT_POINT_LATITUDE = (-53.7567,-53.7385,-53.7145,-53.6911, -53.2686,-52.8458,-52.5639,-52.2827, -52.0024,-51.7201,-51.4392,-51.0174, -50.736,-50.4547,-50.0328,-49.6107, -49.1894,-48.9085,-48.6275,-48.3468, -48.0657,-47.7856,-47.3643,-47.0829, -46.8021,-46.5221,-46.2411,-45.8201, -45.5401,-45.2596,-44.9705,-44.6807, -44.3909,-43.9562,-43.6665,-43.3768, -43.0871,-42.7974,-42.5079,-42.2181, -41.9285,-41.6388,-41.3484,-41.058, -40.7681,-40.4794,-40.1897,-39.8992, -39.609,-39.4089,-39.4245,-39.4371, -39.4501,-39.4677,-39.634,-39.9234, -40.3591,-40.6493,-40.9384,-41.2282, -41.5187,-41.8085,-42.2432,-42.533, -42.8229,-43.2577,-43.6924,-43.9823, -44.2722,-44.5623,-44.8522,-45.287, -45.5691,-45.8498,-46.1307,-46.4122, -46.6937,-47.1154,-47.3965,-47.6776, -47.9588,-48.24,-48.5214,-48.8027, -49.0822,-49.3643,-49.6457,-49.9275, -50.35,-50.7726,-51.0549,-51.4768, -51.7588,-52.0401,-52.3246,-52.7494, -53.032,-53.3147,-53.596,-53.7567)
FOOTPRINT_POINT_LONGITUDE = (28.8876,28.5188,28.0637,27.2166, 27.2637,27.3096,27.3395,27.368,27.3949, 27.4235,27.4498,27.4889,27.5146,27.5396 ,27.5761,27.6119,27.6456,27.6673, 27.6889,27.7097,27.7307,27.7493,27.7788 ,27.7992,27.8182,27.8344,27.8531, 27.8795,27.894,27.91,27.9264,27.9422, 27.9577,27.9825,27.9969,28.011,28.0248, 28.0384,28.0518,28.0643,28.0767,28.0887 ,28.0986,28.1089,28.1199,28.1325, 28.1432,28.1523,28.1618,28.2867,28.5549 ,28.7788,29.0181,29.3475,29.7697, 29.7626,29.7455,29.7351,29.729,29.72, 29.7063,29.6974,29.6826,29.6726,29.6621 ,29.6472,29.6301,29.6196,29.6084, 29.5988,29.5875,29.5691,29.5592,29.5478 ,29.5371,29.5279,29.5182,29.5006, 29.4885,29.4762,29.4638,29.4509,29.4382 ,29.4251,29.4078,29.3957,29.382,29.3685 ,29.3471,29.3252,29.311,29.2867,29.2712 ,29.2542,29.2413,29.2183,29.2017, 29.1848,29.1658,28.8876)
ORBIT_NUMBER = 18990
ORBITAL_ECCENTRICITY = 0.578
ORBITAL_INCLINATION = 86.97
ORBITAL_SEMIMAJOR_AXIS = 8788.17
PERIAPSIS_ALTITUDE = 328.82
PERIAPSIS_ARGUMENT_ANGLE = 307.05
PERIAPSIS_TIME = 2019-01-05T04:49:25.000Z
SPACECRAFT_ORIENTATION = (0.0,1.0,0.0)
^MEX_ORIENTATION_DESC = "MEX_ORIENTATION_DESC.TXT"
SPACECRAFT_POINTING_MODE = INERT
^MEX_POINTING_DESC = "MEX_POINTING_DESC.TXT"
RIGHT_ASCENSION = 33.887
DECLINATION = 53.279
OFFSET_ANGLE = -1e+32
SPACECRAFT_SOLAR_DISTANCE = 2.18194e+08
TARGET_NAME = MARS
/* CAMERA DATA ELEMENTS */
DETECTOR_TEMPERATURE = 18.3705
FOCAL_PLANE_TEMPERATURE = 9.8067
INST_CMPRS_NAME = "DISCRETE COSINE TRANSFORMATION (DCT)"
INST_CMPRS_RATIO = 11.866
INST_CMPRS_QUALITY = 0
INST_CMPRS_QUANTZ_TBL_ID = 0
INSTRUMENT_TEMPERATURE = 11.8457
LENS_TEMPERATURE = 10.2145
MACROPIXEL_SIZE = 4
MISSING_FRAMES = 0
PIXEL_SUBSAMPLING_FLAG = N
SIGNAL_CHAIN_ID = 2
/* RADIOMETRIC DATA ELEMENTS */
BANDWIDTH = 88.0
CENTER_FILTER_WAVELENGTH = 538.0
RADIANCE_OFFSET = 1.41509
RADIANCE_SCALING_FACTOR = 0.00579419
REFLECTANCE_SCALING_FACTOR = 0.000237501
MEX:REFLECTANCE_OFFSET = 0.0580039
/* IMAGE OBJECT DEFINITIONS */
OBJECT = IMAGE
  INTERCHANGE_FORMAT = BINARY
  LINES = 17026
  LINE_SAMPLES = 2024
  SAMPLE_TYPE = UNSIGNED_INTEGER
  SAMPLE_BITS = 8
  BANDS = 1
  BAND_STORAGE_TYPE = BAND_SEQUENTIAL
  MAXIMUM = 255
  MEAN = 174.286
  MINIMUM = 1
  STANDARD_DEVIATION = 28.4477
END_OBJECT = IMAGE
/* MAP OBJECT DEFINITIONS */
OBJECT = IMAGE_MAP_PROJECTION
  ^DATA_SET_MAP_PROJECTION_CATALOG= "DSMAP.CAT"
  A_AXIS_RADIUS = 3396.0
  B_AXIS_RADIUS = 3396.0
  C_AXIS_RADIUS = 3396.0
  CENTER_LATITUDE = 0.0
  CENTER_LONGITUDE = 29.0
  COORDINATE_SYSTEM_NAME = PLANETOGRAPHIC
  COORDINATE_SYSTEM_TYPE = "BODY-FIXED ROTATING"
  EASTERNMOST_LONGITUDE = 29.7697
  FIRST_STANDARD_PARALLEL = "N/A"
  LINE_FIRST_PIXEL = 1
  LINE_LAST_PIXEL = 17026
  LINE_PROJECTION_OFFSET = -46721.875
  MAP_PROJECTION_ROTATION = 0.0
  MAP_PROJECTION_TYPE = SINUSOIDAL
  MAP_RESOLUTION = 1185.42760773333
  MAP_SCALE = 0.05
  MAXIMUM_LATITUDE = -39.4089
  MINIMUM_LATITUDE = -53.7567
  POSITIVE_LONGITUDE_DIRECTION = EAST
  REFERENCE_LATITUDE = "N/A"
  REFERENCE_LONGITUDE = "N/A"
  SAMPLE_FIRST_PIXEL = 1
  SAMPLE_LAST_PIXEL = 2024
  SAMPLE_PROJECTION_OFFSET = 1250.875
  SECOND_STANDARD_PARALLEL = "N/A"
  WESTERNMOST_LONGITUDE = 27.2166
END_OBJECT = IMAGE_MAP_PROJECTION
/* The JPEG2000 image data file associated with this label. */
OBJECT = COMPRESSED_FILE
  FILE_NAME = "HI990_0000_GR3.JP2"
  RECORD_TYPE = UNDEFINED
  FILE_RECORDS = UNK
  ENCODING_TYPE = "JP2"
  INTERCHANGE_FORMAT = BINARY
  UNCOMPRESSED_FILE_NAME = "HI990_0000_GR3.IMG"
  REQUIRED_STORAGE_BYTES = "34480864"
  ^DESCRIPTION = "JP2INFO.TXT"
END_OBJECT = COMPRESSED_FILE
END
