PDS_VERSION_ID = PDS3
/* FILE DATA ELEMENTS */
RECORD_TYPE = STREAM
/* POINTERS TO DATA OBJECTS */
^COMPRESSED_FILE = "HI992_0000_S23.JP2"
/* IDENTIFICATION DATA ELEMENTS */
DATA_SET_ID = "MEX-M-HRSC-5-REFDR-MAPPROJECTED-V3.0"
DATA_SET_NAME = "MARS EXPRESS HRSC MAP PROJECTED REFDR V3.0"
DETECTOR_ID = MEX_HRSC_S2
EVENT_TYPE = "MARS-LOCAL-STEREO-Im-Gl-Pf"
INSTRUMENT_HOST_ID = MEX
INSTRUMENT_HOST_NAME = "MARS EXPRESS"
INSTRUMENT_ID = HRSC
INSTRUMENT_NAME = "HIGH RESOLUTION STEREO CAMERA"
MISSION_NAME = "MARS EXPRESS"
MISSION_PHASE_NAME = ME_Phase_40
PROCESSING_LEVEL_ID = 3
PRODUCT_CREATION_TIME = 2019-09-09T10:24:51.000Z
PRODUCT_ID = "HI992_0000_S23.JP2"
RELEASE_ID = 0144
REVISION_ID = 0000
/* QUALITY DATA ELEMENTS */
DATA_QUALITY_ID = 1
DATA_QUALITY_DESC = "Data calculated based on original SPICE kernels"
/* TIME DATA ELEMENTS */
SPACECRAFT_CLOCK_START_COUNT = "1/0494793987.25696"
SPACECRAFT_CLOCK_STOP_COUNT = "1/0494794127.18086"
START_TIME = 2019-01-05T18:46:59.226Z
STOP_TIME = 2019-01-05T18:48:23.222Z
/* ORBITAL DATA ELEMENTS */
ASCENDING_NODE_LONGITUDE = 217.92
MAXIMUM_RESOLUTION = 13.6
FOOTPRINT_POINT_LATITUDE = (-53.4714,-53.4573,-53.4461,-53.4305, -53.414,-53.3933,-53.22,-53.099, -52.9785,-52.8579,-52.7369,-52.6155, -52.4336,-52.3123,-52.1912,-52.07, -51.8886,-51.7672,-51.6459,-51.5247, -51.403,-51.2816,-51.161,-50.9781, -50.8559,-50.7359,-50.6146,-50.4897, -50.2514,-50.1285,-49.9448,-49.8235, -49.7014,-49.5793,-49.397,-49.2152, -49.0934,-48.971,-48.8484,-48.7249, -48.6023,-48.362,-48.1778,-48.0539, -47.9307,-47.7463,-47.6237,-47.4998, -47.3712,-47.2459,-47.2616,-47.2753, -47.2935,-47.3106,-47.3196,-47.3326, -47.4559,-47.6408,-47.7639,-47.8867, -48.0711,-48.194,-48.3166,-48.4394, -48.5619,-48.6847,-48.8068,-48.9297, -49.1139,-49.236,-49.356,-49.4783, -49.6005,-49.7231,-49.8474,-50.0333, -50.1553,-50.3948,-50.5756,-50.6976, -50.8803,-51.065,-51.188,-51.3096, -51.4922,-51.6716,-51.9119,-52.0345, -52.1561,-52.276,-52.3975,-52.5194, -52.6442,-52.7654,-52.8852,-53.0063, -53.1878,-53.3079,-53.4287,-53.4714)
FOOTPRINT_POINT_LONGITUDE = (184.35,184.063,183.848,183.562,183.276 ,182.936,182.917,182.931,182.944, 182.958,182.971,182.983,183.002,183.015 ,183.027,183.04,183.058,183.07,183.082, 183.094,183.106,183.117,183.129,183.146 ,183.157,183.169,183.18,183.19,183.213, 183.223,183.238,183.249,183.259,183.269 ,183.284,183.3,183.31,183.319,183.328, 183.338,183.347,183.367,183.38,183.389, 183.397,183.41,183.419,183.427,183.434, 183.594,183.848,184.033,184.303,184.657 ,184.859,185.155,185.148,185.138, 185.132,185.125,185.115,185.109,185.102 ,185.095,185.089,185.082,185.075, 185.068,185.058,185.051,185.045,185.038 ,185.031,185.024,185.015,185.003, 184.996,184.984,184.974,184.966,184.955 ,184.942,184.934,184.926,184.914, 184.905,184.891,184.882,184.874,184.866 ,184.858,184.85,184.839,184.83,184.823, 184.814,184.802,184.794,184.785,184.35)
ORBIT_NUMBER = 18992
ORBITAL_ECCENTRICITY = 0.577
ORBITAL_INCLINATION = 86.98
ORBITAL_SEMIMAJOR_AXIS = 8784.28
PERIAPSIS_ALTITUDE = 328.77
PERIAPSIS_ARGUMENT_ANGLE = 306.72
PERIAPSIS_TIME = 2019-01-05T18:47:25.000Z
SPACECRAFT_ORIENTATION = (0.0,1.0,0.0)
^MEX_ORIENTATION_DESC = "MEX_ORIENTATION_DESC.TXT"
SPACECRAFT_POINTING_MODE = INERT
^MEX_POINTING_DESC = "MEX_POINTING_DESC.TXT"
RIGHT_ASCENSION = 29.065
DECLINATION = 56.186
OFFSET_ANGLE = -1e+32
SPACECRAFT_SOLAR_DISTANCE = 2.18299e+08
TARGET_NAME = MARS
/* CAMERA DATA ELEMENTS */
DETECTOR_TEMPERATURE = 18.3705
FOCAL_PLANE_TEMPERATURE = 8.7872
INST_CMPRS_NAME = "DISCRETE COSINE TRANSFORMATION (DCT)"
INST_CMPRS_RATIO = 5.77358
INST_CMPRS_QUALITY = 0
INST_CMPRS_QUANTZ_TBL_ID = 0
INSTRUMENT_TEMPERATURE = 11.0301
LENS_TEMPERATURE = 10.0106
MACROPIXEL_SIZE = 1
MISSING_FRAMES = 0
PIXEL_SUBSAMPLING_FLAG = N
SIGNAL_CHAIN_ID = 1
/* RADIOMETRIC DATA ELEMENTS */
BANDWIDTH = 178.0
CENTER_FILTER_WAVELENGTH = 679.0
RADIANCE_OFFSET = 3.9609
RADIANCE_SCALING_FACTOR = 0.0248527
REFLECTANCE_SCALING_FACTOR = 0.0006272
MEX:REFLECTANCE_OFFSET = 0.09996
/* IMAGE OBJECT DEFINITIONS */
OBJECT = IMAGE
  INTERCHANGE_FORMAT = BINARY
  LINES = 29345
  LINE_SAMPLES = 6886
  SAMPLE_TYPE = UNSIGNED_INTEGER
  SAMPLE_BITS = 8
  BANDS = 1
  BAND_STORAGE_TYPE = BAND_SEQUENTIAL
  MAXIMUM = 255
  MEAN = 148.275
  MINIMUM = 1
  STANDARD_DEVIATION = 34.0122
END_OBJECT = IMAGE
/* MAP OBJECT DEFINITIONS */
OBJECT = IMAGE_MAP_PROJECTION
  ^DATA_SET_MAP_PROJECTION_CATALOG= "DSMAP.CAT"
  A_AXIS_RADIUS = 3396.0
  B_AXIS_RADIUS = 3396.0
  C_AXIS_RADIUS = 3396.0
  CENTER_LATITUDE = 0.0
  CENTER_LONGITUDE = 184.0
  COORDINATE_SYSTEM_NAME = PLANETOGRAPHIC
  COORDINATE_SYSTEM_TYPE = "BODY-FIXED ROTATING"
  EASTERNMOST_LONGITUDE = 185.155
  FIRST_STANDARD_PARALLEL = "N/A"
  LINE_FIRST_PIXEL = 1
  LINE_LAST_PIXEL = 29345
  LINE_PROJECTION_OFFSET = -223882.0
  MAP_PROJECTION_ROTATION = 0.0
  MAP_PROJECTION_TYPE = SINUSOIDAL
  MAP_RESOLUTION = 4741.71043093333
  MAP_SCALE = 0.0125
  MAXIMUM_LATITUDE = -47.2459
  MINIMUM_LATITUDE = -53.4714
  POSITIVE_LONGITUDE_DIRECTION = EAST
  REFERENCE_LATITUDE = "N/A"
  REFERENCE_LONGITUDE = "N/A"
  SAMPLE_FIRST_PIXEL = 1
  SAMPLE_LAST_PIXEL = 6886
  SAMPLE_PROJECTION_OFFSET = 3453.0
  SECOND_STANDARD_PARALLEL = "N/A"
  WESTERNMOST_LONGITUDE = 182.917
END_OBJECT = IMAGE_MAP_PROJECTION
/* The JPEG2000 image data file associated with this label. */
OBJECT = COMPRESSED_FILE
  FILE_NAME = "HI992_0000_S23.JP2"
  RECORD_TYPE = UNDEFINED
  FILE_RECORDS = UNK
  ENCODING_TYPE = "JP2"
  INTERCHANGE_FORMAT = BINARY
  UNCOMPRESSED_FILE_NAME = "HI992_0000_S23.IMG"
  REQUIRED_STORAGE_BYTES = "202104100"
  ^DESCRIPTION = "JP2INFO.TXT"
END_OBJECT = COMPRESSED_FILE
END
