PDS_VERSION_ID = PDS3
/* FILE DATA ELEMENTS */
RECORD_TYPE = STREAM
/* POINTERS TO DATA OBJECTS */
^COMPRESSED_FILE = "HI999_0000_ND3.JP2"
/* IDENTIFICATION DATA ELEMENTS */
DATA_SET_ID = "MEX-M-HRSC-5-REFDR-MAPPROJECTED-V3.0"
DATA_SET_NAME = "MARS EXPRESS HRSC MAP PROJECTED REFDR V3.0"
DETECTOR_ID = MEX_HRSC_NADIR
EVENT_TYPE = "MARS-REGIONAL-MAPPING-Im-Gl-Pf"
INSTRUMENT_HOST_ID = MEX
INSTRUMENT_HOST_NAME = "MARS EXPRESS"
INSTRUMENT_ID = HRSC
INSTRUMENT_NAME = "HIGH RESOLUTION STEREO CAMERA"
MISSION_NAME = "MARS EXPRESS"
MISSION_PHASE_NAME = ME_Phase_40
PROCESSING_LEVEL_ID = 3
PRODUCT_CREATION_TIME = 2019-09-09T10:24:51.000Z
PRODUCT_ID = "HI999_0000_ND3.JP2"
RELEASE_ID = 0144
REVISION_ID = 0000
/* QUALITY DATA ELEMENTS */
DATA_QUALITY_ID = 1
DATA_QUALITY_DESC = "Data calculated based on original SPICE kernels"
/* TIME DATA ELEMENTS */
SPACECRAFT_CLOCK_START_COUNT = "1/0494969818.23937"
SPACECRAFT_CLOCK_STOP_COUNT = "1/0494970010.31231"
START_TIME = 2019-01-07T19:37:58.461Z
STOP_TIME = 2019-01-07T19:40:14.469Z
/* ORBITAL DATA ELEMENTS */
ASCENDING_NODE_LONGITUDE = 217.79
MAXIMUM_RESOLUTION = 13.1
FOOTPRINT_POINT_LATITUDE = (-64.059,-64.0301,-63.9945,-63.9696, -63.9403,-63.6447,-63.4468,-63.2488, -63.0508,-62.8529,-62.5561,-62.3581, -62.0611,-61.7641,-61.5661,-61.269, -61.0709,-60.7738,-60.5757,-60.3776, -60.0867,-59.6072,-59.4152,-59.1276, -58.9357,-58.7438,-58.4559,-58.2639, -58.0719,-57.8798,-57.6878,-57.4957, -57.3035,-57.0154,-56.8232,-56.6305, -56.3427,-56.1503,-55.958,-55.7656, -55.5733,-55.3809,-55.1885,-54.8999, -54.7075,-54.4191,-54.2242,-54.2331, -54.2524,-54.2749,-54.2945,-54.4084, -54.602,-54.7947,-54.9875,-55.1805, -55.3731,-55.566,-55.7589,-55.9519, -56.1447,-56.3376,-56.5305,-56.7234, -56.9162,-57.1091,-57.3017,-57.4945, -57.6873,-57.88,-58.0728,-58.2656, -58.4583,-58.651,-58.8438,-59.0365, -59.2292,-59.4219,-59.6145,-59.8072, -60.0963,-60.289,-60.4843,-60.6834, -60.9821,-61.1812,-61.3803,-61.679, -61.8782,-62.0773,-62.2764,-62.4754, -62.6744,-62.8735,-63.0726,-63.2717, -63.4711,-63.6703,-63.8696,-64.059)
FOOTPRINT_POINT_LONGITUDE = (188.433,187.831,187.153,186.71,186.216 ,186.072,186.127,186.18,186.233,186.285 ,186.36,186.409,186.481,186.552,186.598 ,186.666,186.71,186.775,186.817,186.859 ,186.917,187.011,187.046,187.102, 187.138,187.172,187.223,187.256,187.289 ,187.321,187.353,187.384,187.414,187.46 ,187.489,187.516,187.561,187.588, 187.616,187.643,187.669,187.695,187.721 ,187.759,187.784,187.821,187.841, 188.289,188.618,189.022,189.428,189.797 ,189.781,189.767,189.753,189.737, 189.723,189.707,189.692,189.675,189.659 ,189.643,189.626,189.609,189.592, 189.574,189.558,189.54,189.522,189.503, 189.485,189.466,189.447,189.427,189.407 ,189.388,189.367,189.347,189.326, 189.305,189.273,189.251,189.229,189.206 ,189.17,189.146,189.122,189.084,189.059 ,189.033,189.007,188.979,188.951, 188.923,188.895,188.866,188.838,188.809 ,188.779,188.433)
ORBIT_NUMBER = 18999
ORBITAL_ECCENTRICITY = 0.577
ORBITAL_INCLINATION = 86.98
ORBITAL_SEMIMAJOR_AXIS = 8782.36
PERIAPSIS_ALTITUDE = 328.6
PERIAPSIS_ARGUMENT_ANGLE = 305.53
PERIAPSIS_TIME = 2019-01-07T19:40:21.000Z
SPACECRAFT_ORIENTATION = (0.0,1.0,0.0)
^MEX_ORIENTATION_DESC = "MEX_ORIENTATION_DESC.TXT"
SPACECRAFT_POINTING_MODE = INERT
^MEX_POINTING_DESC = "MEX_POINTING_DESC.TXT"
RIGHT_ASCENSION = 12.423
DECLINATION = 58.482
OFFSET_ANGLE = -1e+32
SPACECRAFT_SOLAR_DISTANCE = 2.1867e+08
TARGET_NAME = MARS
/* CAMERA DATA ELEMENTS */
DETECTOR_TEMPERATURE = 18.5744
FOCAL_PLANE_TEMPERATURE = 9.195
INST_CMPRS_NAME = "DISCRETE COSINE TRANSFORMATION (DCT)"
INST_CMPRS_RATIO = 6.23187
INST_CMPRS_QUALITY = 0
INST_CMPRS_QUANTZ_TBL_ID = 0
INSTRUMENT_TEMPERATURE = 12.0496
LENS_TEMPERATURE = 10.0106
MACROPIXEL_SIZE = 1
MISSING_FRAMES = 0
PIXEL_SUBSAMPLING_FLAG = N
SIGNAL_CHAIN_ID = 0
/* RADIOMETRIC DATA ELEMENTS */
BANDWIDTH = 177.0
CENTER_FILTER_WAVELENGTH = 677.5
RADIANCE_OFFSET = 2.80438
RADIANCE_SCALING_FACTOR = 0.0233224
REFLECTANCE_SCALING_FACTOR = 0.000592426
MEX:REFLECTANCE_OFFSET = 0.0712356
/* IMAGE OBJECT DEFINITIONS */
OBJECT = IMAGE
  INTERCHANGE_FORMAT = BINARY
  LINES = 46676
  LINE_SAMPLES = 9085
  SAMPLE_TYPE = UNSIGNED_INTEGER
  SAMPLE_BITS = 8
  BANDS = 1
  BAND_STORAGE_TYPE = BAND_SEQUENTIAL
  MAXIMUM = 255
  MEAN = 102.715
  MINIMUM = 1
  STANDARD_DEVIATION = 23.736
END_OBJECT = IMAGE
/* MAP OBJECT DEFINITIONS */
OBJECT = IMAGE_MAP_PROJECTION
  ^DATA_SET_MAP_PROJECTION_CATALOG= "DSMAP.CAT"
  A_AXIS_RADIUS = 3396.0
  B_AXIS_RADIUS = 3396.0
  C_AXIS_RADIUS = 3396.0
  CENTER_LATITUDE = 0.0
  CENTER_LONGITUDE = 188.0
  COORDINATE_SYSTEM_NAME = PLANETOGRAPHIC
  COORDINATE_SYSTEM_TYPE = "BODY-FIXED ROTATING"
  EASTERNMOST_LONGITUDE = 189.797
  FIRST_STANDARD_PARALLEL = "N/A"
  LINE_FIRST_PIXEL = 1
  LINE_LAST_PIXEL = 46676
  LINE_PROJECTION_OFFSET = -257131.0
  MAP_PROJECTION_ROTATION = 0.0
  MAP_PROJECTION_TYPE = SINUSOIDAL
  MAP_RESOLUTION = 4741.71043093333
  MAP_SCALE = 0.0125
  MAXIMUM_LATITUDE = -54.2242
  MINIMUM_LATITUDE = -64.059
  POSITIVE_LONGITUDE_DIRECTION = EAST
  REFERENCE_LATITUDE = "N/A"
  REFERENCE_LONGITUDE = "N/A"
  SAMPLE_FIRST_PIXEL = 1
  SAMPLE_LAST_PIXEL = 9085
  SAMPLE_PROJECTION_OFFSET = 4068.0
  SECOND_STANDARD_PARALLEL = "N/A"
  WESTERNMOST_LONGITUDE = 186.072
END_OBJECT = IMAGE_MAP_PROJECTION
/* The JPEG2000 image data file associated with this label. */
OBJECT = COMPRESSED_FILE
  FILE_NAME = "HI999_0000_ND3.JP2"
  RECORD_TYPE = UNDEFINED
  FILE_RECORDS = UNK
  ENCODING_TYPE = "JP2"
  INTERCHANGE_FORMAT = BINARY
  UNCOMPRESSED_FILE_NAME = "HI999_0000_ND3.IMG"
  REQUIRED_STORAGE_BYTES = "424087800"
  ^DESCRIPTION = "JP2INFO.TXT"
END_OBJECT = COMPRESSED_FILE
END
