PDS_VERSION_ID = PDS3
/* FILE DATA ELEMENTS */
RECORD_TYPE = STREAM
/* POINTERS TO DATA OBJECTS */
^COMPRESSED_FILE = "HI999_0000_RE3.JP2"
/* IDENTIFICATION DATA ELEMENTS */
DATA_SET_ID = "MEX-M-HRSC-5-REFDR-MAPPROJECTED-V3.0"
DATA_SET_NAME = "MARS EXPRESS HRSC MAP PROJECTED REFDR V3.0"
DETECTOR_ID = MEX_HRSC_RED
EVENT_TYPE = "MARS-REGIONAL-MAPPING-Im-Gl-Pf"
INSTRUMENT_HOST_ID = MEX
INSTRUMENT_HOST_NAME = "MARS EXPRESS"
INSTRUMENT_ID = HRSC
INSTRUMENT_NAME = "HIGH RESOLUTION STEREO CAMERA"
MISSION_NAME = "MARS EXPRESS"
MISSION_PHASE_NAME = ME_Phase_40
PROCESSING_LEVEL_ID = 3
PRODUCT_CREATION_TIME = 2019-09-09T10:24:51.000Z
PRODUCT_ID = "HI999_0000_RE3.JP2"
RELEASE_ID = 0144
REVISION_ID = 0000
/* QUALITY DATA ELEMENTS */
DATA_QUALITY_ID = 1
DATA_QUALITY_DESC = "Data calculated based on original SPICE kernels"
/* TIME DATA ELEMENTS */
SPACECRAFT_CLOCK_START_COUNT = "1/0494969818.23937"
SPACECRAFT_CLOCK_STOP_COUNT = "1/0494970010.31231"
START_TIME = 2019-01-07T19:37:35.149Z
STOP_TIME = 2019-01-07T19:39:51.900Z
/* ORBITAL DATA ELEMENTS */
ASCENDING_NODE_LONGITUDE = 217.79
MAXIMUM_RESOLUTION = 55.7
FOOTPRINT_POINT_LATITUDE = (-64.1398,-64.1094,-64.0847,-64.0624, -64.0211,-63.9522,-63.7588,-63.5653, -63.3719,-63.1785,-62.9846,-62.7905, -62.4994,-62.208,-62.0136,-61.7223, -61.5279,-61.3332,-61.0411,-60.8464, -60.6524,-60.4572,-60.2617,-59.9684, -59.7734,-59.5769,-59.2838,-59.0872, -58.891,-58.5992,-58.4091,-58.2188, -58.0288,-57.8383,-57.6475,-57.4567, -57.2656,-56.9805,-56.7893,-56.5936, -56.4007,-56.1198,-55.9284,-55.7369, -55.4497,-55.1621,-54.9702,-54.6828, -54.4913,-54.2052,-54.2415,-54.2786, -54.3033,-54.3198,-54.5158,-54.803, -54.9947,-55.2815,-55.4735,-55.6656, -55.8579,-56.1457,-56.3376,-56.5297, -56.7218,-56.9135,-57.1057,-57.2952, -57.5816,-57.7727,-57.9636,-58.25, -58.441,-58.7274,-58.9223,-59.119, -59.3158,-59.5123,-59.8068,-60.0032, -60.1994,-60.4935,-60.6899,-60.8859, -61.0815,-61.2772,-61.473,-61.6685, -61.9618,-62.1573,-62.3529,-62.5492, -62.7449,-62.94,-63.1354,-63.3305, -63.525,-63.7196,-63.914,-64.1398)
FOOTPRINT_POINT_LONGITUDE = (188.765,188.099,187.607,187.19,186.48, 186.092,186.146,186.199,186.251,186.302 ,186.352,186.401,186.474,186.544,186.59 ,186.658,186.702,186.745,186.809, 186.851,186.892,186.932,186.972,187.03, 187.068,187.105,187.16,187.195,187.23, 187.282,187.314,187.346,187.378,187.409 ,187.44,187.47,187.5,187.544,187.572, 187.599,187.626,187.669,187.696,187.722 ,187.761,187.799,187.824,187.861, 187.885,187.916,188.457,189.052,189.555 ,189.916,189.899,189.877,189.862,189.84 ,189.824,189.808,189.791,189.767,189.75 ,189.732,189.714,189.697,189.678, 189.662,189.635,189.616,189.598,189.569 ,189.549,189.519,189.499,189.478, 189.457,189.435,189.402,189.38,189.358, 189.323,189.299,189.276,189.252,189.227 ,189.202,189.177,189.139,189.113, 189.086,189.058,189.029,189.002,188.973 ,188.944,188.915,188.886,188.857, 188.765)
ORBIT_NUMBER = 18999
ORBITAL_ECCENTRICITY = 0.577
ORBITAL_INCLINATION = 86.98
ORBITAL_SEMIMAJOR_AXIS = 8782.36
PERIAPSIS_ALTITUDE = 328.6
PERIAPSIS_ARGUMENT_ANGLE = 305.53
PERIAPSIS_TIME = 2019-01-07T19:40:21.000Z
SPACECRAFT_ORIENTATION = (0.0,1.0,0.0)
^MEX_ORIENTATION_DESC = "MEX_ORIENTATION_DESC.TXT"
SPACECRAFT_POINTING_MODE = INERT
^MEX_POINTING_DESC = "MEX_POINTING_DESC.TXT"
RIGHT_ASCENSION = 12.423
DECLINATION = 58.482
OFFSET_ANGLE = -1e+32
SPACECRAFT_SOLAR_DISTANCE = 2.1867e+08
TARGET_NAME = MARS
/* CAMERA DATA ELEMENTS */
DETECTOR_TEMPERATURE = 19.1861
FOCAL_PLANE_TEMPERATURE = 9.195
INST_CMPRS_NAME = "DISCRETE COSINE TRANSFORMATION (DCT)"
INST_CMPRS_RATIO = 12.7713
INST_CMPRS_QUALITY = 0
INST_CMPRS_QUANTZ_TBL_ID = 0
INSTRUMENT_TEMPERATURE = 12.0496
LENS_TEMPERATURE = 10.0106
MACROPIXEL_SIZE = 4
MISSING_FRAMES = 0
PIXEL_SUBSAMPLING_FLAG = N
SIGNAL_CHAIN_ID = 2
/* RADIOMETRIC DATA ELEMENTS */
BANDWIDTH = 48.0
CENTER_FILTER_WAVELENGTH = 748.0
RADIANCE_OFFSET = 0.841507
RADIANCE_SCALING_FACTOR = 0.00686619
REFLECTANCE_SCALING_FACTOR = 0.000749232
MEX:REFLECTANCE_OFFSET = 0.0918245
/* IMAGE OBJECT DEFINITIONS */
OBJECT = IMAGE
  INTERCHANGE_FORMAT = BINARY
  LINES = 11669
  LINE_SAMPLES = 2272
  SAMPLE_TYPE = UNSIGNED_INTEGER
  SAMPLE_BITS = 8
  BANDS = 1
  BAND_STORAGE_TYPE = BAND_SEQUENTIAL
  MAXIMUM = 255
  MEAN = 98.2163
  MINIMUM = 1
  STANDARD_DEVIATION = 22.0338
END_OBJECT = IMAGE
/* MAP OBJECT DEFINITIONS */
OBJECT = IMAGE_MAP_PROJECTION
  ^DATA_SET_MAP_PROJECTION_CATALOG= "DSMAP.CAT"
  A_AXIS_RADIUS = 3396.0
  B_AXIS_RADIUS = 3396.0
  C_AXIS_RADIUS = 3396.0
  CENTER_LATITUDE = 0.0
  CENTER_LONGITUDE = 188.0
  COORDINATE_SYSTEM_NAME = PLANETOGRAPHIC
  COORDINATE_SYSTEM_TYPE = "BODY-FIXED ROTATING"
  EASTERNMOST_LONGITUDE = 189.916
  FIRST_STANDARD_PARALLEL = "N/A"
  LINE_FIRST_PIXEL = 1
  LINE_LAST_PIXEL = 11669
  LINE_PROJECTION_OFFSET = -64283.125
  MAP_PROJECTION_ROTATION = 0.0
  MAP_PROJECTION_TYPE = SINUSOIDAL
  MAP_RESOLUTION = 1185.42760773333
  MAP_SCALE = 0.05
  MAXIMUM_LATITUDE = -54.2052
  MINIMUM_LATITUDE = -64.13979999999999
  POSITIVE_LONGITUDE_DIRECTION = EAST
  REFERENCE_LATITUDE = "N/A"
  REFERENCE_LONGITUDE = "N/A"
  SAMPLE_FIRST_PIXEL = 1
  SAMPLE_LAST_PIXEL = 2272
  SAMPLE_PROJECTION_OFFSET = 1016.625
  SECOND_STANDARD_PARALLEL = "N/A"
  WESTERNMOST_LONGITUDE = 186.092
END_OBJECT = IMAGE_MAP_PROJECTION
/* The JPEG2000 image data file associated with this label. */
OBJECT = COMPRESSED_FILE
  FILE_NAME = "HI999_0000_RE3.JP2"
  RECORD_TYPE = UNDEFINED
  FILE_RECORDS = UNK
  ENCODING_TYPE = "JP2"
  INTERCHANGE_FORMAT = BINARY
  UNCOMPRESSED_FILE_NAME = "HI999_0000_RE3.IMG"
  REQUIRED_STORAGE_BYTES = "26534688"
  ^DESCRIPTION = "JP2INFO.TXT"
END_OBJECT = COMPRESSED_FILE
END
