PDS_VERSION_ID = PDS3
/* FILE DATA ELEMENTS */
RECORD_TYPE = STREAM
/* POINTERS TO DATA OBJECTS */
^COMPRESSED_FILE = "HJ000_0000_S23.JP2"
/* IDENTIFICATION DATA ELEMENTS */
DATA_SET_ID = "MEX-M-HRSC-5-REFDR-MAPPROJECTED-V3.0"
DATA_SET_NAME = "MARS EXPRESS HRSC MAP PROJECTED REFDR V3.0"
DETECTOR_ID = MEX_HRSC_S2
EVENT_TYPE = "MARS-REGIONAL-MAPPING-Im-Pf-Ls"
INSTRUMENT_HOST_ID = MEX
INSTRUMENT_HOST_NAME = "MARS EXPRESS"
INSTRUMENT_ID = HRSC
INSTRUMENT_NAME = "HIGH RESOLUTION STEREO CAMERA"
MISSION_NAME = "MARS EXPRESS"
MISSION_PHASE_NAME = ME_Phase_40
PROCESSING_LEVEL_ID = 3
PRODUCT_CREATION_TIME = 2019-09-09T10:24:51.000Z
PRODUCT_ID = "HJ000_0000_S23.JP2"
RELEASE_ID = 0144
REVISION_ID = 0000
/* QUALITY DATA ELEMENTS */
DATA_QUALITY_ID = 1
DATA_QUALITY_DESC = "Data calculated based on original SPICE kernels"
/* TIME DATA ELEMENTS */
SPACECRAFT_CLOCK_START_COUNT = "1/0494995007.25684"
SPACECRAFT_CLOCK_STOP_COUNT = "1/0494995227.33078"
START_TIME = 2019-01-08T02:37:19.276Z
STOP_TIME = 2019-01-08T02:40:03.871Z
/* ORBITAL DATA ELEMENTS */
ASCENDING_NODE_LONGITUDE = 217.77
MAXIMUM_RESOLUTION = 27.6
FOOTPRINT_POINT_LATITUDE = (-61.3136,-61.2902,-61.2727,-61.2394, -61.1434,-60.7839,-60.4141,-60.0443, -59.8024,-59.5647,-59.3228,-59.0818, -58.844,-58.6084,-58.3738,-58.1362, -57.9056,-57.6686,-57.4321,-57.1953, -56.9571,-56.7207,-56.3665,-56.1293, -55.895,-55.6514,-55.2942,-55.0533, -54.8186,-54.5926,-54.3493,-53.984, -53.7458,-53.3919,-53.1522,-52.9219, -52.6901,-52.3414,-52.109,-51.8819, -51.6451,-51.4047,-51.1691,-50.8184, -50.5849,-50.2257,-49.9838,-49.7399, -49.4917,-49.2453,-49.2418,-49.2619, -49.2905,-49.3172,-49.688,-50.0514, -50.2938,-50.6554,-51.0206,-51.2574, -51.4865,-51.726,-52.0727,-52.3078, -52.6577,-52.886,-53.1104,-53.3422, -53.5863,-53.8343,-54.0702,-54.3072, -54.5451,-54.7828,-55.0198,-55.2591, -55.4987,-55.7358,-56.091,-56.3286, -56.6842,-56.9213,-57.1596,-57.3982, -57.6328,-57.8691,-58.1028,-58.3402, -58.5778,-58.8135,-59.049,-59.2921, -59.5349,-59.778,-60.0202,-60.2629, -60.5052,-60.7477,-61.1112,-61.3136)
FOOTPRINT_POINT_LONGITUDE = (87.0106,86.4986,86.1429,85.5219, 84.6864,84.7645,84.8341,84.902,84.949, 84.9974,85.0426,85.0875,85.131,85.1717, 85.2121,85.2504,85.2913,85.3285,85.3653 ,85.4014,85.4362,85.4713,85.5229, 85.5561,85.5899,85.6196,85.6663,85.6958 ,85.727,85.7607,85.7878,85.8277,85.8554 ,85.8973,85.9227,85.948,85.9724,86.0081 ,86.0314,86.0558,86.0772,86.0972, 86.1182,86.1498,86.1706,86.2006,86.2211 ,86.2408,86.2592,86.2777,86.7079, 87.0286,87.5455,88.0073,88.0981,88.076, 88.0609,88.0359,88.0052,87.9879,87.9746 ,87.9551,87.9324,87.9146,87.8888, 87.8743,87.8618,87.8453,87.8243,87.8004 ,87.7839,87.7663,87.7479,87.7291, 87.7105,87.6898,87.6685,87.6487,87.6184 ,87.5971,87.565,87.5429,87.5195,87.4952 ,87.4739,87.4506,87.4292,87.404,87.378, 87.3533,87.3282,87.3018,87.2753,87.248, 87.2208,87.1926,87.1642,87.135,87.0901, 87.0106)
ORBIT_NUMBER = 19000
ORBITAL_ECCENTRICITY = 0.578
ORBITAL_INCLINATION = 86.98
ORBITAL_SEMIMAJOR_AXIS = 8785.82
PERIAPSIS_ALTITUDE = 327.59
PERIAPSIS_ARGUMENT_ANGLE = 305.35
PERIAPSIS_TIME = 2019-01-08T02:39:20.000Z
SPACECRAFT_ORIENTATION = (0.0,1.0,0.0)
^MEX_ORIENTATION_DESC = "MEX_ORIENTATION_DESC.TXT"
SPACECRAFT_POINTING_MODE = INERT
^MEX_POINTING_DESC = "MEX_POINTING_DESC.TXT"
RIGHT_ASCENSION = 20.043
DECLINATION = 57.693
OFFSET_ANGLE = -1e+32
SPACECRAFT_SOLAR_DISTANCE = 2.18723e+08
TARGET_NAME = MARS
/* CAMERA DATA ELEMENTS */
DETECTOR_TEMPERATURE = 18.5744
FOCAL_PLANE_TEMPERATURE = 8.5833
INST_CMPRS_NAME = "DISCRETE COSINE TRANSFORMATION (DCT)"
INST_CMPRS_RATIO = 11.9705
INST_CMPRS_QUALITY = 0
INST_CMPRS_QUANTZ_TBL_ID = 0
INSTRUMENT_TEMPERATURE = 11.8457
LENS_TEMPERATURE = 9.195
MACROPIXEL_SIZE = 2
MISSING_FRAMES = 0
PIXEL_SUBSAMPLING_FLAG = N
SIGNAL_CHAIN_ID = 1
/* RADIOMETRIC DATA ELEMENTS */
BANDWIDTH = 178.0
CENTER_FILTER_WAVELENGTH = 679.0
RADIANCE_OFFSET = 5.43024
RADIANCE_SCALING_FACTOR = 0.0234515
REFLECTANCE_SCALING_FACTOR = 0.000594138
MEX:REFLECTANCE_OFFSET = 0.137574
/* IMAGE OBJECT DEFINITIONS */
OBJECT = IMAGE
  INTERCHANGE_FORMAT = BINARY
  LINES = 28315
  LINE_SAMPLES = 4338
  SAMPLE_TYPE = UNSIGNED_INTEGER
  SAMPLE_BITS = 8
  BANDS = 1
  BAND_STORAGE_TYPE = BAND_SEQUENTIAL
  MAXIMUM = 255
  MEAN = 128.624
  MINIMUM = 1
  STANDARD_DEVIATION = 38.3187
END_OBJECT = IMAGE
/* MAP OBJECT DEFINITIONS */
OBJECT = IMAGE_MAP_PROJECTION
  ^DATA_SET_MAP_PROJECTION_CATALOG= "DSMAP.CAT"
  A_AXIS_RADIUS = 3396.0
  B_AXIS_RADIUS = 3396.0
  C_AXIS_RADIUS = 3396.0
  CENTER_LATITUDE = 0.0
  CENTER_LONGITUDE = 87.0
  COORDINATE_SYSTEM_NAME = PLANETOGRAPHIC
  COORDINATE_SYSTEM_TYPE = "BODY-FIXED ROTATING"
  EASTERNMOST_LONGITUDE = 88.0981
  FIRST_STANDARD_PARALLEL = "N/A"
  LINE_FIRST_PIXEL = 1
  LINE_LAST_PIXEL = 28315
  LINE_PROJECTION_OFFSET = -116832.25
  MAP_PROJECTION_ROTATION = 0.0
  MAP_PROJECTION_TYPE = SINUSOIDAL
  MAP_RESOLUTION = 2370.85521546667
  MAP_SCALE = 0.025
  MAXIMUM_LATITUDE = -49.2418
  MINIMUM_LATITUDE = -61.3136
  POSITIVE_LONGITUDE_DIRECTION = EAST
  REFERENCE_LATITUDE = "N/A"
  REFERENCE_LONGITUDE = "N/A"
  SAMPLE_FIRST_PIXEL = 1
  SAMPLE_LAST_PIXEL = 4338
  SAMPLE_PROJECTION_OFFSET = 2807.75
  SECOND_STANDARD_PARALLEL = "N/A"
  WESTERNMOST_LONGITUDE = 84.68640000000001
END_OBJECT = IMAGE_MAP_PROJECTION
/* The JPEG2000 image data file associated with this label. */
OBJECT = COMPRESSED_FILE
  FILE_NAME = "HJ000_0000_S23.JP2"
  RECORD_TYPE = UNDEFINED
  FILE_RECORDS = UNK
  ENCODING_TYPE = "JP2"
  INTERCHANGE_FORMAT = BINARY
  UNCOMPRESSED_FILE_NAME = "HJ000_0000_S23.IMG"
  REQUIRED_STORAGE_BYTES = "122856498"
  ^DESCRIPTION = "JP2INFO.TXT"
END_OBJECT = COMPRESSED_FILE
END
