PDS_VERSION_ID = PDS3
/* FILE DATA ELEMENTS */
RECORD_TYPE = STREAM
/* POINTERS TO DATA OBJECTS */
^COMPRESSED_FILE = "HJ004_0009_ND3.JP2"
/* IDENTIFICATION DATA ELEMENTS */
DATA_SET_ID = "MEX-M-HRSC-5-REFDR-MAPPROJECTED-V3.0"
DATA_SET_NAME = "MARS EXPRESS HRSC MAP PROJECTED REFDR V3.0"
DETECTOR_ID = MEX_HRSC_NADIR
EVENT_TYPE = "MARS-REGIONAL-MAPPING-Im-Pf-Eo"
INSTRUMENT_HOST_ID = MEX
INSTRUMENT_HOST_NAME = "MARS EXPRESS"
INSTRUMENT_ID = HRSC
INSTRUMENT_NAME = "HIGH RESOLUTION STEREO CAMERA"
MISSION_NAME = "MARS EXPRESS"
MISSION_PHASE_NAME = ME_Phase_40
PROCESSING_LEVEL_ID = 3
PRODUCT_CREATION_TIME = 2019-09-09T10:24:51.000Z
PRODUCT_ID = "HJ004_0009_ND3.JP2"
RELEASE_ID = 0144
REVISION_ID = 0000
/* QUALITY DATA ELEMENTS */
DATA_QUALITY_ID = 1
DATA_QUALITY_DESC = "Data calculated based on original SPICE kernels"
/* TIME DATA ELEMENTS */
SPACECRAFT_CLOCK_START_COUNT = "1/0495095706.23981"
SPACECRAFT_CLOCK_STOP_COUNT = "1/0495095940.13728"
START_TIME = 2019-01-09T06:36:08.111Z
STOP_TIME = 2019-01-09T06:38:55.090Z
/* ORBITAL DATA ELEMENTS */
ASCENDING_NODE_LONGITUDE = 217.7
MAXIMUM_RESOLUTION = 13.2
FOOTPRINT_POINT_LATITUDE = (-51.9913,-51.9832,-51.9725,-51.6449, -51.4315,-51.2182,-50.7916,-50.3652, -49.9389,-49.5128,-49.2942,-49.0741, -48.7441,-48.5242,-48.3046,-48.0848, -47.8651,-47.6455,-47.426,-47.2065, -46.9872,-46.7679,-46.5487,-46.3296, -46.1105,-45.8916,-45.6728,-45.454, -45.2354,-45.0168,-44.7984,-44.58, -44.3618,-44.1437,-43.9257,-43.7078, -43.4899,-43.2722,-43.0548,-42.7287, -42.5114,-42.2943,-42.0773,-41.8605, -41.6438,-41.4272,-41.0874,-41.0906, -41.0935,-41.0947,-41.0952,-41.4252, -41.6421,-41.8591,-42.0764,-42.2937, -42.5112,-42.7288,-42.9465,-43.1643, -43.3823,-43.6004,-43.8186,-44.037, -44.2554,-44.4739,-44.6926,-44.9114, -45.1303,-45.3493,-45.5683,-45.7875, -46.0068,-46.2262,-46.4457,-46.6652, -46.8849,-47.1046,-47.3244,-47.5443, -47.7643,-47.9843,-48.2044,-48.4246, -48.6449,-48.8652,-49.0856,-49.3061, -49.5255,-49.8457,-50.0593,-50.2728, -50.5933,-50.8069,-51.0207,-51.2344, -51.4482,-51.6621,-51.876,-51.9913)
FOOTPRINT_POINT_LONGITUDE = (40.4526,39.8571,39.2779,39.0269, 39.0388,39.0505,39.0729,39.0943,39.1147 ,39.1337,39.1431,39.1522,39.1688, 39.1777,39.1828,39.1917,39.1997,39.2075 ,39.2149,39.2222,39.2292,39.2361, 39.2426,39.2491,39.2555,39.2612,39.267, 39.2724,39.2777,39.2829,39.2874,39.2925 ,39.2966,39.3011,39.305,39.3089,39.3153 ,39.3186,39.3206,39.3256,39.3289, 39.3319,39.3347,39.3373,39.3396,39.3418 ,39.4438,39.7444,40.171,40.4667,40.8481 ,41.084,41.0828,41.082,41.08,41.0774, 41.0761,41.0738,41.072,41.0699,41.0676, 41.065,41.0636,41.0617,41.0601,41.0581, 41.0552,41.0533,41.0515,41.0479,41.0459 ,41.0435,41.0403,41.0374,41.0348, 41.0313,41.0284,41.0258,41.0228,41.0184 ,41.0174,41.0143,41.0107,41.0071, 41.0034,41.0002,40.9963,40.9922,40.9903 ,40.985,40.9813,40.978,40.9729,40.9753, 40.9713,40.9682,40.9642,40.9602,40.955, 40.4526)
ORBIT_NUMBER = 19004
ORBITAL_ECCENTRICITY = 0.578
ORBITAL_INCLINATION = 86.97
ORBITAL_SEMIMAJOR_AXIS = 8784.56
PERIAPSIS_ALTITUDE = 328.66
PERIAPSIS_ARGUMENT_ANGLE = 304.68
PERIAPSIS_TIME = 2019-01-09T06:35:19.000Z
SPACECRAFT_ORIENTATION = (0.0,1.0,0.0)
^MEX_ORIENTATION_DESC = "MEX_ORIENTATION_DESC.TXT"
SPACECRAFT_POINTING_MODE = ACROSSTRACK
^MEX_POINTING_DESC = "MEX_POINTING_DESC.TXT"
RIGHT_ASCENSION = -1e+32
DECLINATION = -1e+32
OFFSET_ANGLE = -0.95
SPACECRAFT_SOLAR_DISTANCE = 2.18936e+08
TARGET_NAME = MARS
/* CAMERA DATA ELEMENTS */
DETECTOR_TEMPERATURE = 18.1666
FOCAL_PLANE_TEMPERATURE = 9.3989
INST_CMPRS_NAME = "DISCRETE COSINE TRANSFORMATION (DCT)"
INST_CMPRS_RATIO = 6.44643
INST_CMPRS_QUALITY = 0
INST_CMPRS_QUANTZ_TBL_ID = 0
INSTRUMENT_TEMPERATURE = 11.6418
LENS_TEMPERATURE = 9.8067
MACROPIXEL_SIZE = 1
MISSING_FRAMES = 0
PIXEL_SUBSAMPLING_FLAG = N
SIGNAL_CHAIN_ID = 0
/* RADIOMETRIC DATA ELEMENTS */
BANDWIDTH = 177.0
CENTER_FILTER_WAVELENGTH = 677.5
RADIANCE_OFFSET = 3.85115
RADIANCE_SCALING_FACTOR = 0.0225165
REFLECTANCE_SCALING_FACTOR = 0.00057335
MEX:REFLECTANCE_OFFSET = 0.0980639
/* IMAGE OBJECT DEFINITIONS */
OBJECT = IMAGE
  INTERCHANGE_FORMAT = BINARY
  LINES = 51718
  LINE_SAMPLES = 7107
  SAMPLE_TYPE = UNSIGNED_INTEGER
  SAMPLE_BITS = 8
  BANDS = 1
  BAND_STORAGE_TYPE = BAND_SEQUENTIAL
  MAXIMUM = 255
  MEAN = 192.588
  MINIMUM = 1
  STANDARD_DEVIATION = 26.5606
END_OBJECT = IMAGE
/* MAP OBJECT DEFINITIONS */
OBJECT = IMAGE_MAP_PROJECTION
  ^DATA_SET_MAP_PROJECTION_CATALOG= "DSMAP.CAT"
  A_AXIS_RADIUS = 3396.0
  B_AXIS_RADIUS = 3396.0
  C_AXIS_RADIUS = 3396.0
  CENTER_LATITUDE = 0.0
  CENTER_LONGITUDE = 40.0
  COORDINATE_SYSTEM_NAME = PLANETOGRAPHIC
  COORDINATE_SYSTEM_TYPE = "BODY-FIXED ROTATING"
  EASTERNMOST_LONGITUDE = 41.084
  FIRST_STANDARD_PARALLEL = "N/A"
  LINE_FIRST_PIXEL = 1
  LINE_LAST_PIXEL = 51718
  LINE_PROJECTION_OFFSET = -194824.0
  MAP_PROJECTION_ROTATION = 0.0
  MAP_PROJECTION_TYPE = SINUSOIDAL
  MAP_RESOLUTION = 4741.71043093333
  MAP_SCALE = 0.0125
  MAXIMUM_LATITUDE = -41.0874
  MINIMUM_LATITUDE = -51.9913
  POSITIVE_LONGITUDE_DIRECTION = EAST
  REFERENCE_LATITUDE = "N/A"
  REFERENCE_LONGITUDE = "N/A"
  SAMPLE_FIRST_PIXEL = 1
  SAMPLE_LAST_PIXEL = 7107
  SAMPLE_PROJECTION_OFFSET = 2961.0
  SECOND_STANDARD_PARALLEL = "N/A"
  WESTERNMOST_LONGITUDE = 39.0269
END_OBJECT = IMAGE_MAP_PROJECTION
/* The JPEG2000 image data file associated with this label. */
OBJECT = COMPRESSED_FILE
  FILE_NAME = "HJ004_0009_ND3.JP2"
  RECORD_TYPE = UNDEFINED
  FILE_RECORDS = UNK
  ENCODING_TYPE = "JP2"
  INTERCHANGE_FORMAT = BINARY
  UNCOMPRESSED_FILE_NAME = "HJ004_0009_ND3.IMG"
  REQUIRED_STORAGE_BYTES = "367588254"
  ^DESCRIPTION = "JP2INFO.TXT"
END_OBJECT = COMPRESSED_FILE
END
